{"text_format":"1","workbook":"xlsx","n_sheets":9,"sheets":["共通科目","専門科目","集計結果・土木GPT","印刷-単位取得状況　総括表(P.3)","印刷-総括表(P.4)","印刷-目標ごとの達成度(P.7-8)","GPT","GPA","グラフ用データ"],"not_rendered":{"charts":4,"images":0,"macros":1,"external_links":0,"defined_names":11,"comments":0,"pivot_tables":0},"unopened":[{"sheet":"GPT","index":6,"reason":"not_a_worksheet"},{"sheet":"GPA","index":7,"reason":"not_a_worksheet"}],"bounds":{"document_bytes":16777216,"sheet_cells":100000,"rows_first":2000,"rows_last":500,"rows_between":2000,"halvings":0,"cell_chars":16384,"cell_head_chars":4096},"cells_cut":0,"cells_raw":0,"read":"whole","date_system":"1900"}

{"sheet":"共通科目","index":0,"n_rows":94,"n_cols":45,"rows_kept":94,"cut":false,"hidden":false,"merged":[[5,2,12,2],[5,1,41,1],[21,2,32,2],[57,1,66,2],[67,1,70,2],[78,2,87,2],[90,2,92,2],[42,1,56,2],[33,2,41,2],[13,2,20,2],[71,2,77,2],[71,1,92,1],[0,3,0,16],[3,7,3,8],[3,9,3,10],[2,1,4,2],[2,3,4,4],[2,16,4,16],[2,5,3,6],[2,15,4,15],[2,7,2,14],[3,11,3,12],[3,13,3,14],[78,12,87,12],[78,11,87,11],[3,23,3,33],[3,34,3,44],[1,3,1,16],[5,7,29,7],[5,8,29,8],[5,9,29,9],[5,10,29,10],[33,7,41,7],[33,8,41,8],[33,9,41,9],[33,10,41,10]]}
[null,null,null,"共通科目チェックシート"]
[null,null,null,"黄色背景の成績欄をドロップダウンリストによって入力すること\nバグや不具合があれば，クラス担当まで連絡すること"]
[null,"区分",null,"授業科目名\n（○：土木GPT対応科目）",null,"単位数",null,"毎週授業時間数",null,null,null,null,null,null,null,"単位取得\n年度・学期","成績"]
[null,null,null,null,null,null,null,"1年次",null,"2年次",null,"3年次",null,"4年次",null,null,null,null,null,null,null,null,null,"取得単位",null,null,null,null,null,null,null,null,null,null,"Civil-GP: Grade Point"]
[null,null,null,null,null,"必修","選択","前期","後期","前期","後期","前期","後期","前期","後期",null,null,null,"必修単位","選択単位","GP","土木GP","学期",1,2,3,4,5,6,7,8,9,10,11,1,2,3,4,5,6,7,8,9,10,11]
[null,"人間社会","技術と人間・心理","○","心理学",null,2,4,2,2,2,null,null,null,null,null,null,null,{"$f":"IF($Q6=\"\",0,IF(INDEX('印刷-目標ごとの達成度(P.7-8)'!$P$94:$P$102,MATCH($Q6,'印刷-目標ごとの達成度(P.7-8)'!$O$94:$O$102,0),1)>0,1,0))*F6","v":0},{"$f":"IF($Q6=\"\",0,IF(INDEX('印刷-目標ごとの達成度(P.7-8)'!$P$94:$P$102,MATCH($Q6,'印刷-目標ごとの達成度(P.7-8)'!$O$94:$O$102,0),1)>0,1,0))*G6","v":0},{"$f":"IF($Q6=\"\",0,INDEX('印刷-目標ごとの達成度(P.7-8)'!$P$94:$P$102,MATCH($Q6,'印刷-目標ごとの達成度(P.7-8)'!$O$94:$O$102,0),1))*(F6+G6)","v":0},{"$f":"IF(OR(D6=\"○\",D6=\"◎\"),U6,0)","v":0},{"$f":"IF(P6=\"\",99,INDEX('印刷-目標ごとの達成度(P.7-8)'!$N$108:$N$118,MATCH(P6,'印刷-目標ごとの達成度(P.7-8)'!$O$108:$O$118,0),1))","v":99},{"$f":"IF($W6=X$5,$S6+$T6,0)","v":0},{"$f":"IF($W6=Y$5,$S6+$T6,0)","v":0},0,0,0,0,0,0,0,0,0,{"$f":"IF($W6=AI$5,$V6,0)","v":0},{"$f":"IF($W6=AJ$5,$V6,0)","v":0},0,0,0,0,0,0,0,0,0]
[null,null,null,"○","環境学",null,2,null,null,null,null,null,null,null,null,null,null,null,{"$f":"IF($Q7=\"\",0,IF(INDEX('印刷-目標ごとの達成度(P.7-8)'!$P$94:$P$102,MATCH($Q7,'印刷-目標ごとの達成度(P.7-8)'!$O$94:$O$102,0),1)>0,1,0))*F7","v":0},{"$f":"IF($Q7=\"\",0,IF(INDEX('印刷-目標ごとの達成度(P.7-8)'!$P$94:$P$102,MATCH($Q7,'印刷-目標ごとの達成度(P.7-8)'!$O$94:$O$102,0),1)>0,1,0))*G7","v":0},{"$f":"IF($Q7=\"\",0,INDEX('印刷-目標ごとの達成度(P.7-8)'!$P$94:$P$102,MATCH($Q7,'印刷-目標ごとの達成度(P.7-8)'!$O$94:$O$102,0),1))*(F7+G7)","v":0},0,{"$f":"IF(P7=\"\",99,INDEX('印刷-目標ごとの達成度(P.7-8)'!$N$108:$N$118,MATCH(P7,'印刷-目標ごとの達成度(P.7-8)'!$O$108:$O$118,0),1))","v":99},0,0,0,0,0,0,0,0,0,0,0,0,0,0,0,0,0,0,0,0,0,0]
[null,null,null,"○","対人コミュニケーション論",null,2,null,null,null,null,null,null,null,null,null,null,null,{"$f":"IF($Q8=\"\",0,IF(INDEX('印刷-目標ごとの達成度(P.7-8)'!$P$94:$P$102,MATCH($Q8,'印刷-目標ごとの達成度(P.7-8)'!$O$94:$O$102,0),1)>0,1,0))*F8","v":0},{"$f":"IF($Q8=\"\",0,IF(INDEX('印刷-目標ごとの達成度(P.7-8)'!$P$94:$P$102,MATCH($Q8,'印刷-目標ごとの達成度(P.7-8)'!$O$94:$O$102,0),1)>0,1,0))*G8","v":0},{"$f":"IF($Q8=\"\",0,INDEX('印刷-目標ごとの達成度(P.7-8)'!$P$94:$P$102,MATCH($Q8,'印刷-目標ごとの達成度(P.7-8)'!$O$94:$O$102,0),1))*(F8+G8)","v":0},0,{"$f":"IF(P8=\"\",99,INDEX('印刷-目標ごとの達成度(P.7-8)'!$N$108:$N$118,MATCH(P8,'印刷-目標ごとの達成度(P.7-8)'!$O$108:$O$118,0),1))","v":99},0,0,0,0,0,0,0,0,0,0,0,0,0,0,0,0,0,0,0,0,0,0]
[null,null,null,"○","情報コミュニケーション論",null,2,null,null,null,null,null,null,null,null,null,null,null,{"$f":"IF($Q9=\"\",0,IF(INDEX('印刷-目標ごとの達成度(P.7-8)'!$P$94:$P$102,MATCH($Q9,'印刷-目標ごとの達成度(P.7-8)'!$O$94:$O$102,0),1)>0,1,0))*F9","v":0},{"$f":"IF($Q9=\"\",0,IF(INDEX('印刷-目標ごとの達成度(P.7-8)'!$P$94:$P$102,MATCH($Q9,'印刷-目標ごとの達成度(P.7-8)'!$O$94:$O$102,0),1)>0,1,0))*G9","v":0},{"$f":"IF($Q9=\"\",0,INDEX('印刷-目標ごとの達成度(P.7-8)'!$P$94:$P$102,MATCH($Q9,'印刷-目標ごとの達成度(P.7-8)'!$O$94:$O$102,0),1))*(F9+G9)","v":0},0,{"$f":"IF(P9=\"\",99,INDEX('印刷-目標ごとの達成度(P.7-8)'!$N$108:$N$118,MATCH(P9,'印刷-目標ごとの達成度(P.7-8)'!$O$108:$O$118,0),1))","v":99},0,0,0,0,0,0,0,0,0,0,0,0,0,0,0,0,0,0,0,0,0,0]
[null,null,null,"○","人間行動学",null,2,null,null,null,null,null,null,null,null,null,null,null,{"$f":"IF($Q10=\"\",0,IF(INDEX('印刷-目標ごとの達成度(P.7-8)'!$P$94:$P$102,MATCH($Q10,'印刷-目標ごとの達成度(P.7-8)'!$O$94:$O$102,0),1)>0,1,0))*F10","v":0},{"$f":"IF($Q10=\"\",0,IF(INDEX('印刷-目標ごとの達成度(P.7-8)'!$P$94:$P$102,MATCH($Q10,'印刷-目標ごとの達成度(P.7-8)'!$O$94:$O$102,0),1)>0,1,0))*G10","v":0},{"$f":"IF($Q10=\"\",0,INDEX('印刷-目標ごとの達成度(P.7-8)'!$P$94:$P$102,MATCH($Q10,'印刷-目標ごとの達成度(P.7-8)'!$O$94:$O$102,0),1))*(F10+G10)","v":0},0,{"$f":"IF(P10=\"\",99,INDEX('印刷-目標ごとの達成度(P.7-8)'!$N$108:$N$118,MATCH(P10,'印刷-目標ごとの達成度(P.7-8)'!$O$108:$O$118,0),1))","v":99},0,0,0,0,0,0,0,0,0,0,0,0,0,0,0,0,0,0,0,0,0,0]
[null,null,null,"○","言語学",null,2,null,null,null,null,null,null,null,null,null,null,null,{"$f":"IF($Q11=\"\",0,IF(INDEX('印刷-目標ごとの達成度(P.7-8)'!$P$94:$P$102,MATCH($Q11,'印刷-目標ごとの達成度(P.7-8)'!$O$94:$O$102,0),1)>0,1,0))*F11","v":0},{"$f":"IF($Q11=\"\",0,IF(INDEX('印刷-目標ごとの達成度(P.7-8)'!$P$94:$P$102,MATCH($Q11,'印刷-目標ごとの達成度(P.7-8)'!$O$94:$O$102,0),1)>0,1,0))*G11","v":0},{"$f":"IF($Q11=\"\",0,INDEX('印刷-目標ごとの達成度(P.7-8)'!$P$94:$P$102,MATCH($Q11,'印刷-目標ごとの達成度(P.7-8)'!$O$94:$O$102,0),1))*(F11+G11)","v":0},0,{"$f":"IF(P11=\"\",99,INDEX('印刷-目標ごとの達成度(P.7-8)'!$N$108:$N$118,MATCH(P11,'印刷-目標ごとの達成度(P.7-8)'!$O$108:$O$118,0),1))","v":99},0,0,0,0,0,0,0,0,0,0,0,0,0,0,0,0,0,0,0,0,0,0]
[null,null,null,"○","ジェンダー論",null,2,null,null,null,null,null,null,null,null,null,null,null,{"$f":"IF($Q12=\"\",0,IF(INDEX('印刷-目標ごとの達成度(P.7-8)'!$P$94:$P$102,MATCH($Q12,'印刷-目標ごとの達成度(P.7-8)'!$O$94:$O$102,0),1)>0,1,0))*F12","v":0},{"$f":"IF($Q12=\"\",0,IF(INDEX('印刷-目標ごとの達成度(P.7-8)'!$P$94:$P$102,MATCH($Q12,'印刷-目標ごとの達成度(P.7-8)'!$O$94:$O$102,0),1)>0,1,0))*G12","v":0},{"$f":"IF($Q12=\"\",0,INDEX('印刷-目標ごとの達成度(P.7-8)'!$P$94:$P$102,MATCH($Q12,'印刷-目標ごとの達成度(P.7-8)'!$O$94:$O$102,0),1))*(F12+G12)","v":0},0,{"$f":"IF(P12=\"\",99,INDEX('印刷-目標ごとの達成度(P.7-8)'!$N$108:$N$118,MATCH(P12,'印刷-目標ごとの達成度(P.7-8)'!$O$108:$O$118,0),1))","v":99},0,0,0,0,0,0,0,0,0,0,0,0,0,0,0,0,0,0,0,0,0,0]
[null,null,null,"○","人間・心理特殊講義",null,2,null,null,null,null,null,null,null,null,null,null,null,{"$f":"IF($Q13=\"\",0,IF(INDEX('印刷-目標ごとの達成度(P.7-8)'!$P$94:$P$102,MATCH($Q13,'印刷-目標ごとの達成度(P.7-8)'!$O$94:$O$102,0),1)>0,1,0))*F13","v":0},{"$f":"IF($Q13=\"\",0,IF(INDEX('印刷-目標ごとの達成度(P.7-8)'!$P$94:$P$102,MATCH($Q13,'印刷-目標ごとの達成度(P.7-8)'!$O$94:$O$102,0),1)>0,1,0))*G13","v":0},{"$f":"IF($Q13=\"\",0,INDEX('印刷-目標ごとの達成度(P.7-8)'!$P$94:$P$102,MATCH($Q13,'印刷-目標ごとの達成度(P.7-8)'!$O$94:$O$102,0),1))*(F13+G13)","v":0},{"$f":"IF(OR(D13=\"○\",D13=\"◎\"),U13,0)","v":0},{"$f":"IF(P13=\"\",99,INDEX('印刷-目標ごとの達成度(P.7-8)'!$N$108:$N$118,MATCH(P13,'印刷-目標ごとの達成度(P.7-8)'!$O$108:$O$118,0),1))","v":99},0,0,0,0,0,0,0,0,0,0,0,0,0,0,0,0,0,0,0,0,0,0]
[null,null,"技術と歴史・哲学","○","アジア・太平洋史",null,2,null,null,null,null,null,null,null,null,null,null,null,{"$f":"IF($Q14=\"\",0,IF(INDEX('印刷-目標ごとの達成度(P.7-8)'!$P$94:$P$102,MATCH($Q14,'印刷-目標ごとの達成度(P.7-8)'!$O$94:$O$102,0),1)>0,1,0))*F14","v":0},{"$f":"IF($Q14=\"\",0,IF(INDEX('印刷-目標ごとの達成度(P.7-8)'!$P$94:$P$102,MATCH($Q14,'印刷-目標ごとの達成度(P.7-8)'!$O$94:$O$102,0),1)>0,1,0))*G14","v":0},{"$f":"IF($Q14=\"\",0,INDEX('印刷-目標ごとの達成度(P.7-8)'!$P$94:$P$102,MATCH($Q14,'印刷-目標ごとの達成度(P.7-8)'!$O$94:$O$102,0),1))*(F14+G14)","v":0},0,{"$f":"IF(P14=\"\",99,INDEX('印刷-目標ごとの達成度(P.7-8)'!$N$108:$N$118,MATCH(P14,'印刷-目標ごとの達成度(P.7-8)'!$O$108:$O$118,0),1))","v":99},0,0,0,0,0,0,0,0,0,0,0,0,0,0,0,0,0,0,0,0,0,0]
[null,null,null,"○","科学技術史",null,2,null,null,null,null,null,null,null,null,null,null,null,{"$f":"IF($Q15=\"\",0,IF(INDEX('印刷-目標ごとの達成度(P.7-8)'!$P$94:$P$102,MATCH($Q15,'印刷-目標ごとの達成度(P.7-8)'!$O$94:$O$102,0),1)>0,1,0))*F15","v":0},{"$f":"IF($Q15=\"\",0,IF(INDEX('印刷-目標ごとの達成度(P.7-8)'!$P$94:$P$102,MATCH($Q15,'印刷-目標ごとの達成度(P.7-8)'!$O$94:$O$102,0),1)>0,1,0))*G15","v":0},{"$f":"IF($Q15=\"\",0,INDEX('印刷-目標ごとの達成度(P.7-8)'!$P$94:$P$102,MATCH($Q15,'印刷-目標ごとの達成度(P.7-8)'!$O$94:$O$102,0),1))*(F15+G15)","v":0},0,{"$f":"IF(P15=\"\",99,INDEX('印刷-目標ごとの達成度(P.7-8)'!$N$108:$N$118,MATCH(P15,'印刷-目標ごとの達成度(P.7-8)'!$O$108:$O$118,0),1))","v":99},0,0,0,0,0,0,0,0,0,0,0,0,0,0,0,0,0,0,0,0,0,0]
[null,null,null,"○","科学思想史",null,2,null,null,null,null,null,null,null,null,null,null,null,{"$f":"IF($Q16=\"\",0,IF(INDEX('印刷-目標ごとの達成度(P.7-8)'!$P$94:$P$102,MATCH($Q16,'印刷-目標ごとの達成度(P.7-8)'!$O$94:$O$102,0),1)>0,1,0))*F16","v":0},{"$f":"IF($Q16=\"\",0,IF(INDEX('印刷-目標ごとの達成度(P.7-8)'!$P$94:$P$102,MATCH($Q16,'印刷-目標ごとの達成度(P.7-8)'!$O$94:$O$102,0),1)>0,1,0))*G16","v":0},{"$f":"IF($Q16=\"\",0,INDEX('印刷-目標ごとの達成度(P.7-8)'!$P$94:$P$102,MATCH($Q16,'印刷-目標ごとの達成度(P.7-8)'!$O$94:$O$102,0),1))*(F16+G16)","v":0},0,{"$f":"IF(P16=\"\",99,INDEX('印刷-目標ごとの達成度(P.7-8)'!$N$108:$N$118,MATCH(P16,'印刷-目標ごとの達成度(P.7-8)'!$O$108:$O$118,0),1))","v":99},0,0,0,0,0,0,0,0,0,0,0,0,0,0,0,0,0,0,0,0,0,0]
[null,null,null,"○","科学と哲学",null,2,null,null,null,null,null,null,null,null,null,null,null,{"$f":"IF($Q17=\"\",0,IF(INDEX('印刷-目標ごとの達成度(P.7-8)'!$P$94:$P$102,MATCH($Q17,'印刷-目標ごとの達成度(P.7-8)'!$O$94:$O$102,0),1)>0,1,0))*F17","v":0},{"$f":"IF($Q17=\"\",0,IF(INDEX('印刷-目標ごとの達成度(P.7-8)'!$P$94:$P$102,MATCH($Q17,'印刷-目標ごとの達成度(P.7-8)'!$O$94:$O$102,0),1)>0,1,0))*G17","v":0},{"$f":"IF($Q17=\"\",0,INDEX('印刷-目標ごとの達成度(P.7-8)'!$P$94:$P$102,MATCH($Q17,'印刷-目標ごとの達成度(P.7-8)'!$O$94:$O$102,0),1))*(F17+G17)","v":0},0,{"$f":"IF(P17=\"\",99,INDEX('印刷-目標ごとの達成度(P.7-8)'!$N$108:$N$118,MATCH(P17,'印刷-目標ごとの達成度(P.7-8)'!$O$108:$O$118,0),1))","v":99},0,0,0,0,0,0,0,0,0,0,0,0,0,0,0,0,0,0,0,0,0,0]
[null,null,null,"○","共生社会論",null,2,null,null,null,null,null,null,null,null,null,null,null,{"$f":"IF($Q18=\"\",0,IF(INDEX('印刷-目標ごとの達成度(P.7-8)'!$P$94:$P$102,MATCH($Q18,'印刷-目標ごとの達成度(P.7-8)'!$O$94:$O$102,0),1)>0,1,0))*F18","v":0},{"$f":"IF($Q18=\"\",0,IF(INDEX('印刷-目標ごとの達成度(P.7-8)'!$P$94:$P$102,MATCH($Q18,'印刷-目標ごとの達成度(P.7-8)'!$O$94:$O$102,0),1)>0,1,0))*G18","v":0},{"$f":"IF($Q18=\"\",0,INDEX('印刷-目標ごとの達成度(P.7-8)'!$P$94:$P$102,MATCH($Q18,'印刷-目標ごとの達成度(P.7-8)'!$O$94:$O$102,0),1))*(F18+G18)","v":0},0,{"$f":"IF(P18=\"\",99,INDEX('印刷-目標ごとの達成度(P.7-8)'!$N$108:$N$118,MATCH(P18,'印刷-目標ごとの達成度(P.7-8)'!$O$108:$O$118,0),1))","v":99},0,0,0,0,0,0,0,0,0,0,0,0,0,0,0,0,0,0,0,0,0,0]
[null,null,null,"○","近現代史",null,2,null,null,null,null,null,null,null,null,null,null,null,{"$f":"IF($Q19=\"\",0,IF(INDEX('印刷-目標ごとの達成度(P.7-8)'!$P$94:$P$102,MATCH($Q19,'印刷-目標ごとの達成度(P.7-8)'!$O$94:$O$102,0),1)>0,1,0))*F19","v":0},{"$f":"IF($Q19=\"\",0,IF(INDEX('印刷-目標ごとの達成度(P.7-8)'!$P$94:$P$102,MATCH($Q19,'印刷-目標ごとの達成度(P.7-8)'!$O$94:$O$102,0),1)>0,1,0))*G19","v":0},{"$f":"IF($Q19=\"\",0,INDEX('印刷-目標ごとの達成度(P.7-8)'!$P$94:$P$102,MATCH($Q19,'印刷-目標ごとの達成度(P.7-8)'!$O$94:$O$102,0),1))*(F19+G19)","v":0},0,{"$f":"IF(P19=\"\",99,INDEX('印刷-目標ごとの達成度(P.7-8)'!$N$108:$N$118,MATCH(P19,'印刷-目標ごとの達成度(P.7-8)'!$O$108:$O$118,0),1))","v":99},0,0,0,0,0,0,0,0,0,0,0,0,0,0,0,0,0,0,0,0,0,0]
[null,null,null,"○","公共の哲学",null,2,null,null,null,null,null,null,null,null,null,null,null,{"$f":"IF($Q20=\"\",0,IF(INDEX('印刷-目標ごとの達成度(P.7-8)'!$P$94:$P$102,MATCH($Q20,'印刷-目標ごとの達成度(P.7-8)'!$O$94:$O$102,0),1)>0,1,0))*F20","v":0},{"$f":"IF($Q20=\"\",0,IF(INDEX('印刷-目標ごとの達成度(P.7-8)'!$P$94:$P$102,MATCH($Q20,'印刷-目標ごとの達成度(P.7-8)'!$O$94:$O$102,0),1)>0,1,0))*G20","v":0},{"$f":"IF($Q20=\"\",0,INDEX('印刷-目標ごとの達成度(P.7-8)'!$P$94:$P$102,MATCH($Q20,'印刷-目標ごとの達成度(P.7-8)'!$O$94:$O$102,0),1))*(F20+G20)","v":0},0,{"$f":"IF(P20=\"\",99,INDEX('印刷-目標ごとの達成度(P.7-8)'!$N$108:$N$118,MATCH(P20,'印刷-目標ごとの達成度(P.7-8)'!$O$108:$O$118,0),1))","v":99},0,0,0,0,0,0,0,0,0,0,0,0,0,0,0,0,0,0,0,0,0,0]
[null,null,null,"○","歴史・哲学特殊講義",null,2,null,null,null,null,null,null,null,null,null,null,null,{"$f":"IF($Q21=\"\",0,IF(INDEX('印刷-目標ごとの達成度(P.7-8)'!$P$94:$P$102,MATCH($Q21,'印刷-目標ごとの達成度(P.7-8)'!$O$94:$O$102,0),1)>0,1,0))*F21","v":0},{"$f":"IF($Q21=\"\",0,IF(INDEX('印刷-目標ごとの達成度(P.7-8)'!$P$94:$P$102,MATCH($Q21,'印刷-目標ごとの達成度(P.7-8)'!$O$94:$O$102,0),1)>0,1,0))*G21","v":0},{"$f":"IF($Q21=\"\",0,INDEX('印刷-目標ごとの達成度(P.7-8)'!$P$94:$P$102,MATCH($Q21,'印刷-目標ごとの達成度(P.7-8)'!$O$94:$O$102,0),1))*(F21+G21)","v":0},0,{"$f":"IF(P21=\"\",99,INDEX('印刷-目標ごとの達成度(P.7-8)'!$N$108:$N$118,MATCH(P21,'印刷-目標ごとの達成度(P.7-8)'!$O$108:$O$118,0),1))","v":99},0,0,0,0,0,0,0,0,0,0,0,0,0,0,0,0,0,0,0,0,0,0]
[null,null,"技術と社会・国際","○","経済学",null,2,null,null,null,null,null,null,null,null,null,null,null,{"$f":"IF($Q22=\"\",0,IF(INDEX('印刷-目標ごとの達成度(P.7-8)'!$P$94:$P$102,MATCH($Q22,'印刷-目標ごとの達成度(P.7-8)'!$O$94:$O$102,0),1)>0,1,0))*F22","v":0},{"$f":"IF($Q22=\"\",0,IF(INDEX('印刷-目標ごとの達成度(P.7-8)'!$P$94:$P$102,MATCH($Q22,'印刷-目標ごとの達成度(P.7-8)'!$O$94:$O$102,0),1)>0,1,0))*G22","v":0},{"$f":"IF($Q22=\"\",0,INDEX('印刷-目標ごとの達成度(P.7-8)'!$P$94:$P$102,MATCH($Q22,'印刷-目標ごとの達成度(P.7-8)'!$O$94:$O$102,0),1))*(F22+G22)","v":0},{"$f":"IF(OR(D22=\"○\",D22=\"◎\"),U22,0)","v":0},{"$f":"IF(P22=\"\",99,INDEX('印刷-目標ごとの達成度(P.7-8)'!$N$108:$N$118,MATCH(P22,'印刷-目標ごとの達成度(P.7-8)'!$O$108:$O$118,0),1))","v":99},0,0,0,0,0,0,0,0,0,0,0,0,0,0,0,0,0,0,0,0,0,0]
[null,null,null,"○","現代社会論",null,2,null,null,null,null,null,null,null,null,null,null,null,{"$f":"IF($Q23=\"\",0,IF(INDEX('印刷-目標ごとの達成度(P.7-8)'!$P$94:$P$102,MATCH($Q23,'印刷-目標ごとの達成度(P.7-8)'!$O$94:$O$102,0),1)>0,1,0))*F23","v":0},{"$f":"IF($Q23=\"\",0,IF(INDEX('印刷-目標ごとの達成度(P.7-8)'!$P$94:$P$102,MATCH($Q23,'印刷-目標ごとの達成度(P.7-8)'!$O$94:$O$102,0),1)>0,1,0))*G23","v":0},{"$f":"IF($Q23=\"\",0,INDEX('印刷-目標ごとの達成度(P.7-8)'!$P$94:$P$102,MATCH($Q23,'印刷-目標ごとの達成度(P.7-8)'!$O$94:$O$102,0),1))*(F23+G23)","v":0},0,{"$f":"IF(P23=\"\",99,INDEX('印刷-目標ごとの達成度(P.7-8)'!$N$108:$N$118,MATCH(P23,'印刷-目標ごとの達成度(P.7-8)'!$O$108:$O$118,0),1))","v":99},0,0,0,0,0,0,0,0,0,0,0,0,0,0,0,0,0,0,0,0,0,0]
[null,null,null,"○","現代政治論",null,2,null,null,null,null,null,null,null,null,null,null,null,{"$f":"IF($Q24=\"\",0,IF(INDEX('印刷-目標ごとの達成度(P.7-8)'!$P$94:$P$102,MATCH($Q24,'印刷-目標ごとの達成度(P.7-8)'!$O$94:$O$102,0),1)>0,1,0))*F24","v":0},{"$f":"IF($Q24=\"\",0,IF(INDEX('印刷-目標ごとの達成度(P.7-8)'!$P$94:$P$102,MATCH($Q24,'印刷-目標ごとの達成度(P.7-8)'!$O$94:$O$102,0),1)>0,1,0))*G24","v":0},{"$f":"IF($Q24=\"\",0,INDEX('印刷-目標ごとの達成度(P.7-8)'!$P$94:$P$102,MATCH($Q24,'印刷-目標ごとの達成度(P.7-8)'!$O$94:$O$102,0),1))*(F24+G24)","v":0},0,{"$f":"IF(P24=\"\",99,INDEX('印刷-目標ごとの達成度(P.7-8)'!$N$108:$N$118,MATCH(P24,'印刷-目標ごとの達成度(P.7-8)'!$O$108:$O$118,0),1))","v":99},0,0,0,0,0,0,0,0,0,0,0,0,0,0,0,0,0,0,0,0,0,0]
[null,null,null,"○","公共政策論",null,2,null,null,null,null,null,null,null,null,null,null,null,{"$f":"IF($Q25=\"\",0,IF(INDEX('印刷-目標ごとの達成度(P.7-8)'!$P$94:$P$102,MATCH($Q25,'印刷-目標ごとの達成度(P.7-8)'!$O$94:$O$102,0),1)>0,1,0))*F25","v":0},{"$f":"IF($Q25=\"\",0,IF(INDEX('印刷-目標ごとの達成度(P.7-8)'!$P$94:$P$102,MATCH($Q25,'印刷-目標ごとの達成度(P.7-8)'!$O$94:$O$102,0),1)>0,1,0))*G25","v":0},{"$f":"IF($Q25=\"\",0,INDEX('印刷-目標ごとの達成度(P.7-8)'!$P$94:$P$102,MATCH($Q25,'印刷-目標ごとの達成度(P.7-8)'!$O$94:$O$102,0),1))*(F25+G25)","v":0},0,{"$f":"IF(P25=\"\",99,INDEX('印刷-目標ごとの達成度(P.7-8)'!$N$108:$N$118,MATCH(P25,'印刷-目標ごとの達成度(P.7-8)'!$O$108:$O$118,0),1))","v":99},0,0,0,0,0,0,0,0,0,0,0,0,0,0,0,0,0,0,0,0,0,0]
[null,null,null,"○","生涯学習論",null,2,null,null,null,null,null,null,null,null,null,null,null,{"$f":"IF($Q26=\"\",0,IF(INDEX('印刷-目標ごとの達成度(P.7-8)'!$P$94:$P$102,MATCH($Q26,'印刷-目標ごとの達成度(P.7-8)'!$O$94:$O$102,0),1)>0,1,0))*F26","v":0},{"$f":"IF($Q26=\"\",0,IF(INDEX('印刷-目標ごとの達成度(P.7-8)'!$P$94:$P$102,MATCH($Q26,'印刷-目標ごとの達成度(P.7-8)'!$O$94:$O$102,0),1)>0,1,0))*G26","v":0},{"$f":"IF($Q26=\"\",0,INDEX('印刷-目標ごとの達成度(P.7-8)'!$P$94:$P$102,MATCH($Q26,'印刷-目標ごとの達成度(P.7-8)'!$O$94:$O$102,0),1))*(F26+G26)","v":0},0,{"$f":"IF(P26=\"\",99,INDEX('印刷-目標ごとの達成度(P.7-8)'!$N$108:$N$118,MATCH(P26,'印刷-目標ごとの達成度(P.7-8)'!$O$108:$O$118,0),1))","v":99},0,0,0,0,0,0,0,0,{"$f":"IF($W26=AF$5,$S26+$T26,0)","v":0},0,0,0,0,0,0,0,0,0,0,{"$f":"IF($W26=AQ$5,$V26,0)","v":0},0,0]
[null,null,null,"○","地域研究Ⅰ",null,2,null,null,null,null,null,null,null,null,null,null,null,{"$f":"IF($Q27=\"\",0,IF(INDEX('印刷-目標ごとの達成度(P.7-8)'!$P$94:$P$102,MATCH($Q27,'印刷-目標ごとの達成度(P.7-8)'!$O$94:$O$102,0),1)>0,1,0))*F27","v":0},{"$f":"IF($Q27=\"\",0,IF(INDEX('印刷-目標ごとの達成度(P.7-8)'!$P$94:$P$102,MATCH($Q27,'印刷-目標ごとの達成度(P.7-8)'!$O$94:$O$102,0),1)>0,1,0))*G27","v":0},{"$f":"IF($Q27=\"\",0,INDEX('印刷-目標ごとの達成度(P.7-8)'!$P$94:$P$102,MATCH($Q27,'印刷-目標ごとの達成度(P.7-8)'!$O$94:$O$102,0),1))*(F27+G27)","v":0},0,{"$f":"IF(P27=\"\",99,INDEX('印刷-目標ごとの達成度(P.7-8)'!$N$108:$N$118,MATCH(P27,'印刷-目標ごとの達成度(P.7-8)'!$O$108:$O$118,0),1))","v":99},0,0,0,0,0,0,0,0,0,0,0,0,0,0,0,0,0,0,0,0,0,0]
[null,null,null,"○","地域研究Ⅱ",null,2,null,null,null,null,null,null,null,null,null,null,null,{"$f":"IF($Q28=\"\",0,IF(INDEX('印刷-目標ごとの達成度(P.7-8)'!$P$94:$P$102,MATCH($Q28,'印刷-目標ごとの達成度(P.7-8)'!$O$94:$O$102,0),1)>0,1,0))*F28","v":0},{"$f":"IF($Q28=\"\",0,IF(INDEX('印刷-目標ごとの達成度(P.7-8)'!$P$94:$P$102,MATCH($Q28,'印刷-目標ごとの達成度(P.7-8)'!$O$94:$O$102,0),1)>0,1,0))*G28","v":0},{"$f":"IF($Q28=\"\",0,INDEX('印刷-目標ごとの達成度(P.7-8)'!$P$94:$P$102,MATCH($Q28,'印刷-目標ごとの達成度(P.7-8)'!$O$94:$O$102,0),1))*(F28+G28)","v":0},0,{"$f":"IF(P28=\"\",99,INDEX('印刷-目標ごとの達成度(P.7-8)'!$N$108:$N$118,MATCH(P28,'印刷-目標ごとの達成度(P.7-8)'!$O$108:$O$118,0),1))","v":99},0,0,0,0,0,0,0,0,0,0,0,0,0,0,0,0,0,0,0,0,0,0]
[null,null,null,"○","日本国憲法",null,2,null,null,null,null,null,null,null,null,null,null,null,{"$f":"IF($Q29=\"\",0,IF(INDEX('印刷-目標ごとの達成度(P.7-8)'!$P$94:$P$102,MATCH($Q29,'印刷-目標ごとの達成度(P.7-8)'!$O$94:$O$102,0),1)>0,1,0))*F29","v":0},{"$f":"IF($Q29=\"\",0,IF(INDEX('印刷-目標ごとの達成度(P.7-8)'!$P$94:$P$102,MATCH($Q29,'印刷-目標ごとの達成度(P.7-8)'!$O$94:$O$102,0),1)>0,1,0))*G29","v":0},{"$f":"IF($Q29=\"\",0,INDEX('印刷-目標ごとの達成度(P.7-8)'!$P$94:$P$102,MATCH($Q29,'印刷-目標ごとの達成度(P.7-8)'!$O$94:$O$102,0),1))*(F29+G29)","v":0},0,{"$f":"IF(P29=\"\",99,INDEX('印刷-目標ごとの達成度(P.7-8)'!$N$108:$N$118,MATCH(P29,'印刷-目標ごとの達成度(P.7-8)'!$O$108:$O$118,0),1))","v":99},0,0,0,0,0,0,0,0,0,0,0,0,0,0,0,0,0,0,0,0,0,0]
[null,null,null,"○","社会・国際特殊講義",null,2,null,null,null,null,null,null,null,null,null,null,null,{"$f":"IF($Q30=\"\",0,IF(INDEX('印刷-目標ごとの達成度(P.7-8)'!$P$94:$P$102,MATCH($Q30,'印刷-目標ごとの達成度(P.7-8)'!$O$94:$O$102,0),1)>0,1,0))*F30","v":0},{"$f":"IF($Q30=\"\",0,IF(INDEX('印刷-目標ごとの達成度(P.7-8)'!$P$94:$P$102,MATCH($Q30,'印刷-目標ごとの達成度(P.7-8)'!$O$94:$O$102,0),1)>0,1,0))*G30","v":0},{"$f":"IF($Q30=\"\",0,INDEX('印刷-目標ごとの達成度(P.7-8)'!$P$94:$P$102,MATCH($Q30,'印刷-目標ごとの達成度(P.7-8)'!$O$94:$O$102,0),1))*(F30+G30)","v":0},0,{"$f":"IF(P30=\"\",99,INDEX('印刷-目標ごとの達成度(P.7-8)'!$N$108:$N$118,MATCH(P30,'印刷-目標ごとの達成度(P.7-8)'!$O$108:$O$118,0),1))","v":99},0,0,0,0,0,0,0,0,0,0,0,0,0,0,0,0,0,0,0,0,0,0]
[null,null,null,"○","日本語表現法（留学生）",null,2,2,null,null,null,null,null,null,null,null,null,null,{"$f":"IF($Q31=\"\",0,IF(INDEX('印刷-目標ごとの達成度(P.7-8)'!$P$94:$P$102,MATCH($Q31,'印刷-目標ごとの達成度(P.7-8)'!$O$94:$O$102,0),1)>0,1,0))*F31","v":0},{"$f":"IF($Q31=\"\",0,IF(INDEX('印刷-目標ごとの達成度(P.7-8)'!$P$94:$P$102,MATCH($Q31,'印刷-目標ごとの達成度(P.7-8)'!$O$94:$O$102,0),1)>0,1,0))*G31","v":0},{"$f":"IF($Q31=\"\",0,INDEX('印刷-目標ごとの達成度(P.7-8)'!$P$94:$P$102,MATCH($Q31,'印刷-目標ごとの達成度(P.7-8)'!$O$94:$O$102,0),1))*(F31+G31)","v":0},0,{"$f":"IF(P31=\"\",99,INDEX('印刷-目標ごとの達成度(P.7-8)'!$N$108:$N$118,MATCH(P31,'印刷-目標ごとの達成度(P.7-8)'!$O$108:$O$118,0),1))","v":99},0,0,0,0,0,0,0,0,0,0,0,0,0,0,0,0,0,0,0,0,0,0]
[null,null,null,"○","日本語日本文化（留学生）",null,2,2,null,null,null,null,null,null,null,null,null,null,{"$f":"IF($Q32=\"\",0,IF(INDEX('印刷-目標ごとの達成度(P.7-8)'!$P$94:$P$102,MATCH($Q32,'印刷-目標ごとの達成度(P.7-8)'!$O$94:$O$102,0),1)>0,1,0))*F32","v":0},{"$f":"IF($Q32=\"\",0,IF(INDEX('印刷-目標ごとの達成度(P.7-8)'!$P$94:$P$102,MATCH($Q32,'印刷-目標ごとの達成度(P.7-8)'!$O$94:$O$102,0),1)>0,1,0))*G32","v":0},{"$f":"IF($Q32=\"\",0,INDEX('印刷-目標ごとの達成度(P.7-8)'!$P$94:$P$102,MATCH($Q32,'印刷-目標ごとの達成度(P.7-8)'!$O$94:$O$102,0),1))*(F32+G32)","v":0},0,{"$f":"IF(P32=\"\",99,INDEX('印刷-目標ごとの達成度(P.7-8)'!$N$108:$N$118,MATCH(P32,'印刷-目標ごとの達成度(P.7-8)'!$O$108:$O$118,0),1))","v":99},0,0,0,0,0,0,0,0,0,0,0,0,0,0,0,0,0,0,0,0,0,0]
[null,null,null,"○","日本語日本社会（留学生）",null,2,null,2,null,null,null,null,null,null,null,null,null,{"$f":"IF($Q33=\"\",0,IF(INDEX('印刷-目標ごとの達成度(P.7-8)'!$P$94:$P$102,MATCH($Q33,'印刷-目標ごとの達成度(P.7-8)'!$O$94:$O$102,0),1)>0,1,0))*F33","v":0},{"$f":"IF($Q33=\"\",0,IF(INDEX('印刷-目標ごとの達成度(P.7-8)'!$P$94:$P$102,MATCH($Q33,'印刷-目標ごとの達成度(P.7-8)'!$O$94:$O$102,0),1)>0,1,0))*G33","v":0},{"$f":"IF($Q33=\"\",0,INDEX('印刷-目標ごとの達成度(P.7-8)'!$P$94:$P$102,MATCH($Q33,'印刷-目標ごとの達成度(P.7-8)'!$O$94:$O$102,0),1))*(F33+G33)","v":0},0,{"$f":"IF(P33=\"\",99,INDEX('印刷-目標ごとの達成度(P.7-8)'!$N$108:$N$118,MATCH(P33,'印刷-目標ごとの達成度(P.7-8)'!$O$108:$O$118,0),1))","v":99},0,0,0,0,0,0,0,0,0,0,0,0,0,0,0,0,0,0,0,0,0,0]
[null,null,"技術と芸術・文化","○","美学",null,2,4,2,2,2,null,null,null,null,null,null,null,{"$f":"IF($Q34=\"\",0,IF(INDEX('印刷-目標ごとの達成度(P.7-8)'!$P$94:$P$102,MATCH($Q34,'印刷-目標ごとの達成度(P.7-8)'!$O$94:$O$102,0),1)>0,1,0))*F34","v":0},{"$f":"IF($Q34=\"\",0,IF(INDEX('印刷-目標ごとの達成度(P.7-8)'!$P$94:$P$102,MATCH($Q34,'印刷-目標ごとの達成度(P.7-8)'!$O$94:$O$102,0),1)>0,1,0))*G34","v":0},{"$f":"IF($Q34=\"\",0,INDEX('印刷-目標ごとの達成度(P.7-8)'!$P$94:$P$102,MATCH($Q34,'印刷-目標ごとの達成度(P.7-8)'!$O$94:$O$102,0),1))*(F34+G34)","v":0},0,{"$f":"IF(P34=\"\",99,INDEX('印刷-目標ごとの達成度(P.7-8)'!$N$108:$N$118,MATCH(P34,'印刷-目標ごとの達成度(P.7-8)'!$O$108:$O$118,0),1))","v":99},0,0,0,0,0,0,0,0,0,0,0,0,0,0,0,0,0,0,0,0,0,0]
[null,null,null,"○","美術史",null,2,null,null,null,null,null,null,null,null,null,null,null,{"$f":"IF($Q35=\"\",0,IF(INDEX('印刷-目標ごとの達成度(P.7-8)'!$P$94:$P$102,MATCH($Q35,'印刷-目標ごとの達成度(P.7-8)'!$O$94:$O$102,0),1)>0,1,0))*F35","v":0},{"$f":"IF($Q35=\"\",0,IF(INDEX('印刷-目標ごとの達成度(P.7-8)'!$P$94:$P$102,MATCH($Q35,'印刷-目標ごとの達成度(P.7-8)'!$O$94:$O$102,0),1)>0,1,0))*G35","v":0},{"$f":"IF($Q35=\"\",0,INDEX('印刷-目標ごとの達成度(P.7-8)'!$P$94:$P$102,MATCH($Q35,'印刷-目標ごとの達成度(P.7-8)'!$O$94:$O$102,0),1))*(F35+G35)","v":0},0,{"$f":"IF(P35=\"\",99,INDEX('印刷-目標ごとの達成度(P.7-8)'!$N$108:$N$118,MATCH(P35,'印刷-目標ごとの達成度(P.7-8)'!$O$108:$O$118,0),1))","v":99},0,0,0,0,0,0,0,0,0,0,0,0,0,0,0,0,0,0,0,0,0,0]
[null,null,null,"○","音楽論",null,2,null,null,null,null,null,null,null,null,null,null,null,{"$f":"IF($Q36=\"\",0,IF(INDEX('印刷-目標ごとの達成度(P.7-8)'!$P$94:$P$102,MATCH($Q36,'印刷-目標ごとの達成度(P.7-8)'!$O$94:$O$102,0),1)>0,1,0))*F36","v":0},{"$f":"IF($Q36=\"\",0,IF(INDEX('印刷-目標ごとの達成度(P.7-8)'!$P$94:$P$102,MATCH($Q36,'印刷-目標ごとの達成度(P.7-8)'!$O$94:$O$102,0),1)>0,1,0))*G36","v":0},{"$f":"IF($Q36=\"\",0,INDEX('印刷-目標ごとの達成度(P.7-8)'!$P$94:$P$102,MATCH($Q36,'印刷-目標ごとの達成度(P.7-8)'!$O$94:$O$102,0),1))*(F36+G36)","v":0},0,{"$f":"IF(P36=\"\",99,INDEX('印刷-目標ごとの達成度(P.7-8)'!$N$108:$N$118,MATCH(P36,'印刷-目標ごとの達成度(P.7-8)'!$O$108:$O$118,0),1))","v":99},0,0,0,0,0,0,0,0,0,0,0,0,0,0,0,0,0,0,0,0,0,0]
[null,null,null,"○","文学",null,2,null,null,null,null,null,null,null,null,null,null,null,{"$f":"IF($Q37=\"\",0,IF(INDEX('印刷-目標ごとの達成度(P.7-8)'!$P$94:$P$102,MATCH($Q37,'印刷-目標ごとの達成度(P.7-8)'!$O$94:$O$102,0),1)>0,1,0))*F37","v":0},{"$f":"IF($Q37=\"\",0,IF(INDEX('印刷-目標ごとの達成度(P.7-8)'!$P$94:$P$102,MATCH($Q37,'印刷-目標ごとの達成度(P.7-8)'!$O$94:$O$102,0),1)>0,1,0))*G37","v":0},{"$f":"IF($Q37=\"\",0,INDEX('印刷-目標ごとの達成度(P.7-8)'!$P$94:$P$102,MATCH($Q37,'印刷-目標ごとの達成度(P.7-8)'!$O$94:$O$102,0),1))*(F37+G37)","v":0},0,{"$f":"IF(P37=\"\",99,INDEX('印刷-目標ごとの達成度(P.7-8)'!$N$108:$N$118,MATCH(P37,'印刷-目標ごとの達成度(P.7-8)'!$O$108:$O$118,0),1))","v":99},0,0,0,0,0,0,0,0,0,0,0,0,0,0,0,0,0,0,0,0,0,0]
[null,null,null,"○","異文化理解",null,2,null,null,null,null,null,null,null,null,null,null,null,{"$f":"IF($Q38=\"\",0,IF(INDEX('印刷-目標ごとの達成度(P.7-8)'!$P$94:$P$102,MATCH($Q38,'印刷-目標ごとの達成度(P.7-8)'!$O$94:$O$102,0),1)>0,1,0))*F38","v":0},{"$f":"IF($Q38=\"\",0,IF(INDEX('印刷-目標ごとの達成度(P.7-8)'!$P$94:$P$102,MATCH($Q38,'印刷-目標ごとの達成度(P.7-8)'!$O$94:$O$102,0),1)>0,1,0))*G38","v":0},{"$f":"IF($Q38=\"\",0,INDEX('印刷-目標ごとの達成度(P.7-8)'!$P$94:$P$102,MATCH($Q38,'印刷-目標ごとの達成度(P.7-8)'!$O$94:$O$102,0),1))*(F38+G38)","v":0},0,{"$f":"IF(P38=\"\",99,INDEX('印刷-目標ごとの達成度(P.7-8)'!$N$108:$N$118,MATCH(P38,'印刷-目標ごとの達成度(P.7-8)'!$O$108:$O$118,0),1))","v":99},0,0,0,0,0,0,0,0,0,0,0,0,0,0,0,0,0,0,0,0,0,0]
[null,null,null,"○","日本文化論",null,2,null,null,null,null,null,null,null,null,null,null,null,{"$f":"IF($Q39=\"\",0,IF(INDEX('印刷-目標ごとの達成度(P.7-8)'!$P$94:$P$102,MATCH($Q39,'印刷-目標ごとの達成度(P.7-8)'!$O$94:$O$102,0),1)>0,1,0))*F39","v":0},{"$f":"IF($Q39=\"\",0,IF(INDEX('印刷-目標ごとの達成度(P.7-8)'!$P$94:$P$102,MATCH($Q39,'印刷-目標ごとの達成度(P.7-8)'!$O$94:$O$102,0),1)>0,1,0))*G39","v":0},{"$f":"IF($Q39=\"\",0,INDEX('印刷-目標ごとの達成度(P.7-8)'!$P$94:$P$102,MATCH($Q39,'印刷-目標ごとの達成度(P.7-8)'!$O$94:$O$102,0),1))*(F39+G39)","v":0},0,{"$f":"IF(P39=\"\",99,INDEX('印刷-目標ごとの達成度(P.7-8)'!$N$108:$N$118,MATCH(P39,'印刷-目標ごとの達成度(P.7-8)'!$O$108:$O$118,0),1))","v":99},0,0,0,0,0,0,0,0,0,0,0,0,0,0,0,0,0,0,0,0,0,0]
[null,null,null,"○","宗教文化論",null,2,null,null,null,null,null,null,null,null,null,null,null,{"$f":"IF($Q40=\"\",0,IF(INDEX('印刷-目標ごとの達成度(P.7-8)'!$P$94:$P$102,MATCH($Q40,'印刷-目標ごとの達成度(P.7-8)'!$O$94:$O$102,0),1)>0,1,0))*F40","v":0},{"$f":"IF($Q40=\"\",0,IF(INDEX('印刷-目標ごとの達成度(P.7-8)'!$P$94:$P$102,MATCH($Q40,'印刷-目標ごとの達成度(P.7-8)'!$O$94:$O$102,0),1)>0,1,0))*G40","v":0},{"$f":"IF($Q40=\"\",0,INDEX('印刷-目標ごとの達成度(P.7-8)'!$P$94:$P$102,MATCH($Q40,'印刷-目標ごとの達成度(P.7-8)'!$O$94:$O$102,0),1))*(F40+G40)","v":0},0,{"$f":"IF(P40=\"\",99,INDEX('印刷-目標ごとの達成度(P.7-8)'!$N$108:$N$118,MATCH(P40,'印刷-目標ごとの達成度(P.7-8)'!$O$108:$O$118,0),1))","v":99},0,0,0,0,0,0,0,0,0,0,0,0,0,0,0,0,0,0,0,0,0,0]
[null,null,null,"○","感性と社会",null,2,null,null,null,null,null,null,null,null,null,null,null,{"$f":"IF($Q41=\"\",0,IF(INDEX('印刷-目標ごとの達成度(P.7-8)'!$P$94:$P$102,MATCH($Q41,'印刷-目標ごとの達成度(P.7-8)'!$O$94:$O$102,0),1)>0,1,0))*F41","v":0},{"$f":"IF($Q41=\"\",0,IF(INDEX('印刷-目標ごとの達成度(P.7-8)'!$P$94:$P$102,MATCH($Q41,'印刷-目標ごとの達成度(P.7-8)'!$O$94:$O$102,0),1)>0,1,0))*G41","v":0},{"$f":"IF($Q41=\"\",0,INDEX('印刷-目標ごとの達成度(P.7-8)'!$P$94:$P$102,MATCH($Q41,'印刷-目標ごとの達成度(P.7-8)'!$O$94:$O$102,0),1))*(F41+G41)","v":0},0,{"$f":"IF(P41=\"\",99,INDEX('印刷-目標ごとの達成度(P.7-8)'!$N$108:$N$118,MATCH(P41,'印刷-目標ごとの達成度(P.7-8)'!$O$108:$O$118,0),1))","v":99},0,0,0,0,0,0,0,0,0,0,0,0,0,0,0,0,0,0,0,0,0,0]
[null,null,null,"○","芸術・文化特殊講義",null,2,null,null,null,null,null,null,null,null,null,null,null,{"$f":"IF($Q42=\"\",0,IF(INDEX('印刷-目標ごとの達成度(P.7-8)'!$P$94:$P$102,MATCH($Q42,'印刷-目標ごとの達成度(P.7-8)'!$O$94:$O$102,0),1)>0,1,0))*F42","v":0},{"$f":"IF($Q42=\"\",0,IF(INDEX('印刷-目標ごとの達成度(P.7-8)'!$P$94:$P$102,MATCH($Q42,'印刷-目標ごとの達成度(P.7-8)'!$O$94:$O$102,0),1)>0,1,0))*G42","v":0},{"$f":"IF($Q42=\"\",0,INDEX('印刷-目標ごとの達成度(P.7-8)'!$P$94:$P$102,MATCH($Q42,'印刷-目標ごとの達成度(P.7-8)'!$O$94:$O$102,0),1))*(F42+G42)","v":0},0,{"$f":"IF(P42=\"\",99,INDEX('印刷-目標ごとの達成度(P.7-8)'!$N$108:$N$118,MATCH(P42,'印刷-目標ごとの達成度(P.7-8)'!$O$108:$O$118,0),1))","v":99},0,0,0,0,0,0,0,0,0,0,0,0,0,0,0,0,0,0,0,0,0,0]
[null,"自然科学基礎",null,"○","線形代数Ⅰ",2,null,2,null,null,null,null,null,null,null,null,null,null,{"$f":"IF($Q43=\"\",0,IF(INDEX('印刷-目標ごとの達成度(P.7-8)'!$P$94:$P$102,MATCH($Q43,'印刷-目標ごとの達成度(P.7-8)'!$O$94:$O$102,0),1)>0,1,0))*F43","v":0},{"$f":"IF($Q43=\"\",0,IF(INDEX('印刷-目標ごとの達成度(P.7-8)'!$P$94:$P$102,MATCH($Q43,'印刷-目標ごとの達成度(P.7-8)'!$O$94:$O$102,0),1)>0,1,0))*G43","v":0},{"$f":"IF($Q43=\"\",0,INDEX('印刷-目標ごとの達成度(P.7-8)'!$P$94:$P$102,MATCH($Q43,'印刷-目標ごとの達成度(P.7-8)'!$O$94:$O$102,0),1))*(F43+G43)","v":0},0,{"$f":"IF(P43=\"\",99,INDEX('印刷-目標ごとの達成度(P.7-8)'!$N$108:$N$118,MATCH(P43,'印刷-目標ごとの達成度(P.7-8)'!$O$108:$O$118,0),1))","v":99},0,0,0,0,0,0,0,0,0,0,0,0,0,0,0,0,0,0,0,0,0,0]
[null,null,null,"○","線形代数Ⅱ",2,null,null,2,null,null,null,null,null,null,null,null,null,{"$f":"IF($Q44=\"\",0,IF(INDEX('印刷-目標ごとの達成度(P.7-8)'!$P$94:$P$102,MATCH($Q44,'印刷-目標ごとの達成度(P.7-8)'!$O$94:$O$102,0),1)>0,1,0))*F44","v":0},{"$f":"IF($Q44=\"\",0,IF(INDEX('印刷-目標ごとの達成度(P.7-8)'!$P$94:$P$102,MATCH($Q44,'印刷-目標ごとの達成度(P.7-8)'!$O$94:$O$102,0),1)>0,1,0))*G44","v":0},{"$f":"IF($Q44=\"\",0,INDEX('印刷-目標ごとの達成度(P.7-8)'!$P$94:$P$102,MATCH($Q44,'印刷-目標ごとの達成度(P.7-8)'!$O$94:$O$102,0),1))*(F44+G44)","v":0},0,{"$f":"IF(P44=\"\",99,INDEX('印刷-目標ごとの達成度(P.7-8)'!$N$108:$N$118,MATCH(P44,'印刷-目標ごとの達成度(P.7-8)'!$O$108:$O$118,0),1))","v":99},0,0,0,0,0,0,0,0,0,0,0,0,0,0,0,0,0,0,0,0,0,0]
[null,null,null,"○","微分積分Ⅰ及び演習",3,null,3,null,null,null,null,null,null,null,null,null,null,{"$f":"IF($Q45=\"\",0,IF(INDEX('印刷-目標ごとの達成度(P.7-8)'!$P$94:$P$102,MATCH($Q45,'印刷-目標ごとの達成度(P.7-8)'!$O$94:$O$102,0),1)>0,1,0))*F45","v":0},{"$f":"IF($Q45=\"\",0,IF(INDEX('印刷-目標ごとの達成度(P.7-8)'!$P$94:$P$102,MATCH($Q45,'印刷-目標ごとの達成度(P.7-8)'!$O$94:$O$102,0),1)>0,1,0))*G45","v":0},{"$f":"IF($Q45=\"\",0,INDEX('印刷-目標ごとの達成度(P.7-8)'!$P$94:$P$102,MATCH($Q45,'印刷-目標ごとの達成度(P.7-8)'!$O$94:$O$102,0),1))*(F45+G45)","v":0},0,{"$f":"IF(P45=\"\",99,INDEX('印刷-目標ごとの達成度(P.7-8)'!$N$108:$N$118,MATCH(P45,'印刷-目標ごとの達成度(P.7-8)'!$O$108:$O$118,0),1))","v":99},0,0,0,0,0,0,0,0,0,0,0,0,0,0,0,0,0,0,0,0,0,0]
[null,null,null,"○","微分積分Ⅱ及び演習",null,3,null,3,null,null,null,null,null,null,null,null,null,{"$f":"IF($Q46=\"\",0,IF(INDEX('印刷-目標ごとの達成度(P.7-8)'!$P$94:$P$102,MATCH($Q46,'印刷-目標ごとの達成度(P.7-8)'!$O$94:$O$102,0),1)>0,1,0))*F46","v":0},{"$f":"IF($Q46=\"\",0,IF(INDEX('印刷-目標ごとの達成度(P.7-8)'!$P$94:$P$102,MATCH($Q46,'印刷-目標ごとの達成度(P.7-8)'!$O$94:$O$102,0),1)>0,1,0))*G46","v":0},{"$f":"IF($Q46=\"\",0,INDEX('印刷-目標ごとの達成度(P.7-8)'!$P$94:$P$102,MATCH($Q46,'印刷-目標ごとの達成度(P.7-8)'!$O$94:$O$102,0),1))*(F46+G46)","v":0},0,{"$f":"IF(P46=\"\",99,INDEX('印刷-目標ごとの達成度(P.7-8)'!$N$108:$N$118,MATCH(P46,'印刷-目標ごとの達成度(P.7-8)'!$O$108:$O$118,0),1))","v":99},0,0,0,0,0,0,0,0,0,0,0,0,0,0,0,0,0,0,0,0,0,0]
[null,null,null,"○","力学",2,null,2,null,null,null,null,null,null,null,null,null,null,{"$f":"IF($Q47=\"\",0,IF(INDEX('印刷-目標ごとの達成度(P.7-8)'!$P$94:$P$102,MATCH($Q47,'印刷-目標ごとの達成度(P.7-8)'!$O$94:$O$102,0),1)>0,1,0))*F47","v":0},{"$f":"IF($Q47=\"\",0,IF(INDEX('印刷-目標ごとの達成度(P.7-8)'!$P$94:$P$102,MATCH($Q47,'印刷-目標ごとの達成度(P.7-8)'!$O$94:$O$102,0),1)>0,1,0))*G47","v":0},{"$f":"IF($Q47=\"\",0,INDEX('印刷-目標ごとの達成度(P.7-8)'!$P$94:$P$102,MATCH($Q47,'印刷-目標ごとの達成度(P.7-8)'!$O$94:$O$102,0),1))*(F47+G47)","v":0},0,{"$f":"IF(P47=\"\",99,INDEX('印刷-目標ごとの達成度(P.7-8)'!$N$108:$N$118,MATCH(P47,'印刷-目標ごとの達成度(P.7-8)'!$O$108:$O$118,0),1))","v":99},{"$f":"IF($W47=X$5,$S47+$T47,0)","v":0},0,0,0,0,0,0,0,0,0,0,{"$f":"IF($W47=AI$5,$V47,0)","v":0},0,0,0,0,0,0,0,0,0,0]
[null,null,null,"○","物理学演習Ⅰ",null,1,2,null,null,null,null,null,null,null,null,null,null,{"$f":"IF($Q48=\"\",0,IF(INDEX('印刷-目標ごとの達成度(P.7-8)'!$P$94:$P$102,MATCH($Q48,'印刷-目標ごとの達成度(P.7-8)'!$O$94:$O$102,0),1)>0,1,0))*F48","v":0},{"$f":"IF($Q48=\"\",0,IF(INDEX('印刷-目標ごとの達成度(P.7-8)'!$P$94:$P$102,MATCH($Q48,'印刷-目標ごとの達成度(P.7-8)'!$O$94:$O$102,0),1)>0,1,0))*G48","v":0},{"$f":"IF($Q48=\"\",0,INDEX('印刷-目標ごとの達成度(P.7-8)'!$P$94:$P$102,MATCH($Q48,'印刷-目標ごとの達成度(P.7-8)'!$O$94:$O$102,0),1))*(F48+G48)","v":0},0,{"$f":"IF(P48=\"\",99,INDEX('印刷-目標ごとの達成度(P.7-8)'!$N$108:$N$118,MATCH(P48,'印刷-目標ごとの達成度(P.7-8)'!$O$108:$O$118,0),1))","v":99},0,0,0,0,0,0,0,0,0,0,0,0,0,0,0,0,0,0,0,0,0,0]
[null,null,null,"○","電磁気学",null,2,null,2,null,null,null,null,null,null,null,null,null,{"$f":"IF($Q49=\"\",0,IF(INDEX('印刷-目標ごとの達成度(P.7-8)'!$P$94:$P$102,MATCH($Q49,'印刷-目標ごとの達成度(P.7-8)'!$O$94:$O$102,0),1)>0,1,0))*F49","v":0},{"$f":"IF($Q49=\"\",0,IF(INDEX('印刷-目標ごとの達成度(P.7-8)'!$P$94:$P$102,MATCH($Q49,'印刷-目標ごとの達成度(P.7-8)'!$O$94:$O$102,0),1)>0,1,0))*G49","v":0},{"$f":"IF($Q49=\"\",0,INDEX('印刷-目標ごとの達成度(P.7-8)'!$P$94:$P$102,MATCH($Q49,'印刷-目標ごとの達成度(P.7-8)'!$O$94:$O$102,0),1))*(F49+G49)","v":0},0,{"$f":"IF(P49=\"\",99,INDEX('印刷-目標ごとの達成度(P.7-8)'!$N$108:$N$118,MATCH(P49,'印刷-目標ごとの達成度(P.7-8)'!$O$108:$O$118,0),1))","v":99},0,0,0,0,0,0,0,0,0,0,0,0,0,0,0,0,0,0,0,0,0,0]
[null,null,null,"○","物理学実験",null,2,null,4,null,null,null,null,null,null,null,null,null,{"$f":"IF($Q50=\"\",0,IF(INDEX('印刷-目標ごとの達成度(P.7-8)'!$P$94:$P$102,MATCH($Q50,'印刷-目標ごとの達成度(P.7-8)'!$O$94:$O$102,0),1)>0,1,0))*F50","v":0},{"$f":"IF($Q50=\"\",0,IF(INDEX('印刷-目標ごとの達成度(P.7-8)'!$P$94:$P$102,MATCH($Q50,'印刷-目標ごとの達成度(P.7-8)'!$O$94:$O$102,0),1)>0,1,0))*G50","v":0},{"$f":"IF($Q50=\"\",0,INDEX('印刷-目標ごとの達成度(P.7-8)'!$P$94:$P$102,MATCH($Q50,'印刷-目標ごとの達成度(P.7-8)'!$O$94:$O$102,0),1))*(F50+G50)","v":0},0,{"$f":"IF(P50=\"\",99,INDEX('印刷-目標ごとの達成度(P.7-8)'!$N$108:$N$118,MATCH(P50,'印刷-目標ごとの達成度(P.7-8)'!$O$108:$O$118,0),1))","v":99},0,0,0,0,0,0,0,0,0,0,0,0,0,0,0,0,0,0,0,0,0,0]
[null,null,null,"○","基礎化学",null,2,null,2,null,null,null,null,null,null,null,null,null,{"$f":"IF($Q51=\"\",0,IF(INDEX('印刷-目標ごとの達成度(P.7-8)'!$P$94:$P$102,MATCH($Q51,'印刷-目標ごとの達成度(P.7-8)'!$O$94:$O$102,0),1)>0,1,0))*F51","v":0},{"$f":"IF($Q51=\"\",0,IF(INDEX('印刷-目標ごとの達成度(P.7-8)'!$P$94:$P$102,MATCH($Q51,'印刷-目標ごとの達成度(P.7-8)'!$O$94:$O$102,0),1)>0,1,0))*G51","v":0},{"$f":"IF($Q51=\"\",0,INDEX('印刷-目標ごとの達成度(P.7-8)'!$P$94:$P$102,MATCH($Q51,'印刷-目標ごとの達成度(P.7-8)'!$O$94:$O$102,0),1))*(F51+G51)","v":0},0,{"$f":"IF(P51=\"\",99,INDEX('印刷-目標ごとの達成度(P.7-8)'!$N$108:$N$118,MATCH(P51,'印刷-目標ごとの達成度(P.7-8)'!$O$108:$O$118,0),1))","v":99},0,0,0,0,0,0,0,0,0,0,0,0,0,0,0,0,0,0,0,0,0,0]
[null,null,null,"○","化学結合論",null,2,2,null,null,null,null,null,null,null,null,null,null,{"$f":"IF($Q52=\"\",0,IF(INDEX('印刷-目標ごとの達成度(P.7-8)'!$P$94:$P$102,MATCH($Q52,'印刷-目標ごとの達成度(P.7-8)'!$O$94:$O$102,0),1)>0,1,0))*F52","v":0},{"$f":"IF($Q52=\"\",0,IF(INDEX('印刷-目標ごとの達成度(P.7-8)'!$P$94:$P$102,MATCH($Q52,'印刷-目標ごとの達成度(P.7-8)'!$O$94:$O$102,0),1)>0,1,0))*G52","v":0},{"$f":"IF($Q52=\"\",0,INDEX('印刷-目標ごとの達成度(P.7-8)'!$P$94:$P$102,MATCH($Q52,'印刷-目標ごとの達成度(P.7-8)'!$O$94:$O$102,0),1))*(F52+G52)","v":0},0,{"$f":"IF(P52=\"\",99,INDEX('印刷-目標ごとの達成度(P.7-8)'!$N$108:$N$118,MATCH(P52,'印刷-目標ごとの達成度(P.7-8)'!$O$108:$O$118,0),1))","v":99},0,0,0,0,0,0,0,0,0,0,0,0,0,0,0,0,0,0,0,0,0,0]
[null,null,null,"○","地球科学",null,2,null,null,2,null,null,null,null,null,null,null,null,{"$f":"IF($Q53=\"\",0,IF(INDEX('印刷-目標ごとの達成度(P.7-8)'!$P$94:$P$102,MATCH($Q53,'印刷-目標ごとの達成度(P.7-8)'!$O$94:$O$102,0),1)>0,1,0))*F53","v":0},{"$f":"IF($Q53=\"\",0,IF(INDEX('印刷-目標ごとの達成度(P.7-8)'!$P$94:$P$102,MATCH($Q53,'印刷-目標ごとの達成度(P.7-8)'!$O$94:$O$102,0),1)>0,1,0))*G53","v":0},{"$f":"IF($Q53=\"\",0,INDEX('印刷-目標ごとの達成度(P.7-8)'!$P$94:$P$102,MATCH($Q53,'印刷-目標ごとの達成度(P.7-8)'!$O$94:$O$102,0),1))*(F53+G53)","v":0},0,{"$f":"IF(P53=\"\",99,INDEX('印刷-目標ごとの達成度(P.7-8)'!$N$108:$N$118,MATCH(P53,'印刷-目標ごとの達成度(P.7-8)'!$O$108:$O$118,0),1))","v":99},0,0,0,0,0,0,0,0,0,0,0,0,0,0,0,0,0,0,0,0,0,0]
[null,null,null,"○","地球科学実験",null,1,null,null,null,2,null,null,null,null,null,null,null,{"$f":"IF($Q54=\"\",0,IF(INDEX('印刷-目標ごとの達成度(P.7-8)'!$P$94:$P$102,MATCH($Q54,'印刷-目標ごとの達成度(P.7-8)'!$O$94:$O$102,0),1)>0,1,0))*F54","v":0},{"$f":"IF($Q54=\"\",0,IF(INDEX('印刷-目標ごとの達成度(P.7-8)'!$P$94:$P$102,MATCH($Q54,'印刷-目標ごとの達成度(P.7-8)'!$O$94:$O$102,0),1)>0,1,0))*G54","v":0},{"$f":"IF($Q54=\"\",0,INDEX('印刷-目標ごとの達成度(P.7-8)'!$P$94:$P$102,MATCH($Q54,'印刷-目標ごとの達成度(P.7-8)'!$O$94:$O$102,0),1))*(F54+G54)","v":0},0,{"$f":"IF(P54=\"\",99,INDEX('印刷-目標ごとの達成度(P.7-8)'!$N$108:$N$118,MATCH(P54,'印刷-目標ごとの達成度(P.7-8)'!$O$108:$O$118,0),1))","v":99},0,0,0,0,0,0,0,0,0,0,0,0,0,0,0,0,0,0,0,0,0,0]
[null,null,null,"○","生体機能科学",null,2,null,null,null,2,null,null,null,null,null,null,null,{"$f":"IF($Q55=\"\",0,IF(INDEX('印刷-目標ごとの達成度(P.7-8)'!$P$94:$P$102,MATCH($Q55,'印刷-目標ごとの達成度(P.7-8)'!$O$94:$O$102,0),1)>0,1,0))*F55","v":0},{"$f":"IF($Q55=\"\",0,IF(INDEX('印刷-目標ごとの達成度(P.7-8)'!$P$94:$P$102,MATCH($Q55,'印刷-目標ごとの達成度(P.7-8)'!$O$94:$O$102,0),1)>0,1,0))*G55","v":0},{"$f":"IF($Q55=\"\",0,INDEX('印刷-目標ごとの達成度(P.7-8)'!$P$94:$P$102,MATCH($Q55,'印刷-目標ごとの達成度(P.7-8)'!$O$94:$O$102,0),1))*(F55+G55)","v":0},0,{"$f":"IF(P55=\"\",99,INDEX('印刷-目標ごとの達成度(P.7-8)'!$N$108:$N$118,MATCH(P55,'印刷-目標ごとの達成度(P.7-8)'!$O$108:$O$118,0),1))","v":99},0,0,0,0,0,0,0,0,0,0,0,0,0,0,0,0,0,0,0,0,0,0]
[null,null,null,"○","専門基礎科学Ⅰ（留学生）",null,2,2,null,null,null,null,null,null,null,null,null,null,{"$f":"IF($Q56=\"\",0,IF(INDEX('印刷-目標ごとの達成度(P.7-8)'!$P$94:$P$102,MATCH($Q56,'印刷-目標ごとの達成度(P.7-8)'!$O$94:$O$102,0),1)>0,1,0))*F56","v":0},{"$f":"IF($Q56=\"\",0,IF(INDEX('印刷-目標ごとの達成度(P.7-8)'!$P$94:$P$102,MATCH($Q56,'印刷-目標ごとの達成度(P.7-8)'!$O$94:$O$102,0),1)>0,1,0))*G56","v":0},{"$f":"IF($Q56=\"\",0,INDEX('印刷-目標ごとの達成度(P.7-8)'!$P$94:$P$102,MATCH($Q56,'印刷-目標ごとの達成度(P.7-8)'!$O$94:$O$102,0),1))*(F56+G56)","v":0},0,{"$f":"IF(P56=\"\",99,INDEX('印刷-目標ごとの達成度(P.7-8)'!$N$108:$N$118,MATCH(P56,'印刷-目標ごとの達成度(P.7-8)'!$O$108:$O$118,0),1))","v":99},0,0,0,0,0,0,0,0,0,0,0,0,0,0,0,0,0,0,0,0,0,0]
[null,null,null,"○","専門基礎科学Ⅱ（留学生）",null,2,null,2,null,null,null,null,null,null,null,null,null,{"$f":"IF($Q57=\"\",0,IF(INDEX('印刷-目標ごとの達成度(P.7-8)'!$P$94:$P$102,MATCH($Q57,'印刷-目標ごとの達成度(P.7-8)'!$O$94:$O$102,0),1)>0,1,0))*F57","v":0},{"$f":"IF($Q57=\"\",0,IF(INDEX('印刷-目標ごとの達成度(P.7-8)'!$P$94:$P$102,MATCH($Q57,'印刷-目標ごとの達成度(P.7-8)'!$O$94:$O$102,0),1)>0,1,0))*G57","v":0},{"$f":"IF($Q57=\"\",0,INDEX('印刷-目標ごとの達成度(P.7-8)'!$P$94:$P$102,MATCH($Q57,'印刷-目標ごとの達成度(P.7-8)'!$O$94:$O$102,0),1))*(F57+G57)","v":0},0,{"$f":"IF(P57=\"\",99,INDEX('印刷-目標ごとの達成度(P.7-8)'!$N$108:$N$118,MATCH(P57,'印刷-目標ごとの達成度(P.7-8)'!$O$108:$O$118,0),1))","v":99},0,0,0,0,0,0,0,0,0,0,0,0,0,0,0,0,0,0,0,0,0,0]
[null,"グローバル\nコミュニケーション",null,"○","Academic EnglishⅠ",2,null,2,null,null,null,null,null,null,null,null,null,null,{"$f":"IF($Q58=\"\",0,IF(INDEX('印刷-目標ごとの達成度(P.7-8)'!$P$94:$P$102,MATCH($Q58,'印刷-目標ごとの達成度(P.7-8)'!$O$94:$O$102,0),1)>0,1,0))*F58","v":0},{"$f":"IF($Q58=\"\",0,IF(INDEX('印刷-目標ごとの達成度(P.7-8)'!$P$94:$P$102,MATCH($Q58,'印刷-目標ごとの達成度(P.7-8)'!$O$94:$O$102,0),1)>0,1,0))*G58","v":0},{"$f":"IF($Q58=\"\",0,INDEX('印刷-目標ごとの達成度(P.7-8)'!$P$94:$P$102,MATCH($Q58,'印刷-目標ごとの達成度(P.7-8)'!$O$94:$O$102,0),1))*(F58+G58)","v":0},{"$f":"IF(OR(D58=\"○\",D58=\"◎\"),U58,0)","v":0},{"$f":"IF(P58=\"\",99,INDEX('印刷-目標ごとの達成度(P.7-8)'!$N$108:$N$118,MATCH(P58,'印刷-目標ごとの達成度(P.7-8)'!$O$108:$O$118,0),1))","v":99},{"$f":"IF($W58=X$5,$S58+$T58,0)","v":0},0,0,0,0,0,0,0,0,0,0,{"$f":"IF($W58=AI$5,$V58,0)","v":0},0,0,0,0,0,0,0,0,0,0]
[null,null,null,"○","Academic EnglishⅡ",2,null,null,2,null,null,null,null,null,null,null,null,null,{"$f":"IF($Q59=\"\",0,IF(INDEX('印刷-目標ごとの達成度(P.7-8)'!$P$94:$P$102,MATCH($Q59,'印刷-目標ごとの達成度(P.7-8)'!$O$94:$O$102,0),1)>0,1,0))*F59","v":0},{"$f":"IF($Q59=\"\",0,IF(INDEX('印刷-目標ごとの達成度(P.7-8)'!$P$94:$P$102,MATCH($Q59,'印刷-目標ごとの達成度(P.7-8)'!$O$94:$O$102,0),1)>0,1,0))*G59","v":0},{"$f":"IF($Q59=\"\",0,INDEX('印刷-目標ごとの達成度(P.7-8)'!$P$94:$P$102,MATCH($Q59,'印刷-目標ごとの達成度(P.7-8)'!$O$94:$O$102,0),1))*(F59+G59)","v":0},0,{"$f":"IF(P59=\"\",99,INDEX('印刷-目標ごとの達成度(P.7-8)'!$N$108:$N$118,MATCH(P59,'印刷-目標ごとの達成度(P.7-8)'!$O$108:$O$118,0),1))","v":99},0,0,0,0,0,0,0,0,0,0,0,0,0,0,0,0,0,0,0,0,0,0]
[null,null,null,"○","English SeminarⅠ",1,null,2,null,null,null,null,null,null,null,null,null,null,{"$f":"IF($Q60=\"\",0,IF(INDEX('印刷-目標ごとの達成度(P.7-8)'!$P$94:$P$102,MATCH($Q60,'印刷-目標ごとの達成度(P.7-8)'!$O$94:$O$102,0),1)>0,1,0))*F60","v":0},{"$f":"IF($Q60=\"\",0,IF(INDEX('印刷-目標ごとの達成度(P.7-8)'!$P$94:$P$102,MATCH($Q60,'印刷-目標ごとの達成度(P.7-8)'!$O$94:$O$102,0),1)>0,1,0))*G60","v":0},{"$f":"IF($Q60=\"\",0,INDEX('印刷-目標ごとの達成度(P.7-8)'!$P$94:$P$102,MATCH($Q60,'印刷-目標ごとの達成度(P.7-8)'!$O$94:$O$102,0),1))*(F60+G60)","v":0},0,{"$f":"IF(P60=\"\",99,INDEX('印刷-目標ごとの達成度(P.7-8)'!$N$108:$N$118,MATCH(P60,'印刷-目標ごとの達成度(P.7-8)'!$O$108:$O$118,0),1))","v":99},0,0,0,0,0,0,0,0,0,0,0,0,0,0,0,0,0,0,0,0,0,0]
[null,null,null,"○","English SeminarⅡ",1,null,null,2,null,null,null,null,null,null,null,null,null,{"$f":"IF($Q61=\"\",0,IF(INDEX('印刷-目標ごとの達成度(P.7-8)'!$P$94:$P$102,MATCH($Q61,'印刷-目標ごとの達成度(P.7-8)'!$O$94:$O$102,0),1)>0,1,0))*F61","v":0},{"$f":"IF($Q61=\"\",0,IF(INDEX('印刷-目標ごとの達成度(P.7-8)'!$P$94:$P$102,MATCH($Q61,'印刷-目標ごとの達成度(P.7-8)'!$O$94:$O$102,0),1)>0,1,0))*G61","v":0},{"$f":"IF($Q61=\"\",0,INDEX('印刷-目標ごとの達成度(P.7-8)'!$P$94:$P$102,MATCH($Q61,'印刷-目標ごとの達成度(P.7-8)'!$O$94:$O$102,0),1))*(F61+G61)","v":0},0,{"$f":"IF(P61=\"\",99,INDEX('印刷-目標ごとの達成度(P.7-8)'!$N$108:$N$118,MATCH(P61,'印刷-目標ごとの達成度(P.7-8)'!$O$108:$O$118,0),1))","v":99},0,0,0,0,0,0,0,0,0,0,0,0,0,0,0,0,0,0,0,0,0,0]
[null,null,null,"○","Academic EnglishⅢ",2,null,null,null,2,null,null,null,null,null,null,null,null,{"$f":"IF($Q62=\"\",0,IF(INDEX('印刷-目標ごとの達成度(P.7-8)'!$P$94:$P$102,MATCH($Q62,'印刷-目標ごとの達成度(P.7-8)'!$O$94:$O$102,0),1)>0,1,0))*F62","v":0},{"$f":"IF($Q62=\"\",0,IF(INDEX('印刷-目標ごとの達成度(P.7-8)'!$P$94:$P$102,MATCH($Q62,'印刷-目標ごとの達成度(P.7-8)'!$O$94:$O$102,0),1)>0,1,0))*G62","v":0},{"$f":"IF($Q62=\"\",0,INDEX('印刷-目標ごとの達成度(P.7-8)'!$P$94:$P$102,MATCH($Q62,'印刷-目標ごとの達成度(P.7-8)'!$O$94:$O$102,0),1))*(F62+G62)","v":0},0,{"$f":"IF(P62=\"\",99,INDEX('印刷-目標ごとの達成度(P.7-8)'!$N$108:$N$118,MATCH(P62,'印刷-目標ごとの達成度(P.7-8)'!$O$108:$O$118,0),1))","v":99},0,0,0,0,0,0,0,0,0,0,0,0,0,0,0,0,0,0,0,0,0,0]
[null,null,null,null,"Academic EnglishⅣ",null,2,null,null,null,2,null,null,null,null,null,null,null,{"$f":"IF($Q63=\"\",0,IF(INDEX('印刷-目標ごとの達成度(P.7-8)'!$P$94:$P$102,MATCH($Q63,'印刷-目標ごとの達成度(P.7-8)'!$O$94:$O$102,0),1)>0,1,0))*F63","v":0},{"$f":"IF($Q63=\"\",0,IF(INDEX('印刷-目標ごとの達成度(P.7-8)'!$P$94:$P$102,MATCH($Q63,'印刷-目標ごとの達成度(P.7-8)'!$O$94:$O$102,0),1)>0,1,0))*G63","v":0},{"$f":"IF($Q63=\"\",0,INDEX('印刷-目標ごとの達成度(P.7-8)'!$P$94:$P$102,MATCH($Q63,'印刷-目標ごとの達成度(P.7-8)'!$O$94:$O$102,0),1))*(F63+G63)","v":0},0,{"$f":"IF(P63=\"\",99,INDEX('印刷-目標ごとの達成度(P.7-8)'!$N$108:$N$118,MATCH(P63,'印刷-目標ごとの達成度(P.7-8)'!$O$108:$O$118,0),1))","v":99},0,0,0,0,0,0,0,0,0,0,0,0,0,0,0,0,0,0,0,0,0,0]
[null,null,null,null,"Global EnglishⅠ",null,1,null,null,null,null,2,null,null,null,null,null,null,{"$f":"IF($Q64=\"\",0,IF(INDEX('印刷-目標ごとの達成度(P.7-8)'!$P$94:$P$102,MATCH($Q64,'印刷-目標ごとの達成度(P.7-8)'!$O$94:$O$102,0),1)>0,1,0))*F64","v":0},{"$f":"IF($Q64=\"\",0,IF(INDEX('印刷-目標ごとの達成度(P.7-8)'!$P$94:$P$102,MATCH($Q64,'印刷-目標ごとの達成度(P.7-8)'!$O$94:$O$102,0),1)>0,1,0))*G64","v":0},{"$f":"IF($Q64=\"\",0,INDEX('印刷-目標ごとの達成度(P.7-8)'!$P$94:$P$102,MATCH($Q64,'印刷-目標ごとの達成度(P.7-8)'!$O$94:$O$102,0),1))*(F64+G64)","v":0},0,{"$f":"IF(P64=\"\",99,INDEX('印刷-目標ごとの達成度(P.7-8)'!$N$108:$N$118,MATCH(P64,'印刷-目標ごとの達成度(P.7-8)'!$O$108:$O$118,0),1))","v":99},0,0,0,0,0,0,0,0,0,0,0,0,0,0,0,0,0,0,0,0,0,0]
[null,null,null,null,"Global EnglishⅡ",null,1,null,null,null,null,null,2,null,null,null,null,null,{"$f":"IF($Q65=\"\",0,IF(INDEX('印刷-目標ごとの達成度(P.7-8)'!$P$94:$P$102,MATCH($Q65,'印刷-目標ごとの達成度(P.7-8)'!$O$94:$O$102,0),1)>0,1,0))*F65","v":0},{"$f":"IF($Q65=\"\",0,IF(INDEX('印刷-目標ごとの達成度(P.7-8)'!$P$94:$P$102,MATCH($Q65,'印刷-目標ごとの達成度(P.7-8)'!$O$94:$O$102,0),1)>0,1,0))*G65","v":0},{"$f":"IF($Q65=\"\",0,INDEX('印刷-目標ごとの達成度(P.7-8)'!$P$94:$P$102,MATCH($Q65,'印刷-目標ごとの達成度(P.7-8)'!$O$94:$O$102,0),1))*(F65+G65)","v":0},0,{"$f":"IF(P65=\"\",99,INDEX('印刷-目標ごとの達成度(P.7-8)'!$N$108:$N$118,MATCH(P65,'印刷-目標ごとの達成度(P.7-8)'!$O$108:$O$118,0),1))","v":99},0,0,0,0,0,0,0,0,0,0,0,0,0,0,0,0,0,0,0,0,0,0]
[null,null,null,null,"Global EnglishⅢ",null,1,null,null,null,null,null,null,2,null,null,null,null,{"$f":"IF($Q66=\"\",0,IF(INDEX('印刷-目標ごとの達成度(P.7-8)'!$P$94:$P$102,MATCH($Q66,'印刷-目標ごとの達成度(P.7-8)'!$O$94:$O$102,0),1)>0,1,0))*F66","v":0},{"$f":"IF($Q66=\"\",0,IF(INDEX('印刷-目標ごとの達成度(P.7-8)'!$P$94:$P$102,MATCH($Q66,'印刷-目標ごとの達成度(P.7-8)'!$O$94:$O$102,0),1)>0,1,0))*G66","v":0},{"$f":"IF($Q66=\"\",0,INDEX('印刷-目標ごとの達成度(P.7-8)'!$P$94:$P$102,MATCH($Q66,'印刷-目標ごとの達成度(P.7-8)'!$O$94:$O$102,0),1))*(F66+G66)","v":0},0,{"$f":"IF(P66=\"\",99,INDEX('印刷-目標ごとの達成度(P.7-8)'!$N$108:$N$118,MATCH(P66,'印刷-目標ごとの達成度(P.7-8)'!$O$108:$O$118,0),1))","v":99},0,0,0,0,0,0,0,0,0,0,0,0,0,0,0,0,0,0,0,0,0,0]
[null,null,null,null,"Global EnglishⅣ",null,1,null,null,null,null,null,null,null,2,null,null,null,{"$f":"IF($Q67=\"\",0,IF(INDEX('印刷-目標ごとの達成度(P.7-8)'!$P$94:$P$102,MATCH($Q67,'印刷-目標ごとの達成度(P.7-8)'!$O$94:$O$102,0),1)>0,1,0))*F67","v":0},{"$f":"IF($Q67=\"\",0,IF(INDEX('印刷-目標ごとの達成度(P.7-8)'!$P$94:$P$102,MATCH($Q67,'印刷-目標ごとの達成度(P.7-8)'!$O$94:$O$102,0),1)>0,1,0))*G67","v":0},{"$f":"IF($Q67=\"\",0,INDEX('印刷-目標ごとの達成度(P.7-8)'!$P$94:$P$102,MATCH($Q67,'印刷-目標ごとの達成度(P.7-8)'!$O$94:$O$102,0),1))*(F67+G67)","v":0},0,{"$f":"IF(P67=\"\",99,INDEX('印刷-目標ごとの達成度(P.7-8)'!$N$108:$N$118,MATCH(P67,'印刷-目標ごとの達成度(P.7-8)'!$O$108:$O$118,0),1))","v":99},0,0,0,0,0,0,0,0,0,0,0,0,0,0,0,0,0,0,0,0,0,0]
[null,"健康運動科学",null,null,"体育実技Ⅰ",1,null,2,null,null,null,null,null,null,null,null,null,null,{"$f":"IF($Q68=\"\",0,IF(INDEX('印刷-目標ごとの達成度(P.7-8)'!$P$94:$P$102,MATCH($Q68,'印刷-目標ごとの達成度(P.7-8)'!$O$94:$O$102,0),1)>0,1,0))*F68","v":0},{"$f":"IF($Q68=\"\",0,IF(INDEX('印刷-目標ごとの達成度(P.7-8)'!$P$94:$P$102,MATCH($Q68,'印刷-目標ごとの達成度(P.7-8)'!$O$94:$O$102,0),1)>0,1,0))*G68","v":0},{"$f":"IF($Q68=\"\",0,INDEX('印刷-目標ごとの達成度(P.7-8)'!$P$94:$P$102,MATCH($Q68,'印刷-目標ごとの達成度(P.7-8)'!$O$94:$O$102,0),1))*(F68+G68)","v":0},0,{"$f":"IF(P68=\"\",99,INDEX('印刷-目標ごとの達成度(P.7-8)'!$N$108:$N$118,MATCH(P68,'印刷-目標ごとの達成度(P.7-8)'!$O$108:$O$118,0),1))","v":99},0,0,0,0,0,0,0,0,0,0,0,0,0,0,0,0,0,0,0,0,0,0]
[null,null,null,null,"体育実技Ⅱ",null,1,null,2,null,null,null,null,null,null,null,null,null,{"$f":"IF($Q69=\"\",0,IF(INDEX('印刷-目標ごとの達成度(P.7-8)'!$P$94:$P$102,MATCH($Q69,'印刷-目標ごとの達成度(P.7-8)'!$O$94:$O$102,0),1)>0,1,0))*F69","v":0},{"$f":"IF($Q69=\"\",0,IF(INDEX('印刷-目標ごとの達成度(P.7-8)'!$P$94:$P$102,MATCH($Q69,'印刷-目標ごとの達成度(P.7-8)'!$O$94:$O$102,0),1)>0,1,0))*G69","v":0},{"$f":"IF($Q69=\"\",0,INDEX('印刷-目標ごとの達成度(P.7-8)'!$P$94:$P$102,MATCH($Q69,'印刷-目標ごとの達成度(P.7-8)'!$O$94:$O$102,0),1))*(F69+G69)","v":0},0,{"$f":"IF(P69=\"\",99,INDEX('印刷-目標ごとの達成度(P.7-8)'!$N$108:$N$118,MATCH(P69,'印刷-目標ごとの達成度(P.7-8)'!$O$108:$O$118,0),1))","v":99},0,0,0,0,0,0,0,0,0,0,0,0,0,0,0,0,0,0,0,0,0,0]
[null,null,null,null,"健康運動科学演習A",null,1,2,null,null,null,null,null,null,null,null,null,null,{"$f":"IF($Q70=\"\",0,IF(INDEX('印刷-目標ごとの達成度(P.7-8)'!$P$94:$P$102,MATCH($Q70,'印刷-目標ごとの達成度(P.7-8)'!$O$94:$O$102,0),1)>0,1,0))*F70","v":0},{"$f":"IF($Q70=\"\",0,IF(INDEX('印刷-目標ごとの達成度(P.7-8)'!$P$94:$P$102,MATCH($Q70,'印刷-目標ごとの達成度(P.7-8)'!$O$94:$O$102,0),1)>0,1,0))*G70","v":0},{"$f":"IF($Q70=\"\",0,INDEX('印刷-目標ごとの達成度(P.7-8)'!$P$94:$P$102,MATCH($Q70,'印刷-目標ごとの達成度(P.7-8)'!$O$94:$O$102,0),1))*(F70+G70)","v":0},0,{"$f":"IF(P70=\"\",99,INDEX('印刷-目標ごとの達成度(P.7-8)'!$N$108:$N$118,MATCH(P70,'印刷-目標ごとの達成度(P.7-8)'!$O$108:$O$118,0),1))","v":99},0,0,0,0,0,0,0,0,0,0,0,0,0,0,0,0,0,0,0,0,0,0]
[null,null,null,null,"健康運動科学演習B",null,1,null,2,null,null,null,null,null,null,null,null,null,{"$f":"IF($Q71=\"\",0,IF(INDEX('印刷-目標ごとの達成度(P.7-8)'!$P$94:$P$102,MATCH($Q71,'印刷-目標ごとの達成度(P.7-8)'!$O$94:$O$102,0),1)>0,1,0))*F71","v":0},{"$f":"IF($Q71=\"\",0,IF(INDEX('印刷-目標ごとの達成度(P.7-8)'!$P$94:$P$102,MATCH($Q71,'印刷-目標ごとの達成度(P.7-8)'!$O$94:$O$102,0),1)>0,1,0))*G71","v":0},{"$f":"IF($Q71=\"\",0,INDEX('印刷-目標ごとの達成度(P.7-8)'!$P$94:$P$102,MATCH($Q71,'印刷-目標ごとの達成度(P.7-8)'!$O$94:$O$102,0),1))*(F71+G71)","v":0},0,{"$f":"IF(P71=\"\",99,INDEX('印刷-目標ごとの達成度(P.7-8)'!$N$108:$N$118,MATCH(P71,'印刷-目標ごとの達成度(P.7-8)'!$O$108:$O$118,0),1))","v":99},0,0,0,0,0,0,0,0,0,0,0,0,0,0,0,0,0,0,0,0,0,0]
[null,"工学コア教育科目","キャリア形成",null,"フレッシュマンセミナー",1,null,2,null,null,null,null,null,null,null,null,null,null,{"$f":"IF($Q72=\"\",0,IF(INDEX('印刷-目標ごとの達成度(P.7-8)'!$P$94:$P$102,MATCH($Q72,'印刷-目標ごとの達成度(P.7-8)'!$O$94:$O$102,0),1)>0,1,0))*F72","v":0},{"$f":"IF($Q72=\"\",0,IF(INDEX('印刷-目標ごとの達成度(P.7-8)'!$P$94:$P$102,MATCH($Q72,'印刷-目標ごとの達成度(P.7-8)'!$O$94:$O$102,0),1)>0,1,0))*G72","v":0},{"$f":"IF($Q72=\"\",0,INDEX('印刷-目標ごとの達成度(P.7-8)'!$P$94:$P$102,MATCH($Q72,'印刷-目標ごとの達成度(P.7-8)'!$O$94:$O$102,0),1))*(F72+G72)","v":0},{"$f":"IF(OR(D72=\"○\",D72=\"◎\"),U72,0)","v":0},{"$f":"IF(P72=\"\",99,INDEX('印刷-目標ごとの達成度(P.7-8)'!$N$108:$N$118,MATCH(P72,'印刷-目標ごとの達成度(P.7-8)'!$O$108:$O$118,0),1))","v":99},0,0,0,0,0,0,0,0,0,0,0,0,0,0,0,0,0,0,0,0,0,0]
[null,null,null,"○","産業論",1,null,null,null,null,2,null,null,null,null,null,null,null,{"$f":"IF($Q73=\"\",0,IF(INDEX('印刷-目標ごとの達成度(P.7-8)'!$P$94:$P$102,MATCH($Q73,'印刷-目標ごとの達成度(P.7-8)'!$O$94:$O$102,0),1)>0,1,0))*F73","v":0},{"$f":"IF($Q73=\"\",0,IF(INDEX('印刷-目標ごとの達成度(P.7-8)'!$P$94:$P$102,MATCH($Q73,'印刷-目標ごとの達成度(P.7-8)'!$O$94:$O$102,0),1)>0,1,0))*G73","v":0},{"$f":"IF($Q73=\"\",0,INDEX('印刷-目標ごとの達成度(P.7-8)'!$P$94:$P$102,MATCH($Q73,'印刷-目標ごとの達成度(P.7-8)'!$O$94:$O$102,0),1))*(F73+G73)","v":0},0,{"$f":"IF(P73=\"\",99,INDEX('印刷-目標ごとの達成度(P.7-8)'!$N$108:$N$118,MATCH(P73,'印刷-目標ごとの達成度(P.7-8)'!$O$108:$O$118,0),1))","v":99},0,0,0,0,0,0,0,0,0,0,0,0,0,0,0,0,0,0,0,0,0,0]
[null,null,null,null,"キャリア・コミュニケーション論",null,2,null,null,null,2,2,null,null,null,null,null,null,{"$f":"IF($Q74=\"\",0,IF(INDEX('印刷-目標ごとの達成度(P.7-8)'!$P$94:$P$102,MATCH($Q74,'印刷-目標ごとの達成度(P.7-8)'!$O$94:$O$102,0),1)>0,1,0))*F74","v":0},{"$f":"IF($Q74=\"\",0,IF(INDEX('印刷-目標ごとの達成度(P.7-8)'!$P$94:$P$102,MATCH($Q74,'印刷-目標ごとの達成度(P.7-8)'!$O$94:$O$102,0),1)>0,1,0))*G74","v":0},{"$f":"IF($Q74=\"\",0,INDEX('印刷-目標ごとの達成度(P.7-8)'!$P$94:$P$102,MATCH($Q74,'印刷-目標ごとの達成度(P.7-8)'!$O$94:$O$102,0),1))*(F74+G74)","v":0},0,{"$f":"IF(P74=\"\",99,INDEX('印刷-目標ごとの達成度(P.7-8)'!$N$108:$N$118,MATCH(P74,'印刷-目標ごとの達成度(P.7-8)'!$O$108:$O$118,0),1))","v":99},{"$f":"IF($W74=X$5,$S74+$T74,0)","v":0},0,0,0,0,0,0,0,0,0,0,{"$f":"IF($W74=AI$5,$V74,0)","v":0},0,0,0,0,0,0,0,0,0,0]
[null,null,null,null,"キャリアデザイン",null,2,null,null,null,null,2,null,null,null,null,null,null,{"$f":"IF($Q75=\"\",0,IF(INDEX('印刷-目標ごとの達成度(P.7-8)'!$P$94:$P$102,MATCH($Q75,'印刷-目標ごとの達成度(P.7-8)'!$O$94:$O$102,0),1)>0,1,0))*F75","v":0},{"$f":"IF($Q75=\"\",0,IF(INDEX('印刷-目標ごとの達成度(P.7-8)'!$P$94:$P$102,MATCH($Q75,'印刷-目標ごとの達成度(P.7-8)'!$O$94:$O$102,0),1)>0,1,0))*G75","v":0},{"$f":"IF($Q75=\"\",0,INDEX('印刷-目標ごとの達成度(P.7-8)'!$P$94:$P$102,MATCH($Q75,'印刷-目標ごとの達成度(P.7-8)'!$O$94:$O$102,0),1))*(F75+G75)","v":0},0,{"$f":"IF(P75=\"\",99,INDEX('印刷-目標ごとの達成度(P.7-8)'!$N$108:$N$118,MATCH(P75,'印刷-目標ごとの達成度(P.7-8)'!$O$108:$O$118,0),1))","v":99},0,0,0,0,0,0,0,0,0,0,0,0,0,0,0,0,0,0,0,0,0,0]
[null,null,null,null,"労働者管理基礎論",null,2,null,null,null,null,2,null,null,null,null,null,null,{"$f":"IF($Q76=\"\",0,IF(INDEX('印刷-目標ごとの達成度(P.7-8)'!$P$94:$P$102,MATCH($Q76,'印刷-目標ごとの達成度(P.7-8)'!$O$94:$O$102,0),1)>0,1,0))*F76","v":0},{"$f":"IF($Q76=\"\",0,IF(INDEX('印刷-目標ごとの達成度(P.7-8)'!$P$94:$P$102,MATCH($Q76,'印刷-目標ごとの達成度(P.7-8)'!$O$94:$O$102,0),1)>0,1,0))*G76","v":0},{"$f":"IF($Q76=\"\",0,INDEX('印刷-目標ごとの達成度(P.7-8)'!$P$94:$P$102,MATCH($Q76,'印刷-目標ごとの達成度(P.7-8)'!$O$94:$O$102,0),1))*(F76+G76)","v":0},0,{"$f":"IF(P76=\"\",99,INDEX('印刷-目標ごとの達成度(P.7-8)'!$N$108:$N$118,MATCH(P76,'印刷-目標ごとの達成度(P.7-8)'!$O$108:$O$118,0),1))","v":99},0,0,0,0,0,0,0,0,0,0,0,0,0,0,0,0,0,0,0,0,0,0]
[null,null,null,null,"ダイバーシティ概論",null,2,null,null,null,null,2,null,null,null,null,null,null,{"$f":"IF($Q77=\"\",0,IF(INDEX('印刷-目標ごとの達成度(P.7-8)'!$P$94:$P$102,MATCH($Q77,'印刷-目標ごとの達成度(P.7-8)'!$O$94:$O$102,0),1)>0,1,0))*F77","v":0},{"$f":"IF($Q77=\"\",0,IF(INDEX('印刷-目標ごとの達成度(P.7-8)'!$P$94:$P$102,MATCH($Q77,'印刷-目標ごとの達成度(P.7-8)'!$O$94:$O$102,0),1)>0,1,0))*G77","v":0},{"$f":"IF($Q77=\"\",0,INDEX('印刷-目標ごとの達成度(P.7-8)'!$P$94:$P$102,MATCH($Q77,'印刷-目標ごとの達成度(P.7-8)'!$O$94:$O$102,0),1))*(F77+G77)","v":0},0,{"$f":"IF(P77=\"\",99,INDEX('印刷-目標ごとの達成度(P.7-8)'!$N$108:$N$118,MATCH(P77,'印刷-目標ごとの達成度(P.7-8)'!$O$108:$O$118,0),1))","v":99},0,0,0,0,0,0,0,0,0,0,0,0,0,0,0,0,0,0,0,0,0,0]
[null,null,null,null,"組織とマネジメント",null,2,null,null,null,null,2,null,null,null,null,null,null,{"$f":"IF($Q78=\"\",0,IF(INDEX('印刷-目標ごとの達成度(P.7-8)'!$P$94:$P$102,MATCH($Q78,'印刷-目標ごとの達成度(P.7-8)'!$O$94:$O$102,0),1)>0,1,0))*F78","v":0},{"$f":"IF($Q78=\"\",0,IF(INDEX('印刷-目標ごとの達成度(P.7-8)'!$P$94:$P$102,MATCH($Q78,'印刷-目標ごとの達成度(P.7-8)'!$O$94:$O$102,0),1)>0,1,0))*G78","v":0},{"$f":"IF($Q78=\"\",0,INDEX('印刷-目標ごとの達成度(P.7-8)'!$P$94:$P$102,MATCH($Q78,'印刷-目標ごとの達成度(P.7-8)'!$O$94:$O$102,0),1))*(F78+G78)","v":0},0,{"$f":"IF(P78=\"\",99,INDEX('印刷-目標ごとの達成度(P.7-8)'!$N$108:$N$118,MATCH(P78,'印刷-目標ごとの達成度(P.7-8)'!$O$108:$O$118,0),1))","v":99},0,0,0,0,0,0,0,0,0,0,0,0,0,0,0,0,0,0,0,0,0,0]
[null,null,"経営リテラシー",null,"金融学",null,2,null,null,null,null,2,2,null,null,null,null,null,{"$f":"IF($Q79=\"\",0,IF(INDEX('印刷-目標ごとの達成度(P.7-8)'!$P$94:$P$102,MATCH($Q79,'印刷-目標ごとの達成度(P.7-8)'!$O$94:$O$102,0),1)>0,1,0))*F79","v":0},{"$f":"IF($Q79=\"\",0,IF(INDEX('印刷-目標ごとの達成度(P.7-8)'!$P$94:$P$102,MATCH($Q79,'印刷-目標ごとの達成度(P.7-8)'!$O$94:$O$102,0),1)>0,1,0))*G79","v":0},{"$f":"IF($Q79=\"\",0,INDEX('印刷-目標ごとの達成度(P.7-8)'!$P$94:$P$102,MATCH($Q79,'印刷-目標ごとの達成度(P.7-8)'!$O$94:$O$102,0),1))*(F79+G79)","v":0},0,{"$f":"IF(P79=\"\",99,INDEX('印刷-目標ごとの達成度(P.7-8)'!$N$108:$N$118,MATCH(P79,'印刷-目標ごとの達成度(P.7-8)'!$O$108:$O$118,0),1))","v":99},0,0,0,0,0,0,0,0,0,0,0,0,0,0,0,0,0,0,0,0,0,0]
[null,null,null,null,"法工学",null,2,null,null,null,null,null,null,null,null,null,null,null,{"$f":"IF($Q80=\"\",0,IF(INDEX('印刷-目標ごとの達成度(P.7-8)'!$P$94:$P$102,MATCH($Q80,'印刷-目標ごとの達成度(P.7-8)'!$O$94:$O$102,0),1)>0,1,0))*F80","v":0},{"$f":"IF($Q80=\"\",0,IF(INDEX('印刷-目標ごとの達成度(P.7-8)'!$P$94:$P$102,MATCH($Q80,'印刷-目標ごとの達成度(P.7-8)'!$O$94:$O$102,0),1)>0,1,0))*G80","v":0},{"$f":"IF($Q80=\"\",0,INDEX('印刷-目標ごとの達成度(P.7-8)'!$P$94:$P$102,MATCH($Q80,'印刷-目標ごとの達成度(P.7-8)'!$O$94:$O$102,0),1))*(F80+G80)","v":0},0,{"$f":"IF(P80=\"\",99,INDEX('印刷-目標ごとの達成度(P.7-8)'!$N$108:$N$118,MATCH(P80,'印刷-目標ごとの達成度(P.7-8)'!$O$108:$O$118,0),1))","v":99},0,0,0,0,0,0,0,0,0,0,0,0,0,0,0,0,0,0,0,0,0,0]
[null,null,null,null,"知的財産権",null,2,null,null,null,null,null,null,null,null,null,null,null,{"$f":"IF($Q81=\"\",0,IF(INDEX('印刷-目標ごとの達成度(P.7-8)'!$P$94:$P$102,MATCH($Q81,'印刷-目標ごとの達成度(P.7-8)'!$O$94:$O$102,0),1)>0,1,0))*F81","v":0},{"$f":"IF($Q81=\"\",0,IF(INDEX('印刷-目標ごとの達成度(P.7-8)'!$P$94:$P$102,MATCH($Q81,'印刷-目標ごとの達成度(P.7-8)'!$O$94:$O$102,0),1)>0,1,0))*G81","v":0},{"$f":"IF($Q81=\"\",0,INDEX('印刷-目標ごとの達成度(P.7-8)'!$P$94:$P$102,MATCH($Q81,'印刷-目標ごとの達成度(P.7-8)'!$O$94:$O$102,0),1))*(F81+G81)","v":0},0,{"$f":"IF(P81=\"\",99,INDEX('印刷-目標ごとの達成度(P.7-8)'!$N$108:$N$118,MATCH(P81,'印刷-目標ごとの達成度(P.7-8)'!$O$108:$O$118,0),1))","v":99},0,0,0,0,0,0,0,0,0,0,0,0,0,0,0,0,0,0,0,0,0,0]
[null,null,null,null,"マーケティング",null,2,null,null,null,null,null,null,null,null,null,null,null,{"$f":"IF($Q82=\"\",0,IF(INDEX('印刷-目標ごとの達成度(P.7-8)'!$P$94:$P$102,MATCH($Q82,'印刷-目標ごとの達成度(P.7-8)'!$O$94:$O$102,0),1)>0,1,0))*F82","v":0},{"$f":"IF($Q82=\"\",0,IF(INDEX('印刷-目標ごとの達成度(P.7-8)'!$P$94:$P$102,MATCH($Q82,'印刷-目標ごとの達成度(P.7-8)'!$O$94:$O$102,0),1)>0,1,0))*G82","v":0},{"$f":"IF($Q82=\"\",0,INDEX('印刷-目標ごとの達成度(P.7-8)'!$P$94:$P$102,MATCH($Q82,'印刷-目標ごとの達成度(P.7-8)'!$O$94:$O$102,0),1))*(F82+G82)","v":0},0,{"$f":"IF(P82=\"\",99,INDEX('印刷-目標ごとの達成度(P.7-8)'!$N$108:$N$118,MATCH(P82,'印刷-目標ごとの達成度(P.7-8)'!$O$108:$O$118,0),1))","v":99},0,0,0,0,0,0,0,0,0,0,0,0,0,0,0,0,0,0,0,0,0,0]
[null,null,null,null,"経営戦略",null,2,null,null,null,null,null,null,null,null,null,null,null,{"$f":"IF($Q83=\"\",0,IF(INDEX('印刷-目標ごとの達成度(P.7-8)'!$P$94:$P$102,MATCH($Q83,'印刷-目標ごとの達成度(P.7-8)'!$O$94:$O$102,0),1)>0,1,0))*F83","v":0},{"$f":"IF($Q83=\"\",0,IF(INDEX('印刷-目標ごとの達成度(P.7-8)'!$P$94:$P$102,MATCH($Q83,'印刷-目標ごとの達成度(P.7-8)'!$O$94:$O$102,0),1)>0,1,0))*G83","v":0},{"$f":"IF($Q83=\"\",0,INDEX('印刷-目標ごとの達成度(P.7-8)'!$P$94:$P$102,MATCH($Q83,'印刷-目標ごとの達成度(P.7-8)'!$O$94:$O$102,0),1))*(F83+G83)","v":0},0,{"$f":"IF(P83=\"\",99,INDEX('印刷-目標ごとの達成度(P.7-8)'!$N$108:$N$118,MATCH(P83,'印刷-目標ごとの達成度(P.7-8)'!$O$108:$O$118,0),1))","v":99},0,0,0,0,0,0,0,0,0,0,0,0,0,0,0,0,0,0,0,0,0,0]
[null,null,null,null,"政策科学",null,2,null,null,null,null,null,null,null,null,null,null,null,{"$f":"IF($Q84=\"\",0,IF(INDEX('印刷-目標ごとの達成度(P.7-8)'!$P$94:$P$102,MATCH($Q84,'印刷-目標ごとの達成度(P.7-8)'!$O$94:$O$102,0),1)>0,1,0))*F84","v":0},{"$f":"IF($Q84=\"\",0,IF(INDEX('印刷-目標ごとの達成度(P.7-8)'!$P$94:$P$102,MATCH($Q84,'印刷-目標ごとの達成度(P.7-8)'!$O$94:$O$102,0),1)>0,1,0))*G84","v":0},{"$f":"IF($Q84=\"\",0,INDEX('印刷-目標ごとの達成度(P.7-8)'!$P$94:$P$102,MATCH($Q84,'印刷-目標ごとの達成度(P.7-8)'!$O$94:$O$102,0),1))*(F84+G84)","v":0},0,{"$f":"IF(P84=\"\",99,INDEX('印刷-目標ごとの達成度(P.7-8)'!$N$108:$N$118,MATCH(P84,'印刷-目標ごとの達成度(P.7-8)'!$O$108:$O$118,0),1))","v":99},0,0,0,0,0,0,0,0,0,0,0,0,0,0,0,0,0,0,0,0,0,0]
[null,null,null,null,"会計学",null,2,null,null,null,null,null,null,null,null,null,null,null,{"$f":"IF($Q85=\"\",0,IF(INDEX('印刷-目標ごとの達成度(P.7-8)'!$P$94:$P$102,MATCH($Q85,'印刷-目標ごとの達成度(P.7-8)'!$O$94:$O$102,0),1)>0,1,0))*F85","v":0},{"$f":"IF($Q85=\"\",0,IF(INDEX('印刷-目標ごとの達成度(P.7-8)'!$P$94:$P$102,MATCH($Q85,'印刷-目標ごとの達成度(P.7-8)'!$O$94:$O$102,0),1)>0,1,0))*G85","v":0},{"$f":"IF($Q85=\"\",0,INDEX('印刷-目標ごとの達成度(P.7-8)'!$P$94:$P$102,MATCH($Q85,'印刷-目標ごとの達成度(P.7-8)'!$O$94:$O$102,0),1))*(F85+G85)","v":0},{"$f":"IF(OR(D85=\"○\",D85=\"◎\"),U85,0)","v":0},{"$f":"IF(P85=\"\",99,INDEX('印刷-目標ごとの達成度(P.7-8)'!$N$108:$N$118,MATCH(P85,'印刷-目標ごとの達成度(P.7-8)'!$O$108:$O$118,0),1))","v":99},{"$f":"IF($W85=X$5,$S85+$T85,0)","v":0},0,0,0,0,0,0,0,0,0,0,{"$f":"IF($W85=AI$5,$V85,0)","v":0},0,0,0,0,0,0,0,0,0,0]
[null,null,null,null,"管理工学",null,2,null,null,null,null,null,null,null,null,null,null,null,{"$f":"IF($Q86=\"\",0,IF(INDEX('印刷-目標ごとの達成度(P.7-8)'!$P$94:$P$102,MATCH($Q86,'印刷-目標ごとの達成度(P.7-8)'!$O$94:$O$102,0),1)>0,1,0))*F86","v":0},{"$f":"IF($Q86=\"\",0,IF(INDEX('印刷-目標ごとの達成度(P.7-8)'!$P$94:$P$102,MATCH($Q86,'印刷-目標ごとの達成度(P.7-8)'!$O$94:$O$102,0),1)>0,1,0))*G86","v":0},{"$f":"IF($Q86=\"\",0,INDEX('印刷-目標ごとの達成度(P.7-8)'!$P$94:$P$102,MATCH($Q86,'印刷-目標ごとの達成度(P.7-8)'!$O$94:$O$102,0),1))*(F86+G86)","v":0},0,{"$f":"IF(P86=\"\",99,INDEX('印刷-目標ごとの達成度(P.7-8)'!$N$108:$N$118,MATCH(P86,'印刷-目標ごとの達成度(P.7-8)'!$O$108:$O$118,0),1))","v":99},0,0,0,0,0,0,0,0,0,0,0,0,0,0,0,0,0,0,0,0,0,0]
[null,null,null,null,"リーダーシップ",null,2,null,null,null,null,null,null,null,null,null,null,null,{"$f":"IF($Q87=\"\",0,IF(INDEX('印刷-目標ごとの達成度(P.7-8)'!$P$94:$P$102,MATCH($Q87,'印刷-目標ごとの達成度(P.7-8)'!$O$94:$O$102,0),1)>0,1,0))*F87","v":0},{"$f":"IF($Q87=\"\",0,IF(INDEX('印刷-目標ごとの達成度(P.7-8)'!$P$94:$P$102,MATCH($Q87,'印刷-目標ごとの達成度(P.7-8)'!$O$94:$O$102,0),1)>0,1,0))*G87","v":0},{"$f":"IF($Q87=\"\",0,INDEX('印刷-目標ごとの達成度(P.7-8)'!$P$94:$P$102,MATCH($Q87,'印刷-目標ごとの達成度(P.7-8)'!$O$94:$O$102,0),1))*(F87+G87)","v":0},0,{"$f":"IF(P87=\"\",99,INDEX('印刷-目標ごとの達成度(P.7-8)'!$N$108:$N$118,MATCH(P87,'印刷-目標ごとの達成度(P.7-8)'!$O$108:$O$118,0),1))","v":99},0,0,0,0,0,0,0,0,0,0,0,0,0,0,0,0,0,0,0,0,0,0]
[null,null,null,null,"持続環境学",null,2,null,null,null,null,null,null,null,null,null,null,null,{"$f":"IF($Q88=\"\",0,IF(INDEX('印刷-目標ごとの達成度(P.7-8)'!$P$94:$P$102,MATCH($Q88,'印刷-目標ごとの達成度(P.7-8)'!$O$94:$O$102,0),1)>0,1,0))*F88","v":0},{"$f":"IF($Q88=\"\",0,IF(INDEX('印刷-目標ごとの達成度(P.7-8)'!$P$94:$P$102,MATCH($Q88,'印刷-目標ごとの達成度(P.7-8)'!$O$94:$O$102,0),1)>0,1,0))*G88","v":0},{"$f":"IF($Q88=\"\",0,INDEX('印刷-目標ごとの達成度(P.7-8)'!$P$94:$P$102,MATCH($Q88,'印刷-目標ごとの達成度(P.7-8)'!$O$94:$O$102,0),1))*(F88+G88)","v":0},0,{"$f":"IF(P88=\"\",99,INDEX('印刷-目標ごとの達成度(P.7-8)'!$N$108:$N$118,MATCH(P88,'印刷-目標ごとの達成度(P.7-8)'!$O$108:$O$118,0),1))","v":99},0,0,0,0,0,0,0,0,0,0,0,0,0,0,0,0,0,0,0,0,0,0]
[null,null,"情報数理","◯","数理情報概論",2,null,null,2,null,null,null,null,null,null,null,null,null,{"$f":"IF($Q89=\"\",0,IF(INDEX('印刷-目標ごとの達成度(P.7-8)'!$P$94:$P$102,MATCH($Q89,'印刷-目標ごとの達成度(P.7-8)'!$O$94:$O$102,0),1)>0,1,0))*F89","v":0},{"$f":"IF($Q89=\"\",0,IF(INDEX('印刷-目標ごとの達成度(P.7-8)'!$P$94:$P$102,MATCH($Q89,'印刷-目標ごとの達成度(P.7-8)'!$O$94:$O$102,0),1)>0,1,0))*G89","v":0},{"$f":"IF($Q89=\"\",0,INDEX('印刷-目標ごとの達成度(P.7-8)'!$P$94:$P$102,MATCH($Q89,'印刷-目標ごとの達成度(P.7-8)'!$O$94:$O$102,0),1))*(F89+G89)","v":0},{"$f":"IF(OR(D89=\"○\",D89=\"◎\"),U89,0)","v":0},{"$f":"IF(P89=\"\",99,INDEX('印刷-目標ごとの達成度(P.7-8)'!$N$108:$N$118,MATCH(P89,'印刷-目標ごとの達成度(P.7-8)'!$O$108:$O$118,0),1))","v":99},{"$f":"IF($W89=X$5,$S89+$T89,0)","v":0},0,0,0,0,0,0,0,0,0,0,{"$f":"IF($W89=AI$5,$V89,0)","v":0},0,0,0,0,0,0,0,0,0,0]
[null,null,"工学デザイン - 工学分野方法論",null,"工学方法論（環境都市方法論以外）",null,1,null,null,2,null,null,null,null,null,null,null,null,{"$f":"IF($Q90=\"\",0,IF(INDEX('印刷-目標ごとの達成度(P.7-8)'!$P$94:$P$102,MATCH($Q90,'印刷-目標ごとの達成度(P.7-8)'!$O$94:$O$102,0),1)>0,1,0))*F90","v":0},{"$f":"IF($Q90=\"\",0,IF(INDEX('印刷-目標ごとの達成度(P.7-8)'!$P$94:$P$102,MATCH($Q90,'印刷-目標ごとの達成度(P.7-8)'!$O$94:$O$102,0),1)>0,1,0))*G90","v":0},{"$f":"IF($Q90=\"\",0,INDEX('印刷-目標ごとの達成度(P.7-8)'!$P$94:$P$102,MATCH($Q90,'印刷-目標ごとの達成度(P.7-8)'!$O$94:$O$102,0),1))*(F90+G90)","v":0},0,{"$f":"IF(P90=\"\",99,INDEX('印刷-目標ごとの達成度(P.7-8)'!$N$108:$N$118,MATCH(P90,'印刷-目標ごとの達成度(P.7-8)'!$O$108:$O$118,0),1))","v":99},0,0,0,0,0,0,0,0,0,0,0,0,0,0,0,0,0,0,0,0,0,0]
[null,null,"工学デザイン - 創造方法論",null,"ものづくりとデザイン",null,2,null,null,2,null,null,null,null,null,null,null,null,{"$f":"IF($Q91=\"\",0,IF(INDEX('印刷-目標ごとの達成度(P.7-8)'!$P$94:$P$102,MATCH($Q91,'印刷-目標ごとの達成度(P.7-8)'!$O$94:$O$102,0),1)>0,1,0))*F91","v":0},{"$f":"IF($Q91=\"\",0,IF(INDEX('印刷-目標ごとの達成度(P.7-8)'!$P$94:$P$102,MATCH($Q91,'印刷-目標ごとの達成度(P.7-8)'!$O$94:$O$102,0),1)>0,1,0))*G91","v":0},{"$f":"IF($Q91=\"\",0,INDEX('印刷-目標ごとの達成度(P.7-8)'!$P$94:$P$102,MATCH($Q91,'印刷-目標ごとの達成度(P.7-8)'!$O$94:$O$102,0),1))*(F91+G91)","v":0},0,{"$f":"IF(P91=\"\",99,INDEX('印刷-目標ごとの達成度(P.7-8)'!$N$108:$N$118,MATCH(P91,'印刷-目標ごとの達成度(P.7-8)'!$O$108:$O$118,0),1))","v":99},0,0,0,0,0,0,0,0,0,0,0,0,0,0,0,0,0,0,0,0,0,0]
[null,null,null,null,"実践問題解決",null,1,null,null,2,null,null,null,null,null,null,null,null,{"$f":"IF($Q92=\"\",0,IF(INDEX('印刷-目標ごとの達成度(P.7-8)'!$P$94:$P$102,MATCH($Q92,'印刷-目標ごとの達成度(P.7-8)'!$O$94:$O$102,0),1)>0,1,0))*F92","v":0},{"$f":"IF($Q92=\"\",0,IF(INDEX('印刷-目標ごとの達成度(P.7-8)'!$P$94:$P$102,MATCH($Q92,'印刷-目標ごとの達成度(P.7-8)'!$O$94:$O$102,0),1)>0,1,0))*G92","v":0},{"$f":"IF($Q92=\"\",0,INDEX('印刷-目標ごとの達成度(P.7-8)'!$P$94:$P$102,MATCH($Q92,'印刷-目標ごとの達成度(P.7-8)'!$O$94:$O$102,0),1))*(F92+G92)","v":0},0,{"$f":"IF(P92=\"\",99,INDEX('印刷-目標ごとの達成度(P.7-8)'!$N$108:$N$118,MATCH(P92,'印刷-目標ごとの達成度(P.7-8)'!$O$108:$O$118,0),1))","v":99},0,0,0,0,0,0,0,0,0,0,0,0,0,0,0,0,0,0,0,0,0,0]
[null,null,null,null,"価値創造論",null,2,null,null,null,null,2,null,null,null,null,null,null,{"$f":"IF($Q93=\"\",0,IF(INDEX('印刷-目標ごとの達成度(P.7-8)'!$P$94:$P$102,MATCH($Q93,'印刷-目標ごとの達成度(P.7-8)'!$O$94:$O$102,0),1)>0,1,0))*F93","v":0},{"$f":"IF($Q93=\"\",0,IF(INDEX('印刷-目標ごとの達成度(P.7-8)'!$P$94:$P$102,MATCH($Q93,'印刷-目標ごとの達成度(P.7-8)'!$O$94:$O$102,0),1)>0,1,0))*G93","v":0},{"$f":"IF($Q93=\"\",0,INDEX('印刷-目標ごとの達成度(P.7-8)'!$P$94:$P$102,MATCH($Q93,'印刷-目標ごとの達成度(P.7-8)'!$O$94:$O$102,0),1))*(F93+G93)","v":0},0,{"$f":"IF(P93=\"\",99,INDEX('印刷-目標ごとの達成度(P.7-8)'!$N$108:$N$118,MATCH(P93,'印刷-目標ごとの達成度(P.7-8)'!$O$108:$O$118,0),1))","v":99},0,0,0,0,0,0,0,0,0,0,0,0,0,0,0,0,0,0,0,0,0,0]
[null,null,null,null,null,null,null,null,null,null,null,null,null,null,null,null,null,null,{"$f":"SUM(S6:S93)","v":0},{"$f":"SUM(T6:T93)","v":0},{"$f":"SUM(U6:U93)","v":0},{"$f":"SUM(V6:V93)","v":0},null,{"$f":"SUM($X6:X93)","v":0},{"$f":"SUM($X6:Y93)","v":0},{"$f":"SUM($X6:Z93)","v":0},{"$f":"SUM($X6:AA93)","v":0},{"$f":"SUM($X6:AB93)","v":0},{"$f":"SUM($X6:AC93)","v":0},{"$f":"SUM($X6:AD93)","v":0},{"$f":"SUM($X6:AE93)","v":0},{"$f":"SUM($X6:AF93)","v":0},{"$f":"SUM($X6:AG93)","v":0},{"$f":"SUM($X6:AH93)","v":0},{"$f":"SUM($AI6:AI93)","v":0},{"$f":"SUM($AI6:AJ93)","v":0},{"$f":"SUM($AI6:AK93)","v":0},{"$f":"SUM($AI6:AL93)","v":0},{"$f":"SUM($AI6:AM93)","v":0},{"$f":"SUM($AI6:AN93)","v":0},{"$f":"SUM($AI6:AO93)","v":0},{"$f":"SUM($AI6:AP93)","v":0},{"$f":"SUM($AI6:AQ93)","v":0},{"$f":"SUM($AI6:AR93)","v":0},{"$f":"SUM($AI6:AS93)","v":0}]

{"sheet":"専門科目","index":1,"n_rows":51,"n_cols":43,"rows_kept":51,"cut":false,"hidden":false,"merged":[[2,14,4,14],[0,3,0,15],[1,3,1,15],[3,10,3,11],[24,2,35,2],[2,15,4,15],[5,2,9,2],[3,12,3,13],[36,2,47,2],[5,1,49,1],[10,2,23,2],[2,6,2,13],[2,1,4,2],[2,3,4,3],[2,4,3,5],[3,6,3,7],[3,8,3,9]]}
[null,null,null,"専門科目チェックシート"]
[null,null,null,"黄色背景の成績欄をドロップダウンリストによって入力すること\nバグや不具合があれば，クラス担当まで連絡すること"]
[null,"区分",null,"授業科目名\n（すべて土木GPT対応科目）","単位数",null,"毎週授業時間数",null,null,null,null,null,null,null,"単位取得\n年度・学期","成績"]
[null,null,null,null,null,null,"1年次",null,"2年次",null,"3年次",null,"4年次"]
[null,null,null,null,"必修","選択","前期","後期","前期","後期","前期","後期","前期","後期",null,null,null,"必修単位","選択単位","GP","学期",1,2,3,4,5,6,7,8,9,10,11,1,2,3,4,5,6,7,8,9,10,11]
[null,"専門教育科目","学科共通科目","社会工学概論",2,null,2,null,null,null,null,null,null,null,null,null,null,{"$f":"IF($P6=\"\",0,IF(INDEX('印刷-目標ごとの達成度(P.7-8)'!$P$94:$P$102,MATCH($P6,'印刷-目標ごとの達成度(P.7-8)'!$O$94:$O$102,0),1)>0,1,0))*E6","v":0},{"$f":"IF($P6=\"\",0,IF(INDEX('印刷-目標ごとの達成度(P.7-8)'!$P$94:$P$102,MATCH($P6,'印刷-目標ごとの達成度(P.7-8)'!$O$94:$O$102,0),1)>0,1,0))*F6","v":0},{"$f":"IF($P6=\"\",0,INDEX('印刷-目標ごとの達成度(P.7-8)'!$P$94:$P$102,MATCH($P6,'印刷-目標ごとの達成度(P.7-8)'!$O$94:$O$102,0),1))*(E6+F6)","v":0},{"$f":"IF(O6=\"\",99,INDEX('印刷-目標ごとの達成度(P.7-8)'!$N$108:$N$118,MATCH(O6,'印刷-目標ごとの達成度(P.7-8)'!$O$108:$O$118,0),1))","v":99},{"$f":"IF($U6=V$5,$R6+$S6,0)","v":0},{"$f":"IF($U6=W$5,$R6+$S6,0)","v":0},0,0,0,0,0,0,0,0,0,{"$f":"IF($U6=AG$5,$T6,0)","v":0},{"$f":"IF($U6=AH$5,$T6,0)","v":0},0,0,0,0,0,0,0,0,0]
[null,null,null,"社会工学基礎Ⅰ",2,null,2,null,null,null,null,null,null,null,null,null,null,{"$f":"IF($P7=\"\",0,IF(INDEX('印刷-目標ごとの達成度(P.7-8)'!$P$94:$P$102,MATCH($P7,'印刷-目標ごとの達成度(P.7-8)'!$O$94:$O$102,0),1)>0,1,0))*E7","v":0},{"$f":"IF($P7=\"\",0,IF(INDEX('印刷-目標ごとの達成度(P.7-8)'!$P$94:$P$102,MATCH($P7,'印刷-目標ごとの達成度(P.7-8)'!$O$94:$O$102,0),1)>0,1,0))*F7","v":0},{"$f":"IF($P7=\"\",0,INDEX('印刷-目標ごとの達成度(P.7-8)'!$P$94:$P$102,MATCH($P7,'印刷-目標ごとの達成度(P.7-8)'!$O$94:$O$102,0),1))*(E7+F7)","v":0},{"$f":"IF(O7=\"\",99,INDEX('印刷-目標ごとの達成度(P.7-8)'!$N$108:$N$118,MATCH(O7,'印刷-目標ごとの達成度(P.7-8)'!$O$108:$O$118,0),1))","v":99},{"$f":"IF($U7=V$5,$R7+$S7,0)","v":0},0,0,0,0,0,0,0,0,0,0,{"$f":"IF($U7=AG$5,$T7,0)","v":0},0,0,0,0,0,0,0,0,0,0]
[null,null,null,"社会工学基礎Ⅱ",2,null,null,2,null,null,null,null,null,null,null,null,null,{"$f":"IF($P8=\"\",0,IF(INDEX('印刷-目標ごとの達成度(P.7-8)'!$P$94:$P$102,MATCH($P8,'印刷-目標ごとの達成度(P.7-8)'!$O$94:$O$102,0),1)>0,1,0))*E8","v":0},{"$f":"IF($P8=\"\",0,IF(INDEX('印刷-目標ごとの達成度(P.7-8)'!$P$94:$P$102,MATCH($P8,'印刷-目標ごとの達成度(P.7-8)'!$O$94:$O$102,0),1)>0,1,0))*F8","v":0},{"$f":"IF($P8=\"\",0,INDEX('印刷-目標ごとの達成度(P.7-8)'!$P$94:$P$102,MATCH($P8,'印刷-目標ごとの達成度(P.7-8)'!$O$94:$O$102,0),1))*(E8+F8)","v":0},{"$f":"IF(O8=\"\",99,INDEX('印刷-目標ごとの達成度(P.7-8)'!$N$108:$N$118,MATCH(O8,'印刷-目標ごとの達成度(P.7-8)'!$O$108:$O$118,0),1))","v":99},0,0,0,0,0,0,0,0,0,0,0,0,0,0,0,0,0,0,0,0,0,0]
[null,null,null,"社会工学基礎Ⅲ",2,null,null,2,null,null,null,null,null,null,null,null,null,{"$f":"IF($P9=\"\",0,IF(INDEX('印刷-目標ごとの達成度(P.7-8)'!$P$94:$P$102,MATCH($P9,'印刷-目標ごとの達成度(P.7-8)'!$O$94:$O$102,0),1)>0,1,0))*E9","v":0},{"$f":"IF($P9=\"\",0,IF(INDEX('印刷-目標ごとの達成度(P.7-8)'!$P$94:$P$102,MATCH($P9,'印刷-目標ごとの達成度(P.7-8)'!$O$94:$O$102,0),1)>0,1,0))*F9","v":0},{"$f":"IF($P9=\"\",0,INDEX('印刷-目標ごとの達成度(P.7-8)'!$P$94:$P$102,MATCH($P9,'印刷-目標ごとの達成度(P.7-8)'!$O$94:$O$102,0),1))*(E9+F9)","v":0},{"$f":"IF(O9=\"\",99,INDEX('印刷-目標ごとの達成度(P.7-8)'!$N$108:$N$118,MATCH(O9,'印刷-目標ごとの達成度(P.7-8)'!$O$108:$O$118,0),1))","v":99},0,0,0,0,0,0,0,0,0,0,0,0,0,0,0,0,0,0,0,0,0,0]
[null,null,null,"社会工学基礎Ⅳ",2,null,null,2,null,null,null,null,null,null,null,null,null,{"$f":"IF($P10=\"\",0,IF(INDEX('印刷-目標ごとの達成度(P.7-8)'!$P$94:$P$102,MATCH($P10,'印刷-目標ごとの達成度(P.7-8)'!$O$94:$O$102,0),1)>0,1,0))*E10","v":0},{"$f":"IF($P10=\"\",0,IF(INDEX('印刷-目標ごとの達成度(P.7-8)'!$P$94:$P$102,MATCH($P10,'印刷-目標ごとの達成度(P.7-8)'!$O$94:$O$102,0),1)>0,1,0))*F10","v":0},{"$f":"IF($P10=\"\",0,INDEX('印刷-目標ごとの達成度(P.7-8)'!$P$94:$P$102,MATCH($P10,'印刷-目標ごとの達成度(P.7-8)'!$O$94:$O$102,0),1))*(E10+F10)","v":0},{"$f":"IF(O10=\"\",99,INDEX('印刷-目標ごとの達成度(P.7-8)'!$N$108:$N$118,MATCH(O10,'印刷-目標ごとの達成度(P.7-8)'!$O$108:$O$118,0),1))","v":99},0,0,0,0,0,0,0,0,0,0,0,0,0,0,0,0,0,0,0,0,0,0]
[null,null,"基盤科目","測量学",2,null,2,null,null,null,null,null,null,null,null,null,null,{"$f":"IF($P11=\"\",0,IF(INDEX('印刷-目標ごとの達成度(P.7-8)'!$P$94:$P$102,MATCH($P11,'印刷-目標ごとの達成度(P.7-8)'!$O$94:$O$102,0),1)>0,1,0))*E11","v":0},{"$f":"IF($P11=\"\",0,IF(INDEX('印刷-目標ごとの達成度(P.7-8)'!$P$94:$P$102,MATCH($P11,'印刷-目標ごとの達成度(P.7-8)'!$O$94:$O$102,0),1)>0,1,0))*F11","v":0},{"$f":"IF($P11=\"\",0,INDEX('印刷-目標ごとの達成度(P.7-8)'!$P$94:$P$102,MATCH($P11,'印刷-目標ごとの達成度(P.7-8)'!$O$94:$O$102,0),1))*(E11+F11)","v":0},{"$f":"IF(O11=\"\",99,INDEX('印刷-目標ごとの達成度(P.7-8)'!$N$108:$N$118,MATCH(O11,'印刷-目標ごとの達成度(P.7-8)'!$O$108:$O$118,0),1))","v":99},0,0,0,0,0,0,0,0,0,0,0,0,0,0,0,0,0,0,0,0,0,0]
[null,null,null,"環境水理学Ⅰ",2,null,null,null,2,null,null,null,null,null,null,null,null,{"$f":"IF($P12=\"\",0,IF(INDEX('印刷-目標ごとの達成度(P.7-8)'!$P$94:$P$102,MATCH($P12,'印刷-目標ごとの達成度(P.7-8)'!$O$94:$O$102,0),1)>0,1,0))*E12","v":0},{"$f":"IF($P12=\"\",0,IF(INDEX('印刷-目標ごとの達成度(P.7-8)'!$P$94:$P$102,MATCH($P12,'印刷-目標ごとの達成度(P.7-8)'!$O$94:$O$102,0),1)>0,1,0))*F12","v":0},{"$f":"IF($P12=\"\",0,INDEX('印刷-目標ごとの達成度(P.7-8)'!$P$94:$P$102,MATCH($P12,'印刷-目標ごとの達成度(P.7-8)'!$O$94:$O$102,0),1))*(E12+F12)","v":0},{"$f":"IF(O12=\"\",99,INDEX('印刷-目標ごとの達成度(P.7-8)'!$N$108:$N$118,MATCH(O12,'印刷-目標ごとの達成度(P.7-8)'!$O$108:$O$118,0),1))","v":99},0,0,0,0,0,0,0,0,0,0,0,0,0,0,0,0,0,0,0,0,0,0]
[null,null,null,"環境生態学",2,null,null,null,2,null,null,null,null,null,null,null,null,{"$f":"IF($P13=\"\",0,IF(INDEX('印刷-目標ごとの達成度(P.7-8)'!$P$94:$P$102,MATCH($P13,'印刷-目標ごとの達成度(P.7-8)'!$O$94:$O$102,0),1)>0,1,0))*E13","v":0},{"$f":"IF($P13=\"\",0,IF(INDEX('印刷-目標ごとの達成度(P.7-8)'!$P$94:$P$102,MATCH($P13,'印刷-目標ごとの達成度(P.7-8)'!$O$94:$O$102,0),1)>0,1,0))*F13","v":0},{"$f":"IF($P13=\"\",0,INDEX('印刷-目標ごとの達成度(P.7-8)'!$P$94:$P$102,MATCH($P13,'印刷-目標ごとの達成度(P.7-8)'!$O$94:$O$102,0),1))*(E13+F13)","v":0},{"$f":"IF(O13=\"\",99,INDEX('印刷-目標ごとの達成度(P.7-8)'!$N$108:$N$118,MATCH(O13,'印刷-目標ごとの達成度(P.7-8)'!$O$108:$O$118,0),1))","v":99},0,0,0,0,0,0,0,0,0,0,0,0,0,0,0,0,0,0,0,0,0,0]
[null,null,null,"構造力学Ⅰ",2,null,null,null,2,null,null,null,null,null,null,null,null,{"$f":"IF($P14=\"\",0,IF(INDEX('印刷-目標ごとの達成度(P.7-8)'!$P$94:$P$102,MATCH($P14,'印刷-目標ごとの達成度(P.7-8)'!$O$94:$O$102,0),1)>0,1,0))*E14","v":0},{"$f":"IF($P14=\"\",0,IF(INDEX('印刷-目標ごとの達成度(P.7-8)'!$P$94:$P$102,MATCH($P14,'印刷-目標ごとの達成度(P.7-8)'!$O$94:$O$102,0),1)>0,1,0))*F14","v":0},{"$f":"IF($P14=\"\",0,INDEX('印刷-目標ごとの達成度(P.7-8)'!$P$94:$P$102,MATCH($P14,'印刷-目標ごとの達成度(P.7-8)'!$O$94:$O$102,0),1))*(E14+F14)","v":0},{"$f":"IF(O14=\"\",99,INDEX('印刷-目標ごとの達成度(P.7-8)'!$N$108:$N$118,MATCH(O14,'印刷-目標ごとの達成度(P.7-8)'!$O$108:$O$118,0),1))","v":99},0,0,0,0,0,0,0,0,0,0,0,0,0,0,0,0,0,0,0,0,0,0]
[null,null,null,"構築材質学",2,null,null,null,2,null,null,null,null,null,null,null,null,{"$f":"IF($P15=\"\",0,IF(INDEX('印刷-目標ごとの達成度(P.7-8)'!$P$94:$P$102,MATCH($P15,'印刷-目標ごとの達成度(P.7-8)'!$O$94:$O$102,0),1)>0,1,0))*E15","v":0},{"$f":"IF($P15=\"\",0,IF(INDEX('印刷-目標ごとの達成度(P.7-8)'!$P$94:$P$102,MATCH($P15,'印刷-目標ごとの達成度(P.7-8)'!$O$94:$O$102,0),1)>0,1,0))*F15","v":0},{"$f":"IF($P15=\"\",0,INDEX('印刷-目標ごとの達成度(P.7-8)'!$P$94:$P$102,MATCH($P15,'印刷-目標ごとの達成度(P.7-8)'!$O$94:$O$102,0),1))*(E15+F15)","v":0},{"$f":"IF(O15=\"\",99,INDEX('印刷-目標ごとの達成度(P.7-8)'!$N$108:$N$118,MATCH(O15,'印刷-目標ごとの達成度(P.7-8)'!$O$108:$O$118,0),1))","v":99},0,0,0,0,0,0,0,0,0,0,0,0,0,0,0,0,0,0,0,0,0,0]
[null,null,null,"地盤力学",2,null,null,null,2,null,null,null,null,null,null,null,null,{"$f":"IF($P16=\"\",0,IF(INDEX('印刷-目標ごとの達成度(P.7-8)'!$P$94:$P$102,MATCH($P16,'印刷-目標ごとの達成度(P.7-8)'!$O$94:$O$102,0),1)>0,1,0))*E16","v":0},{"$f":"IF($P16=\"\",0,IF(INDEX('印刷-目標ごとの達成度(P.7-8)'!$P$94:$P$102,MATCH($P16,'印刷-目標ごとの達成度(P.7-8)'!$O$94:$O$102,0),1)>0,1,0))*F16","v":0},{"$f":"IF($P16=\"\",0,INDEX('印刷-目標ごとの達成度(P.7-8)'!$P$94:$P$102,MATCH($P16,'印刷-目標ごとの達成度(P.7-8)'!$O$94:$O$102,0),1))*(E16+F16)","v":0},{"$f":"IF(O16=\"\",99,INDEX('印刷-目標ごとの達成度(P.7-8)'!$N$108:$N$118,MATCH(O16,'印刷-目標ごとの達成度(P.7-8)'!$O$108:$O$118,0),1))","v":99},0,0,0,0,0,0,0,0,0,0,0,0,0,0,0,0,0,0,0,0,0,0]
[null,null,null,"社会基盤計画学",2,null,null,null,2,null,null,null,null,null,null,null,null,{"$f":"IF($P17=\"\",0,IF(INDEX('印刷-目標ごとの達成度(P.7-8)'!$P$94:$P$102,MATCH($P17,'印刷-目標ごとの達成度(P.7-8)'!$O$94:$O$102,0),1)>0,1,0))*E17","v":0},{"$f":"IF($P17=\"\",0,IF(INDEX('印刷-目標ごとの達成度(P.7-8)'!$P$94:$P$102,MATCH($P17,'印刷-目標ごとの達成度(P.7-8)'!$O$94:$O$102,0),1)>0,1,0))*F17","v":0},{"$f":"IF($P17=\"\",0,INDEX('印刷-目標ごとの達成度(P.7-8)'!$P$94:$P$102,MATCH($P17,'印刷-目標ごとの達成度(P.7-8)'!$O$94:$O$102,0),1))*(E17+F17)","v":0},{"$f":"IF(O17=\"\",99,INDEX('印刷-目標ごとの達成度(P.7-8)'!$N$108:$N$118,MATCH(O17,'印刷-目標ごとの達成度(P.7-8)'!$O$108:$O$118,0),1))","v":99},0,0,0,0,0,0,0,0,0,0,0,0,0,0,0,0,0,0,0,0,0,0]
[null,null,null,"環境水理学Ⅱ",2,null,null,null,null,2,null,null,null,null,null,null,null,{"$f":"IF($P18=\"\",0,IF(INDEX('印刷-目標ごとの達成度(P.7-8)'!$P$94:$P$102,MATCH($P18,'印刷-目標ごとの達成度(P.7-8)'!$O$94:$O$102,0),1)>0,1,0))*E18","v":0},{"$f":"IF($P18=\"\",0,IF(INDEX('印刷-目標ごとの達成度(P.7-8)'!$P$94:$P$102,MATCH($P18,'印刷-目標ごとの達成度(P.7-8)'!$O$94:$O$102,0),1)>0,1,0))*F18","v":0},{"$f":"IF($P18=\"\",0,INDEX('印刷-目標ごとの達成度(P.7-8)'!$P$94:$P$102,MATCH($P18,'印刷-目標ごとの達成度(P.7-8)'!$O$94:$O$102,0),1))*(E18+F18)","v":0},{"$f":"IF(O18=\"\",99,INDEX('印刷-目標ごとの達成度(P.7-8)'!$N$108:$N$118,MATCH(O18,'印刷-目標ごとの達成度(P.7-8)'!$O$108:$O$118,0),1))","v":99},0,0,0,0,0,0,0,0,0,0,0,0,0,0,0,0,0,0,0,0,0,0]
[null,null,null,"構造力学Ⅱ",2,null,null,null,null,2,null,null,null,null,null,null,null,{"$f":"IF($P19=\"\",0,IF(INDEX('印刷-目標ごとの達成度(P.7-8)'!$P$94:$P$102,MATCH($P19,'印刷-目標ごとの達成度(P.7-8)'!$O$94:$O$102,0),1)>0,1,0))*E19","v":0},{"$f":"IF($P19=\"\",0,IF(INDEX('印刷-目標ごとの達成度(P.7-8)'!$P$94:$P$102,MATCH($P19,'印刷-目標ごとの達成度(P.7-8)'!$O$94:$O$102,0),1)>0,1,0))*F19","v":0},{"$f":"IF($P19=\"\",0,INDEX('印刷-目標ごとの達成度(P.7-8)'!$P$94:$P$102,MATCH($P19,'印刷-目標ごとの達成度(P.7-8)'!$O$94:$O$102,0),1))*(E19+F19)","v":0},{"$f":"IF(O19=\"\",99,INDEX('印刷-目標ごとの達成度(P.7-8)'!$N$108:$N$118,MATCH(O19,'印刷-目標ごとの達成度(P.7-8)'!$O$108:$O$118,0),1))","v":99},0,0,0,0,0,0,0,0,0,0,0,0,0,0,0,0,0,0,0,0,0,0]
[null,null,null,"コンクリート構造学",2,null,null,null,null,2,null,null,null,null,null,null,null,{"$f":"IF($P20=\"\",0,IF(INDEX('印刷-目標ごとの達成度(P.7-8)'!$P$94:$P$102,MATCH($P20,'印刷-目標ごとの達成度(P.7-8)'!$O$94:$O$102,0),1)>0,1,0))*E20","v":0},{"$f":"IF($P20=\"\",0,IF(INDEX('印刷-目標ごとの達成度(P.7-8)'!$P$94:$P$102,MATCH($P20,'印刷-目標ごとの達成度(P.7-8)'!$O$94:$O$102,0),1)>0,1,0))*F20","v":0},{"$f":"IF($P20=\"\",0,INDEX('印刷-目標ごとの達成度(P.7-8)'!$P$94:$P$102,MATCH($P20,'印刷-目標ごとの達成度(P.7-8)'!$O$94:$O$102,0),1))*(E20+F20)","v":0},{"$f":"IF(O20=\"\",99,INDEX('印刷-目標ごとの達成度(P.7-8)'!$N$108:$N$118,MATCH(O20,'印刷-目標ごとの達成度(P.7-8)'!$O$108:$O$118,0),1))","v":99},0,0,0,0,0,0,0,0,0,0,0,0,0,0,0,0,0,0,0,0,0,0]
[null,null,null,"地盤解析学",2,null,null,null,null,2,null,null,null,null,null,null,null,{"$f":"IF($P21=\"\",0,IF(INDEX('印刷-目標ごとの達成度(P.7-8)'!$P$94:$P$102,MATCH($P21,'印刷-目標ごとの達成度(P.7-8)'!$O$94:$O$102,0),1)>0,1,0))*E21","v":0},{"$f":"IF($P21=\"\",0,IF(INDEX('印刷-目標ごとの達成度(P.7-8)'!$P$94:$P$102,MATCH($P21,'印刷-目標ごとの達成度(P.7-8)'!$O$94:$O$102,0),1)>0,1,0))*F21","v":0},{"$f":"IF($P21=\"\",0,INDEX('印刷-目標ごとの達成度(P.7-8)'!$P$94:$P$102,MATCH($P21,'印刷-目標ごとの達成度(P.7-8)'!$O$94:$O$102,0),1))*(E21+F21)","v":0},{"$f":"IF(O21=\"\",99,INDEX('印刷-目標ごとの達成度(P.7-8)'!$N$108:$N$118,MATCH(O21,'印刷-目標ごとの達成度(P.7-8)'!$O$108:$O$118,0),1))","v":99},0,0,0,0,0,0,0,0,0,0,0,0,0,0,0,0,0,0,0,0,0,0]
[null,null,null,"環境都市技術者倫理",2,null,null,null,null,null,2,null,null,null,null,null,null,{"$f":"IF($P22=\"\",0,IF(INDEX('印刷-目標ごとの達成度(P.7-8)'!$P$94:$P$102,MATCH($P22,'印刷-目標ごとの達成度(P.7-8)'!$O$94:$O$102,0),1)>0,1,0))*E22","v":0},{"$f":"IF($P22=\"\",0,IF(INDEX('印刷-目標ごとの達成度(P.7-8)'!$P$94:$P$102,MATCH($P22,'印刷-目標ごとの達成度(P.7-8)'!$O$94:$O$102,0),1)>0,1,0))*F22","v":0},{"$f":"IF($P22=\"\",0,INDEX('印刷-目標ごとの達成度(P.7-8)'!$P$94:$P$102,MATCH($P22,'印刷-目標ごとの達成度(P.7-8)'!$O$94:$O$102,0),1))*(E22+F22)","v":0},{"$f":"IF(O22=\"\",99,INDEX('印刷-目標ごとの達成度(P.7-8)'!$N$108:$N$118,MATCH(O22,'印刷-目標ごとの達成度(P.7-8)'!$O$108:$O$118,0),1))","v":99},0,0,0,0,0,0,0,0,0,0,0,0,0,0,0,0,0,0,0,0,0,0]
[null,null,null,"構造シミュレーション",2,null,null,null,null,null,2,null,null,null,null,null,null,{"$f":"IF($P23=\"\",0,IF(INDEX('印刷-目標ごとの達成度(P.7-8)'!$P$94:$P$102,MATCH($P23,'印刷-目標ごとの達成度(P.7-8)'!$O$94:$O$102,0),1)>0,1,0))*E23","v":0},{"$f":"IF($P23=\"\",0,IF(INDEX('印刷-目標ごとの達成度(P.7-8)'!$P$94:$P$102,MATCH($P23,'印刷-目標ごとの達成度(P.7-8)'!$O$94:$O$102,0),1)>0,1,0))*F23","v":0},{"$f":"IF($P23=\"\",0,INDEX('印刷-目標ごとの達成度(P.7-8)'!$P$94:$P$102,MATCH($P23,'印刷-目標ごとの達成度(P.7-8)'!$O$94:$O$102,0),1))*(E23+F23)","v":0},{"$f":"IF(O23=\"\",99,INDEX('印刷-目標ごとの達成度(P.7-8)'!$N$108:$N$118,MATCH(O23,'印刷-目標ごとの達成度(P.7-8)'!$O$108:$O$118,0),1))","v":99},{"$f":"IF($U23=V$5,$R23+$S23,0)","v":0},0,0,0,0,0,0,0,0,0,0,{"$f":"IF($U23=AG$5,$T23,0)","v":0},0,0,0,0,0,0,0,0,0,0]
[null,null,null,"交通環境計画学",2,null,null,null,null,null,2,null,null,null,null,null,null,{"$f":"IF($P24=\"\",0,IF(INDEX('印刷-目標ごとの達成度(P.7-8)'!$P$94:$P$102,MATCH($P24,'印刷-目標ごとの達成度(P.7-8)'!$O$94:$O$102,0),1)>0,1,0))*E24","v":0},{"$f":"IF($P24=\"\",0,IF(INDEX('印刷-目標ごとの達成度(P.7-8)'!$P$94:$P$102,MATCH($P24,'印刷-目標ごとの達成度(P.7-8)'!$O$94:$O$102,0),1)>0,1,0))*F24","v":0},{"$f":"IF($P24=\"\",0,INDEX('印刷-目標ごとの達成度(P.7-8)'!$P$94:$P$102,MATCH($P24,'印刷-目標ごとの達成度(P.7-8)'!$O$94:$O$102,0),1))*(E24+F24)","v":0},{"$f":"IF(O24=\"\",99,INDEX('印刷-目標ごとの達成度(P.7-8)'!$N$108:$N$118,MATCH(O24,'印刷-目標ごとの達成度(P.7-8)'!$O$108:$O$118,0),1))","v":99},0,0,0,0,0,0,0,0,0,0,0,0,0,0,0,0,0,0,0,0,0,0]
[null,null,"展開科目","維持管理工学",null,2,null,null,null,null,2,null,null,null,null,null,null,{"$f":"IF($P25=\"\",0,IF(INDEX('印刷-目標ごとの達成度(P.7-8)'!$P$94:$P$102,MATCH($P25,'印刷-目標ごとの達成度(P.7-8)'!$O$94:$O$102,0),1)>0,1,0))*E25","v":0},{"$f":"IF($P25=\"\",0,IF(INDEX('印刷-目標ごとの達成度(P.7-8)'!$P$94:$P$102,MATCH($P25,'印刷-目標ごとの達成度(P.7-8)'!$O$94:$O$102,0),1)>0,1,0))*F25","v":0},{"$f":"IF($P25=\"\",0,INDEX('印刷-目標ごとの達成度(P.7-8)'!$P$94:$P$102,MATCH($P25,'印刷-目標ごとの達成度(P.7-8)'!$O$94:$O$102,0),1))*(E25+F25)","v":0},{"$f":"IF(O25=\"\",99,INDEX('印刷-目標ごとの達成度(P.7-8)'!$N$108:$N$118,MATCH(O25,'印刷-目標ごとの達成度(P.7-8)'!$O$108:$O$118,0),1))","v":99},0,0,0,0,0,0,0,0,0,0,0,0,0,0,0,0,0,0,0,0,0,0]
[null,null,null,"環境地盤工学",null,2,null,null,null,null,2,null,null,null,null,null,null,{"$f":"IF($P26=\"\",0,IF(INDEX('印刷-目標ごとの達成度(P.7-8)'!$P$94:$P$102,MATCH($P26,'印刷-目標ごとの達成度(P.7-8)'!$O$94:$O$102,0),1)>0,1,0))*E26","v":0},{"$f":"IF($P26=\"\",0,IF(INDEX('印刷-目標ごとの達成度(P.7-8)'!$P$94:$P$102,MATCH($P26,'印刷-目標ごとの達成度(P.7-8)'!$O$94:$O$102,0),1)>0,1,0))*F26","v":0},{"$f":"IF($P26=\"\",0,INDEX('印刷-目標ごとの達成度(P.7-8)'!$P$94:$P$102,MATCH($P26,'印刷-目標ごとの達成度(P.7-8)'!$O$94:$O$102,0),1))*(E26+F26)","v":0},{"$f":"IF(O26=\"\",99,INDEX('印刷-目標ごとの達成度(P.7-8)'!$N$108:$N$118,MATCH(O26,'印刷-目標ごとの達成度(P.7-8)'!$O$108:$O$118,0),1))","v":99},0,0,0,0,0,0,0,0,0,0,0,0,0,0,0,0,0,0,0,0,0,0]
[null,null,null,"構造設計学",null,2,null,null,null,null,2,null,null,null,null,null,null,{"$f":"IF($P27=\"\",0,IF(INDEX('印刷-目標ごとの達成度(P.7-8)'!$P$94:$P$102,MATCH($P27,'印刷-目標ごとの達成度(P.7-8)'!$O$94:$O$102,0),1)>0,1,0))*E27","v":0},{"$f":"IF($P27=\"\",0,IF(INDEX('印刷-目標ごとの達成度(P.7-8)'!$P$94:$P$102,MATCH($P27,'印刷-目標ごとの達成度(P.7-8)'!$O$94:$O$102,0),1)>0,1,0))*F27","v":0},{"$f":"IF($P27=\"\",0,INDEX('印刷-目標ごとの達成度(P.7-8)'!$P$94:$P$102,MATCH($P27,'印刷-目標ごとの達成度(P.7-8)'!$O$94:$O$102,0),1))*(E27+F27)","v":0},{"$f":"IF(O27=\"\",99,INDEX('印刷-目標ごとの達成度(P.7-8)'!$N$108:$N$118,MATCH(O27,'印刷-目標ごとの達成度(P.7-8)'!$O$108:$O$118,0),1))","v":99},0,0,0,0,0,0,0,0,0,0,0,0,0,0,0,0,0,0,0,0,0,0]
[null,null,null,"都市・地域計画学",null,2,null,null,null,null,2,null,null,null,null,null,null,{"$f":"IF($P28=\"\",0,IF(INDEX('印刷-目標ごとの達成度(P.7-8)'!$P$94:$P$102,MATCH($P28,'印刷-目標ごとの達成度(P.7-8)'!$O$94:$O$102,0),1)>0,1,0))*E28","v":0},{"$f":"IF($P28=\"\",0,IF(INDEX('印刷-目標ごとの達成度(P.7-8)'!$P$94:$P$102,MATCH($P28,'印刷-目標ごとの達成度(P.7-8)'!$O$94:$O$102,0),1)>0,1,0))*F28","v":0},{"$f":"IF($P28=\"\",0,INDEX('印刷-目標ごとの達成度(P.7-8)'!$P$94:$P$102,MATCH($P28,'印刷-目標ごとの達成度(P.7-8)'!$O$94:$O$102,0),1))*(E28+F28)","v":0},{"$f":"IF(O28=\"\",99,INDEX('印刷-目標ごとの達成度(P.7-8)'!$N$108:$N$118,MATCH(O28,'印刷-目標ごとの達成度(P.7-8)'!$O$108:$O$118,0),1))","v":99},0,0,0,0,0,0,0,0,0,0,0,0,0,0,0,0,0,0,0,0,0,0]
[null,null,null,"防災地質学",null,2,null,null,null,null,2,null,null,null,null,null,null,{"$f":"IF($P29=\"\",0,IF(INDEX('印刷-目標ごとの達成度(P.7-8)'!$P$94:$P$102,MATCH($P29,'印刷-目標ごとの達成度(P.7-8)'!$O$94:$O$102,0),1)>0,1,0))*E29","v":0},{"$f":"IF($P29=\"\",0,IF(INDEX('印刷-目標ごとの達成度(P.7-8)'!$P$94:$P$102,MATCH($P29,'印刷-目標ごとの達成度(P.7-8)'!$O$94:$O$102,0),1)>0,1,0))*F29","v":0},{"$f":"IF($P29=\"\",0,INDEX('印刷-目標ごとの達成度(P.7-8)'!$P$94:$P$102,MATCH($P29,'印刷-目標ごとの達成度(P.7-8)'!$O$94:$O$102,0),1))*(E29+F29)","v":0},{"$f":"IF(O29=\"\",99,INDEX('印刷-目標ごとの達成度(P.7-8)'!$N$108:$N$118,MATCH(O29,'印刷-目標ごとの達成度(P.7-8)'!$O$108:$O$118,0),1))","v":99},0,0,0,0,0,0,0,0,0,0,0,0,0,0,0,0,0,0,0,0,0,0]
[null,null,null,"水域防災工学",null,2,null,null,null,null,2,null,null,null,null,null,null,{"$f":"IF($P30=\"\",0,IF(INDEX('印刷-目標ごとの達成度(P.7-8)'!$P$94:$P$102,MATCH($P30,'印刷-目標ごとの達成度(P.7-8)'!$O$94:$O$102,0),1)>0,1,0))*E30","v":0},{"$f":"IF($P30=\"\",0,IF(INDEX('印刷-目標ごとの達成度(P.7-8)'!$P$94:$P$102,MATCH($P30,'印刷-目標ごとの達成度(P.7-8)'!$O$94:$O$102,0),1)>0,1,0))*F30","v":0},{"$f":"IF($P30=\"\",0,INDEX('印刷-目標ごとの達成度(P.7-8)'!$P$94:$P$102,MATCH($P30,'印刷-目標ごとの達成度(P.7-8)'!$O$94:$O$102,0),1))*(E30+F30)","v":0},{"$f":"IF(O30=\"\",99,INDEX('印刷-目標ごとの達成度(P.7-8)'!$N$108:$N$118,MATCH(O30,'印刷-目標ごとの達成度(P.7-8)'!$O$108:$O$118,0),1))","v":99},0,0,0,0,0,0,0,0,0,0,0,0,0,0,0,0,0,0,0,0,0,0]
[null,null,null,"建設マネジメント",null,2,null,null,null,null,null,2,null,null,null,null,null,{"$f":"IF($P31=\"\",0,IF(INDEX('印刷-目標ごとの達成度(P.7-8)'!$P$94:$P$102,MATCH($P31,'印刷-目標ごとの達成度(P.7-8)'!$O$94:$O$102,0),1)>0,1,0))*E31","v":0},{"$f":"IF($P31=\"\",0,IF(INDEX('印刷-目標ごとの達成度(P.7-8)'!$P$94:$P$102,MATCH($P31,'印刷-目標ごとの達成度(P.7-8)'!$O$94:$O$102,0),1)>0,1,0))*F31","v":0},{"$f":"IF($P31=\"\",0,INDEX('印刷-目標ごとの達成度(P.7-8)'!$P$94:$P$102,MATCH($P31,'印刷-目標ごとの達成度(P.7-8)'!$O$94:$O$102,0),1))*(E31+F31)","v":0},{"$f":"IF(O31=\"\",99,INDEX('印刷-目標ごとの達成度(P.7-8)'!$N$108:$N$118,MATCH(O31,'印刷-目標ごとの達成度(P.7-8)'!$O$108:$O$118,0),1))","v":99},0,0,0,0,0,0,0,0,0,0,0,0,0,0,0,0,0,0,0,0,0,0]
[null,null,null,"交通システム工学",null,2,null,null,null,null,null,2,null,null,null,null,null,{"$f":"IF($P32=\"\",0,IF(INDEX('印刷-目標ごとの達成度(P.7-8)'!$P$94:$P$102,MATCH($P32,'印刷-目標ごとの達成度(P.7-8)'!$O$94:$O$102,0),1)>0,1,0))*E32","v":0},{"$f":"IF($P32=\"\",0,IF(INDEX('印刷-目標ごとの達成度(P.7-8)'!$P$94:$P$102,MATCH($P32,'印刷-目標ごとの達成度(P.7-8)'!$O$94:$O$102,0),1)>0,1,0))*F32","v":0},{"$f":"IF($P32=\"\",0,INDEX('印刷-目標ごとの達成度(P.7-8)'!$P$94:$P$102,MATCH($P32,'印刷-目標ごとの達成度(P.7-8)'!$O$94:$O$102,0),1))*(E32+F32)","v":0},{"$f":"IF(O32=\"\",99,INDEX('印刷-目標ごとの達成度(P.7-8)'!$N$108:$N$118,MATCH(O32,'印刷-目標ごとの達成度(P.7-8)'!$O$108:$O$118,0),1))","v":99},0,0,0,0,0,0,0,0,0,0,0,0,0,0,0,0,0,0,0,0,0,0]
[null,null,null,"地震リスク工学",null,2,null,null,null,null,null,2,null,null,null,null,null,{"$f":"IF($P33=\"\",0,IF(INDEX('印刷-目標ごとの達成度(P.7-8)'!$P$94:$P$102,MATCH($P33,'印刷-目標ごとの達成度(P.7-8)'!$O$94:$O$102,0),1)>0,1,0))*E33","v":0},{"$f":"IF($P33=\"\",0,IF(INDEX('印刷-目標ごとの達成度(P.7-8)'!$P$94:$P$102,MATCH($P33,'印刷-目標ごとの達成度(P.7-8)'!$O$94:$O$102,0),1)>0,1,0))*F33","v":0},{"$f":"IF($P33=\"\",0,INDEX('印刷-目標ごとの達成度(P.7-8)'!$P$94:$P$102,MATCH($P33,'印刷-目標ごとの達成度(P.7-8)'!$O$94:$O$102,0),1))*(E33+F33)","v":0},{"$f":"IF(O33=\"\",99,INDEX('印刷-目標ごとの達成度(P.7-8)'!$N$108:$N$118,MATCH(O33,'印刷-目標ごとの達成度(P.7-8)'!$O$108:$O$118,0),1))","v":99},0,0,0,0,0,0,0,0,0,0,0,0,0,0,0,0,0,0,0,0,0,0]
[null,null,null,"耐震工学",null,2,null,null,null,null,null,2,null,null,null,null,null,{"$f":"IF($P34=\"\",0,IF(INDEX('印刷-目標ごとの達成度(P.7-8)'!$P$94:$P$102,MATCH($P34,'印刷-目標ごとの達成度(P.7-8)'!$O$94:$O$102,0),1)>0,1,0))*E34","v":0},{"$f":"IF($P34=\"\",0,IF(INDEX('印刷-目標ごとの達成度(P.7-8)'!$P$94:$P$102,MATCH($P34,'印刷-目標ごとの達成度(P.7-8)'!$O$94:$O$102,0),1)>0,1,0))*F34","v":0},{"$f":"IF($P34=\"\",0,INDEX('印刷-目標ごとの達成度(P.7-8)'!$P$94:$P$102,MATCH($P34,'印刷-目標ごとの達成度(P.7-8)'!$O$94:$O$102,0),1))*(E34+F34)","v":0},{"$f":"IF(O34=\"\",99,INDEX('印刷-目標ごとの達成度(P.7-8)'!$N$108:$N$118,MATCH(O34,'印刷-目標ごとの達成度(P.7-8)'!$O$108:$O$118,0),1))","v":99},0,0,0,0,0,0,0,0,0,0,0,0,0,0,0,0,0,0,0,0,0,0]
[null,null,null,"橋工学",null,2,null,null,null,null,null,2,null,null,null,null,null,{"$f":"IF($P35=\"\",0,IF(INDEX('印刷-目標ごとの達成度(P.7-8)'!$P$94:$P$102,MATCH($P35,'印刷-目標ごとの達成度(P.7-8)'!$O$94:$O$102,0),1)>0,1,0))*E35","v":0},{"$f":"IF($P35=\"\",0,IF(INDEX('印刷-目標ごとの達成度(P.7-8)'!$P$94:$P$102,MATCH($P35,'印刷-目標ごとの達成度(P.7-8)'!$O$94:$O$102,0),1)>0,1,0))*F35","v":0},{"$f":"IF($P35=\"\",0,INDEX('印刷-目標ごとの達成度(P.7-8)'!$P$94:$P$102,MATCH($P35,'印刷-目標ごとの達成度(P.7-8)'!$O$94:$O$102,0),1))*(E35+F35)","v":0},{"$f":"IF(O35=\"\",99,INDEX('印刷-目標ごとの達成度(P.7-8)'!$N$108:$N$118,MATCH(O35,'印刷-目標ごとの達成度(P.7-8)'!$O$108:$O$118,0),1))","v":99},0,0,0,0,0,0,0,0,0,0,0,0,0,0,0,0,0,0,0,0,0,0]
[null,null,null,"流域環境工学",null,2,null,null,null,null,null,2,null,null,null,null,null,{"$f":"IF($P36=\"\",0,IF(INDEX('印刷-目標ごとの達成度(P.7-8)'!$P$94:$P$102,MATCH($P36,'印刷-目標ごとの達成度(P.7-8)'!$O$94:$O$102,0),1)>0,1,0))*E36","v":0},{"$f":"IF($P36=\"\",0,IF(INDEX('印刷-目標ごとの達成度(P.7-8)'!$P$94:$P$102,MATCH($P36,'印刷-目標ごとの達成度(P.7-8)'!$O$94:$O$102,0),1)>0,1,0))*F36","v":0},{"$f":"IF($P36=\"\",0,INDEX('印刷-目標ごとの達成度(P.7-8)'!$P$94:$P$102,MATCH($P36,'印刷-目標ごとの達成度(P.7-8)'!$O$94:$O$102,0),1))*(E36+F36)","v":0},{"$f":"IF(O36=\"\",99,INDEX('印刷-目標ごとの達成度(P.7-8)'!$N$108:$N$118,MATCH(O36,'印刷-目標ごとの達成度(P.7-8)'!$O$108:$O$118,0),1))","v":99},0,0,0,0,0,0,0,0,0,0,0,0,0,0,0,0,0,0,0,0,0,0]
[null,null,"実験・演習","測量実習",1,null,2,null,null,null,null,null,null,null,null,null,null,{"$f":"IF($P37=\"\",0,IF(INDEX('印刷-目標ごとの達成度(P.7-8)'!$P$94:$P$102,MATCH($P37,'印刷-目標ごとの達成度(P.7-8)'!$O$94:$O$102,0),1)>0,1,0))*E37","v":0},{"$f":"IF($P37=\"\",0,IF(INDEX('印刷-目標ごとの達成度(P.7-8)'!$P$94:$P$102,MATCH($P37,'印刷-目標ごとの達成度(P.7-8)'!$O$94:$O$102,0),1)>0,1,0))*F37","v":0},{"$f":"IF($P37=\"\",0,INDEX('印刷-目標ごとの達成度(P.7-8)'!$P$94:$P$102,MATCH($P37,'印刷-目標ごとの達成度(P.7-8)'!$O$94:$O$102,0),1))*(E37+F37)","v":0},{"$f":"IF(O37=\"\",99,INDEX('印刷-目標ごとの達成度(P.7-8)'!$N$108:$N$118,MATCH(O37,'印刷-目標ごとの達成度(P.7-8)'!$O$108:$O$118,0),1))","v":99},0,0,0,0,0,0,0,0,0,0,0,0,0,0,0,0,0,0,0,0,0,0]
[null,null,null,"環境都市情報技術",1,null,null,null,2,null,null,null,null,null,null,null,null,{"$f":"IF($P38=\"\",0,IF(INDEX('印刷-目標ごとの達成度(P.7-8)'!$P$94:$P$102,MATCH($P38,'印刷-目標ごとの達成度(P.7-8)'!$O$94:$O$102,0),1)>0,1,0))*E38","v":0},{"$f":"IF($P38=\"\",0,IF(INDEX('印刷-目標ごとの達成度(P.7-8)'!$P$94:$P$102,MATCH($P38,'印刷-目標ごとの達成度(P.7-8)'!$O$94:$O$102,0),1)>0,1,0))*F38","v":0},{"$f":"IF($P38=\"\",0,INDEX('印刷-目標ごとの達成度(P.7-8)'!$P$94:$P$102,MATCH($P38,'印刷-目標ごとの達成度(P.7-8)'!$O$94:$O$102,0),1))*(E38+F38)","v":0},{"$f":"IF(O38=\"\",99,INDEX('印刷-目標ごとの達成度(P.7-8)'!$N$108:$N$118,MATCH(O38,'印刷-目標ごとの達成度(P.7-8)'!$O$108:$O$118,0),1))","v":99},0,0,0,0,0,0,0,0,0,0,0,0,0,0,0,0,0,0,0,0,0,0]
[null,null,null,"環境都市基礎製図",1,null,null,null,2,null,null,null,null,null,null,null,null,{"$f":"IF($P39=\"\",0,IF(INDEX('印刷-目標ごとの達成度(P.7-8)'!$P$94:$P$102,MATCH($P39,'印刷-目標ごとの達成度(P.7-8)'!$O$94:$O$102,0),1)>0,1,0))*E39","v":0},{"$f":"IF($P39=\"\",0,IF(INDEX('印刷-目標ごとの達成度(P.7-8)'!$P$94:$P$102,MATCH($P39,'印刷-目標ごとの達成度(P.7-8)'!$O$94:$O$102,0),1)>0,1,0))*F39","v":0},{"$f":"IF($P39=\"\",0,INDEX('印刷-目標ごとの達成度(P.7-8)'!$P$94:$P$102,MATCH($P39,'印刷-目標ごとの達成度(P.7-8)'!$O$94:$O$102,0),1))*(E39+F39)","v":0},{"$f":"IF(O39=\"\",99,INDEX('印刷-目標ごとの達成度(P.7-8)'!$N$108:$N$118,MATCH(O39,'印刷-目標ごとの達成度(P.7-8)'!$O$108:$O$118,0),1))","v":99},{"$f":"IF($U39=V$5,$R39+$S39,0)","v":0},0,0,0,0,0,0,0,0,0,0,{"$f":"IF($U39=AG$5,$T39,0)","v":0},0,0,0,0,0,0,0,0,0,0]
[null,null,null,"構造力学Ⅰ演習",1,null,null,null,2,null,null,null,null,null,null,null,null,{"$f":"IF($P40=\"\",0,IF(INDEX('印刷-目標ごとの達成度(P.7-8)'!$P$94:$P$102,MATCH($P40,'印刷-目標ごとの達成度(P.7-8)'!$O$94:$O$102,0),1)>0,1,0))*E40","v":0},{"$f":"IF($P40=\"\",0,IF(INDEX('印刷-目標ごとの達成度(P.7-8)'!$P$94:$P$102,MATCH($P40,'印刷-目標ごとの達成度(P.7-8)'!$O$94:$O$102,0),1)>0,1,0))*F40","v":0},{"$f":"IF($P40=\"\",0,INDEX('印刷-目標ごとの達成度(P.7-8)'!$P$94:$P$102,MATCH($P40,'印刷-目標ごとの達成度(P.7-8)'!$O$94:$O$102,0),1))*(E40+F40)","v":0},{"$f":"IF(O40=\"\",99,INDEX('印刷-目標ごとの達成度(P.7-8)'!$N$108:$N$118,MATCH(O40,'印刷-目標ごとの達成度(P.7-8)'!$O$108:$O$118,0),1))","v":99},0,0,0,0,0,0,0,0,0,0,0,0,0,0,0,0,0,0,0,0,0,0]
[null,null,null,"構造力学Ⅱ演習",1,null,null,null,null,2,null,null,null,null,null,null,null,{"$f":"IF($P41=\"\",0,IF(INDEX('印刷-目標ごとの達成度(P.7-8)'!$P$94:$P$102,MATCH($P41,'印刷-目標ごとの達成度(P.7-8)'!$O$94:$O$102,0),1)>0,1,0))*E41","v":0},{"$f":"IF($P41=\"\",0,IF(INDEX('印刷-目標ごとの達成度(P.7-8)'!$P$94:$P$102,MATCH($P41,'印刷-目標ごとの達成度(P.7-8)'!$O$94:$O$102,0),1)>0,1,0))*F41","v":0},{"$f":"IF($P41=\"\",0,INDEX('印刷-目標ごとの達成度(P.7-8)'!$P$94:$P$102,MATCH($P41,'印刷-目標ごとの達成度(P.7-8)'!$O$94:$O$102,0),1))*(E41+F41)","v":0},{"$f":"IF(O41=\"\",99,INDEX('印刷-目標ごとの達成度(P.7-8)'!$N$108:$N$118,MATCH(O41,'印刷-目標ごとの達成度(P.7-8)'!$O$108:$O$118,0),1))","v":99},0,0,0,0,0,0,0,0,0,0,0,0,0,0,0,0,0,0,0,0,0,0]
[null,null,null,"環境水理学演習",1,null,null,null,null,2,null,null,null,null,null,null,null,{"$f":"IF($P42=\"\",0,IF(INDEX('印刷-目標ごとの達成度(P.7-8)'!$P$94:$P$102,MATCH($P42,'印刷-目標ごとの達成度(P.7-8)'!$O$94:$O$102,0),1)>0,1,0))*E42","v":0},{"$f":"IF($P42=\"\",0,IF(INDEX('印刷-目標ごとの達成度(P.7-8)'!$P$94:$P$102,MATCH($P42,'印刷-目標ごとの達成度(P.7-8)'!$O$94:$O$102,0),1)>0,1,0))*F42","v":0},{"$f":"IF($P42=\"\",0,INDEX('印刷-目標ごとの達成度(P.7-8)'!$P$94:$P$102,MATCH($P42,'印刷-目標ごとの達成度(P.7-8)'!$O$94:$O$102,0),1))*(E42+F42)","v":0},{"$f":"IF(O42=\"\",99,INDEX('印刷-目標ごとの達成度(P.7-8)'!$N$108:$N$118,MATCH(O42,'印刷-目標ごとの達成度(P.7-8)'!$O$108:$O$118,0),1))","v":99},0,0,0,0,0,0,0,0,0,0,0,0,0,0,0,0,0,0,0,0,0,0]
[null,null,null,"地盤力学演習",1,null,null,null,null,2,null,null,null,null,null,null,null,{"$f":"IF($P43=\"\",0,IF(INDEX('印刷-目標ごとの達成度(P.7-8)'!$P$94:$P$102,MATCH($P43,'印刷-目標ごとの達成度(P.7-8)'!$O$94:$O$102,0),1)>0,1,0))*E43","v":0},{"$f":"IF($P43=\"\",0,IF(INDEX('印刷-目標ごとの達成度(P.7-8)'!$P$94:$P$102,MATCH($P43,'印刷-目標ごとの達成度(P.7-8)'!$O$94:$O$102,0),1)>0,1,0))*F43","v":0},{"$f":"IF($P43=\"\",0,INDEX('印刷-目標ごとの達成度(P.7-8)'!$P$94:$P$102,MATCH($P43,'印刷-目標ごとの達成度(P.7-8)'!$O$94:$O$102,0),1))*(E43+F43)","v":0},{"$f":"IF(O43=\"\",99,INDEX('印刷-目標ごとの達成度(P.7-8)'!$N$108:$N$118,MATCH(O43,'印刷-目標ごとの達成度(P.7-8)'!$O$108:$O$118,0),1))","v":99},0,0,0,0,0,0,0,0,0,0,0,0,0,0,0,0,0,0,0,0,0,0]
[null,null,null,"社会基盤計画学演習",1,null,null,null,null,2,null,null,null,null,null,null,null,{"$f":"IF($P44=\"\",0,IF(INDEX('印刷-目標ごとの達成度(P.7-8)'!$P$94:$P$102,MATCH($P44,'印刷-目標ごとの達成度(P.7-8)'!$O$94:$O$102,0),1)>0,1,0))*E44","v":0},{"$f":"IF($P44=\"\",0,IF(INDEX('印刷-目標ごとの達成度(P.7-8)'!$P$94:$P$102,MATCH($P44,'印刷-目標ごとの達成度(P.7-8)'!$O$94:$O$102,0),1)>0,1,0))*F44","v":0},{"$f":"IF($P44=\"\",0,INDEX('印刷-目標ごとの達成度(P.7-8)'!$P$94:$P$102,MATCH($P44,'印刷-目標ごとの達成度(P.7-8)'!$O$94:$O$102,0),1))*(E44+F44)","v":0},{"$f":"IF(O44=\"\",99,INDEX('印刷-目標ごとの達成度(P.7-8)'!$N$108:$N$118,MATCH(O44,'印刷-目標ごとの達成度(P.7-8)'!$O$108:$O$118,0),1))","v":99},0,0,0,0,0,0,0,0,0,0,0,0,0,0,0,0,0,0,0,0,0,0]
[null,null,null,"コンクリート構造学演習",1,null,null,null,null,null,2,null,null,null,null,null,null,{"$f":"IF($P45=\"\",0,IF(INDEX('印刷-目標ごとの達成度(P.7-8)'!$P$94:$P$102,MATCH($P45,'印刷-目標ごとの達成度(P.7-8)'!$O$94:$O$102,0),1)>0,1,0))*E45","v":0},{"$f":"IF($P45=\"\",0,IF(INDEX('印刷-目標ごとの達成度(P.7-8)'!$P$94:$P$102,MATCH($P45,'印刷-目標ごとの達成度(P.7-8)'!$O$94:$O$102,0),1)>0,1,0))*F45","v":0},{"$f":"IF($P45=\"\",0,INDEX('印刷-目標ごとの達成度(P.7-8)'!$P$94:$P$102,MATCH($P45,'印刷-目標ごとの達成度(P.7-8)'!$O$94:$O$102,0),1))*(E45+F45)","v":0},{"$f":"IF(O45=\"\",99,INDEX('印刷-目標ごとの達成度(P.7-8)'!$N$108:$N$118,MATCH(O45,'印刷-目標ごとの達成度(P.7-8)'!$O$108:$O$118,0),1))","v":99},0,0,0,0,0,0,0,0,0,0,0,0,0,0,0,0,0,0,0,0,0,0]
[null,null,null,"環境都市工学実験Ⅰ",1,null,null,null,null,null,2,null,null,null,null,null,null,{"$f":"IF($P46=\"\",0,IF(INDEX('印刷-目標ごとの達成度(P.7-8)'!$P$94:$P$102,MATCH($P46,'印刷-目標ごとの達成度(P.7-8)'!$O$94:$O$102,0),1)>0,1,0))*E46","v":0},{"$f":"IF($P46=\"\",0,IF(INDEX('印刷-目標ごとの達成度(P.7-8)'!$P$94:$P$102,MATCH($P46,'印刷-目標ごとの達成度(P.7-8)'!$O$94:$O$102,0),1)>0,1,0))*F46","v":0},{"$f":"IF($P46=\"\",0,INDEX('印刷-目標ごとの達成度(P.7-8)'!$P$94:$P$102,MATCH($P46,'印刷-目標ごとの達成度(P.7-8)'!$O$94:$O$102,0),1))*(E46+F46)","v":0},{"$f":"IF(O46=\"\",99,INDEX('印刷-目標ごとの達成度(P.7-8)'!$N$108:$N$118,MATCH(O46,'印刷-目標ごとの達成度(P.7-8)'!$O$108:$O$118,0),1))","v":99},0,0,0,0,0,0,0,0,0,0,0,0,0,0,0,0,0,0,0,0,0,0]
[null,null,null,"環境都市工学実験Ⅱ",1,null,null,null,null,null,null,2,null,null,null,null,null,{"$f":"IF($P47=\"\",0,IF(INDEX('印刷-目標ごとの達成度(P.7-8)'!$P$94:$P$102,MATCH($P47,'印刷-目標ごとの達成度(P.7-8)'!$O$94:$O$102,0),1)>0,1,0))*E47","v":0},{"$f":"IF($P47=\"\",0,IF(INDEX('印刷-目標ごとの達成度(P.7-8)'!$P$94:$P$102,MATCH($P47,'印刷-目標ごとの達成度(P.7-8)'!$O$94:$O$102,0),1)>0,1,0))*F47","v":0},{"$f":"IF($P47=\"\",0,INDEX('印刷-目標ごとの達成度(P.7-8)'!$P$94:$P$102,MATCH($P47,'印刷-目標ごとの達成度(P.7-8)'!$O$94:$O$102,0),1))*(E47+F47)","v":0},{"$f":"IF(O47=\"\",99,INDEX('印刷-目標ごとの達成度(P.7-8)'!$N$108:$N$118,MATCH(O47,'印刷-目標ごとの達成度(P.7-8)'!$O$108:$O$118,0),1))","v":99},0,0,0,0,0,0,0,0,0,0,0,0,0,0,0,0,0,0,0,0,0,0]
[null,null,null,"環境都市設計製図",1,null,null,null,null,null,null,2,null,null,null,null,null,{"$f":"IF($P48=\"\",0,IF(INDEX('印刷-目標ごとの達成度(P.7-8)'!$P$94:$P$102,MATCH($P48,'印刷-目標ごとの達成度(P.7-8)'!$O$94:$O$102,0),1)>0,1,0))*E48","v":0},{"$f":"IF($P48=\"\",0,IF(INDEX('印刷-目標ごとの達成度(P.7-8)'!$P$94:$P$102,MATCH($P48,'印刷-目標ごとの達成度(P.7-8)'!$O$94:$O$102,0),1)>0,1,0))*F48","v":0},{"$f":"IF($P48=\"\",0,INDEX('印刷-目標ごとの達成度(P.7-8)'!$P$94:$P$102,MATCH($P48,'印刷-目標ごとの達成度(P.7-8)'!$O$94:$O$102,0),1))*(E48+F48)","v":0},{"$f":"IF(O48=\"\",99,INDEX('印刷-目標ごとの達成度(P.7-8)'!$N$108:$N$118,MATCH(O48,'印刷-目標ごとの達成度(P.7-8)'!$O$108:$O$118,0),1))","v":99},0,0,0,0,0,0,0,0,0,0,0,0,0,0,0,0,0,0,0,0,0,0]
[null,null,null,"実践研究セミナー",2,null,null,null,null,null,null,4,null,null,null,null,null,{"$f":"IF($P49=\"\",0,IF(INDEX('印刷-目標ごとの達成度(P.7-8)'!$P$94:$P$102,MATCH($P49,'印刷-目標ごとの達成度(P.7-8)'!$O$94:$O$102,0),1)>0,1,0))*E49","v":0},{"$f":"IF($P49=\"\",0,IF(INDEX('印刷-目標ごとの達成度(P.7-8)'!$P$94:$P$102,MATCH($P49,'印刷-目標ごとの達成度(P.7-8)'!$O$94:$O$102,0),1)>0,1,0))*F49","v":0},{"$f":"IF($P49=\"\",0,INDEX('印刷-目標ごとの達成度(P.7-8)'!$P$94:$P$102,MATCH($P49,'印刷-目標ごとの達成度(P.7-8)'!$O$94:$O$102,0),1))*(E49+F49)","v":0},{"$f":"IF(O49=\"\",99,INDEX('印刷-目標ごとの達成度(P.7-8)'!$N$108:$N$118,MATCH(O49,'印刷-目標ごとの達成度(P.7-8)'!$O$108:$O$118,0),1))","v":99},0,0,0,0,0,0,0,0,0,0,0,0,0,0,0,0,0,0,0,0,0,0]
[null,null,null,"卒業研究",8,null,null,null,null,null,null,null,20,20,null,null,null,{"$f":"IF($P50=\"\",0,IF(INDEX('印刷-目標ごとの達成度(P.7-8)'!$P$94:$P$102,MATCH($P50,'印刷-目標ごとの達成度(P.7-8)'!$O$94:$O$102,0),1)>0,1,0))*E50","v":0},{"$f":"IF($P50=\"\",0,IF(INDEX('印刷-目標ごとの達成度(P.7-8)'!$P$94:$P$102,MATCH($P50,'印刷-目標ごとの達成度(P.7-8)'!$O$94:$O$102,0),1)>0,1,0))*F50","v":0},{"$f":"IF($P50=\"\",0,INDEX('印刷-目標ごとの達成度(P.7-8)'!$P$94:$P$102,MATCH($P50,'印刷-目標ごとの達成度(P.7-8)'!$O$94:$O$102,0),1))*(E50+F50)","v":0},{"$f":"IF(O50=\"\",99,INDEX('印刷-目標ごとの達成度(P.7-8)'!$N$108:$N$118,MATCH(O50,'印刷-目標ごとの達成度(P.7-8)'!$O$108:$O$118,0),1))","v":99},0,0,0,0,0,0,0,0,0,0,0,0,0,0,0,0,0,0,0,0,0,0]
[null,null,null,null,null,null,null,null,null,null,null,null,null,null,null,null,null,{"$f":"SUM(R6:R50)","v":0},{"$f":"SUM(S6:S50)","v":0},{"$f":"SUM(T6:T50)","v":0},null,{"$f":"SUM($V6:V50)","v":0},{"$f":"SUM($V6:W50)","v":0},{"$f":"SUM($V6:X50)","v":0},{"$f":"SUM($V6:Y50)","v":0},{"$f":"SUM($V6:Z50)","v":0},{"$f":"SUM($V6:AA50)","v":0},{"$f":"SUM($V6:AB50)","v":0},{"$f":"SUM($V6:AC50)","v":0},{"$f":"SUM($V6:AD50)","v":0},{"$f":"SUM($V6:AE50)","v":0},{"$f":"SUM($V6:AF50)","v":0},{"$f":"SUM($AG6:AG50)","v":0},{"$f":"SUM($AG6:AH50)","v":0},{"$f":"SUM($AG6:AI50)","v":0},{"$f":"SUM($AG6:AJ50)","v":0},{"$f":"SUM($AG6:AK50)","v":0},{"$f":"SUM($AG6:AL50)","v":0},{"$f":"SUM($AG6:AM50)","v":0},{"$f":"SUM($AG6:AN50)","v":0},{"$f":"SUM($AG6:AO50)","v":0},{"$f":"SUM($AG6:AP50)","v":0},{"$f":"SUM($AG6:AQ50)","v":0}]

{"sheet":"集計結果・土木GPT","index":2,"n_rows":35,"n_cols":10,"rows_kept":35,"cut":false,"hidden":false,"merged":[[0,1,0,9],[1,3,1,5],[1,1,2,2],[1,8,2,9],[2,3,2,4],[1,6,2,7],[12,8,12,9],[13,8,13,9],[3,1,7,1],[12,1,12,2],[3,7,7,7],[3,9,7,9],[3,4,7,4],[12,6,12,7],[13,6,13,7],[12,3,12,4],[13,3,13,4],[13,1,13,2],[8,1,11,1],[8,4,11,4],[8,7,11,7],[8,9,11,9],[29,1,32,1],[29,3,29,5],[29,6,32,7],[30,3,30,5],[31,3,31,5],[32,3,32,5],[33,1,33,2],[33,3,33,9],[34,1,34,2],[34,3,34,9],[15,6,15,7],[15,3,15,5],[24,1,24,2],[24,3,24,9],[25,1,28,1],[25,3,25,5],[25,6,28,7],[23,1,23,9],[25,8,32,9],[26,3,26,5],[27,3,27,5],[28,3,28,5]]}
[null,"集計結果"]
[null,"科目区分",null,"取得単位数",null,null,"GPT(参考値)",null,"GPA(参考値)"]
[null,null,null,"必修＋選択",null,"必修"]
[null,"共通科目","人間社会",{"$f":"SUM(共通科目!S6:T42)","v":0},{"$f":"SUM(D4:D8)","v":0},{"$f":"SUM(共通科目!S6:S42)","v":0},{"$f":"SUM(共通科目!U6:U42)","v":0},{"$f":"SUM(G4:G8)","v":0},{"$f":"IF(D4=0,0,G4/D4)","v":0},{"$f":"IF(E4=0,0,H4/E4)","v":0}]
[null,null,"自然科学基礎",{"$f":"SUM(共通科目!S43:T57)","v":0},null,{"$f":"SUM(共通科目!S43:S57)","v":0},{"$f":"SUM(共通科目!U43:U57)","v":0},null,{"$f":"IF(D5=0,0,G5/D5)","v":0}]
[null,null,"グローバルコミュニケーション",{"$f":"SUM(共通科目!S58:T67)","v":0},null,{"$f":"SUM(共通科目!S58:S67)","v":0},{"$f":"SUM(共通科目!U58:U67)","v":0},null,{"$f":"IF(D6=0,0,G6/D6)","v":0}]
[null,null,"健康運動科学",{"$f":"SUM(共通科目!S68:T71)","v":0},null,{"$f":"SUM(共通科目!S68:S71)","v":0},{"$f":"SUM(共通科目!U68:U71)","v":0},null,0]
[null,null,"工学コア教育科目",{"$f":"SUM(共通科目!S72:T93)","v":0},null,{"$f":"SUM(共通科目!S72:S93)","v":0},{"$f":"SUM(共通科目!U72:U93)","v":0},null,0]
[null,"工学コア教育科目","キャリア形成",{"$f":"SUM(共通科目!S72:T78)","v":0},{"$f":"SUM(D9:D12)","v":0},{"$f":"SUM(共通科目!S72:S78)","v":0},{"$f":"SUM(共通科目!S72:S78)","v":0},{"$f":"SUM(G9:G12)","v":0},{"$f":"IF(D9=0,0,G9/D9)","v":0},{"$f":"IF(E9=0,0,H9/E9)","v":0}]
[null,null,"経営リテラシー",{"$f":"SUM(共通科目!S79:T88)","v":0},null,{"$f":"SUM(共通科目!S79:S88)","v":0},{"$f":"SUM(共通科目!S79:S88)","v":0},null,0]
[null,null,"数理情報",{"$f":"SUM(共通科目!S89:T89)","v":0},null,{"$f":"SUM(共通科目!S89:S89)","v":0},{"$f":"SUM(共通科目!S89:S89)","v":0},null,0]
[null,null,"工学デザイン",{"$f":"SUM(共通科目!S90:T93)","v":0},null,{"$f":"SUM(共通科目!S90:S93)","v":0},{"$f":"SUM(共通科目!S90:S93)","v":0},null,0]
[null,"専門教育科目",null,{"$f":"SUM(専門科目!R6:S50)","v":0},null,{"$f":"SUM(専門科目!R6:R50)","v":0},{"$f":"SUM(専門科目!T6:T50)","v":0},null,0]
[null,"合計",null,{"$f":"E4+D13","v":0},null,{"$f":"SUM(F4:F13)","v":0},{"$f":"H4+G13","v":0},null,0]
[]
[null,null,null,"土木GPT(重要)",null,null,{"$f":"SUM(共通科目!V6:V93)+G13","v":0}]
[null,"計算条件"]
[null,null,"・対象科目は，共通科目の一部と環境都市分野の専門科目すべて"]
[null,null,"・対象となる共通科目は，「共通科目」タブの科目のうち，科目名の左に○がついたもの"]
[null,null,"・除外科目はない"]
[null,null,"・卒研（合はA扱い）や単位認定（科目一覧にあれば），再受講免除の科目も含む"]
[null,null,"・GPAの分母は履修登録単位数ではなく，取得単位数"]
[]
[null,"卒業認定基準"]
[null,"科目区分",null,"条件"]
[null,"共通科目","人間社会","3区分以上から8単位",null,null,"左記条件を満たし，37単位以上",null,"左記条件を満たし，\n50単位以上"]
[null,null,"自然科学基礎","必修全科目を含めて20単位"]
[null,null,"グローバルコミュニケーション","必修8単位"]
[null,null,"健康運動科学","必修1単位"]
[null,"工学コア教育科目","キャリア形成","必修2単位",null,null,"左記条件を満たし，10単位以上"]
[null,null,"経営リテラシー","4単位"]
[null,null,"数理情報","必修2単位"]
[null,null,"工学デザイン"]
[null,"専門教育科目",null,"必修全科目を含め74単位以上"]
[null,"合計",null,"124単位以上"]

{"sheet":"印刷-単位取得状況　総括表(P.3)","index":3,"n_rows":38,"n_cols":13,"rows_kept":38,"cut":false,"hidden":false,"merged":[[27,1,27,2],[12,1,12,2],[17,1,17,12],[18,1,18,12],[11,1,11,2],[13,1,13,2],[14,1,14,2],[16,1,16,12],[2,3,2,12],[1,1,1,12],[5,1,10,1],[3,3,3,4],[2,1,4,2],[34,3,34,5],[35,3,35,5],[26,1,26,12],[0,10,0,12],[0,8,0,9],[20,1,20,12],[21,1,21,2],[22,1,22,2],[23,1,23,2],[21,3,21,12],[22,3,22,12],[23,3,23,12],[3,5,3,6],[3,7,3,8],[3,9,3,10],[3,11,3,12],[36,1,36,2],[36,3,36,9],[37,1,37,2],[37,3,37,9],[27,3,27,9],[28,1,31,1],[28,3,28,5],[28,6,31,7],[28,8,35,9],[29,3,29,5],[30,3,30,5],[31,3,31,5],[32,1,35,1],[32,3,32,5],[32,6,35,7],[33,3,33,5]]}
[null,null,"入学年度：",{"$f":"'印刷-目標ごとの達成度(P.7-8)'!$P$105","v":2024},"年度",null,null,null,"現在の日時：",null,{"$f":"NOW()","v":"2025-03-18T20:59:52.140"}]
[null,"単位取得状況　総括表 "]
[null,"科目区分",null,"取得単位数（累計）"]
[null,null,null,"１年",null,"２年",null,"３年",null,"４年"]
[null,null,null,"前期","後期","前期","後期","前期","後期","前期","後期"]
[null,"共通科目","人間社会",{"$f":"IF(D$16>$K$1,\"\",SUM(共通科目!$X6:X42))","v":0},{"$f":"IF(E$16>$K$1,\"\",SUM(共通科目!$Y6:Y42))","v":0},{"$f":"IF(F$16>$K$1,\"\",SUM(共通科目!$Z6:Z42))","v":""},{"$f":"IF(G$16>$K$1,\"\",SUM(共通科目!$AA6:AA42))","v":""},{"$f":"IF(H$16>$K$1,\"\",SUM(共通科目!AB6:AB42))","v":""},{"$f":"IF(I$16>$K$1,\"\",SUM(共通科目!AC6:AC42))","v":""},{"$f":"IF(J$16>$K$1,\"\",SUM(共通科目!AD6:AD42))","v":""},{"$f":"IF(K$16>$K$1,\"\",SUM(共通科目!AE6:AE42))","v":""},{"$f":"IF(L$16>$K$1,\"\",SUM(共通科目!AF6:AF42))","v":""},{"$f":"IF(M$16>$K$1,\"\",SUM(共通科目!AG6:AG42))","v":""}]
[null,null,"自然科学基礎",{"$f":"IF(D$16>$K$1,\"\",SUM(共通科目!$X43:X57))","v":0},{"$f":"IF(E$16>$K$1,\"\",SUM(共通科目!$Y43:Y57))","v":0},{"$f":"IF(F$16>$K$1,\"\",SUM(共通科目!$Z43:Z57))","v":""},{"$f":"IF(G$16>$K$1,\"\",SUM(共通科目!$AA43:AA57))","v":""},{"$f":"IF(H$16>$K$1,\"\",SUM(共通科目!AB43:AB57))","v":""},{"$f":"IF(I$16>$K$1,\"\",SUM(共通科目!AC43:AC57))","v":""},{"$f":"IF(J$16>$K$1,\"\",SUM(共通科目!AD43:AD57))","v":""},{"$f":"IF(K$16>$K$1,\"\",SUM(共通科目!AE43:AE57))","v":""},{"$f":"IF(L$16>$K$1,\"\",SUM(共通科目!AF43:AF57))","v":""},{"$f":"IF(M$16>$K$1,\"\",SUM(共通科目!AG43:AG57))","v":""}]
[null,null,"グローバルコミュニケーション",{"$f":"IF(D$16>$K$1,\"\",SUM(共通科目!$X58:X67))","v":0},{"$f":"IF(E$16>$K$1,\"\",SUM(共通科目!Y58:$Y67))","v":0},{"$f":"IF(F$16>$K$1,\"\",SUM(共通科目!$Z58:Z67))","v":""},{"$f":"IF(G$16>$K$1,\"\",SUM(共通科目!$AA58:AA67))","v":""},{"$f":"IF(H$16>$K$1,\"\",SUM(共通科目!AB58:AB67))","v":""},{"$f":"IF(I$16>$K$1,\"\",SUM(共通科目!AC58:AC67))","v":""},{"$f":"IF(J$16>$K$1,\"\",SUM(共通科目!AD58:AD67))","v":""},{"$f":"IF(K$16>$K$1,\"\",SUM(共通科目!AE58:AE67))","v":""},{"$f":"IF(L$16>$K$1,\"\",SUM(共通科目!AF58:AF67))","v":""},{"$f":"IF(M$16>$K$1,\"\",SUM(共通科目!AG58:AG67))","v":""}]
[null,null,"健康運動科学",{"$f":"IF(D$16>$K$1,\"\",SUM(共通科目!$X68:X71))","v":0},{"$f":"IF(E$16>$K$1,\"\",SUM(共通科目!Y68:$Y71))","v":0},{"$f":"IF(F$16>$K$1,\"\",SUM(共通科目!$Z68:Z71))","v":""},{"$f":"IF(G$16>$K$1,\"\",SUM(共通科目!$AA68:AA71))","v":""},{"$f":"IF(H$16>$K$1,\"\",SUM(共通科目!AB68:AB71))","v":""},{"$f":"IF(I$16>$K$1,\"\",SUM(共通科目!AC68:AC71))","v":""},{"$f":"IF(J$16>$K$1,\"\",SUM(共通科目!AD68:AD71))","v":""},{"$f":"IF(K$16>$K$1,\"\",SUM(共通科目!AE68:AE71))","v":""},{"$f":"IF(L$16>$K$1,\"\",SUM(共通科目!AF68:AF71))","v":""},{"$f":"IF(M$16>$K$1,\"\",SUM(共通科目!AG68:AG71))","v":""}]
[null,null,"工学コア教育科目",{"$f":"IF(D$16>$K$1,\"\",SUM(共通科目!$X72:X93))","v":0},{"$f":"IF(E$16>$K$1,\"\",SUM(共通科目!$Y72:Y93))","v":0},{"$f":"IF(F$16>$K$1,\"\",SUM(共通科目!$Z72:Z93))","v":""},{"$f":"IF(G$16>$K$1,\"\",SUM(共通科目!$AA72:AA93))","v":""},{"$f":"IF(H$16>$K$1,\"\",SUM(共通科目!AB72:AB93))","v":""},{"$f":"IF(I$16>$K$1,\"\",SUM(共通科目!AC72:AC93))","v":""},{"$f":"IF(J$16>$K$1,\"\",SUM(共通科目!AD72:AD93))","v":""},{"$f":"IF(K$16>$K$1,\"\",SUM(共通科目!AE72:AE93))","v":""},{"$f":"IF(L$16>$K$1,\"\",SUM(共通科目!AF72:AF93))","v":""},{"$f":"IF(M$16>$K$1,\"\",SUM(共通科目!AG72:AG93))","v":""}]
[null,null,"計",{"$f":"IF(D$16>$K$1,\"\",SUM(D6:D10))","v":0},{"$f":"IF(E$16>$K$1,\"\",SUM(E6:E10))","v":0},{"$f":"IF(F$16>$K$1,\"\",SUM(F6:F10))","v":""},{"$f":"IF(G$16>$K$1,\"\",SUM(G6:G10))","v":""},{"$f":"IF(H$16>$K$1,\"\",SUM(H6:H10))","v":""},{"$f":"IF(I$16>$K$1,\"\",SUM(I6:I10))","v":""},{"$f":"IF(J$16>$K$1,\"\",SUM(J6:J10))","v":""},{"$f":"IF(K$16>$K$1,\"\",SUM(K6:K10))","v":""},{"$f":"IF(L$16>$K$1,\"\",SUM(L6:L10))","v":""},{"$f":"IF(M$16>$K$1,\"\",SUM(M6:M10))","v":""}]
[null,"専門教育科目",null,{"$f":"IF(D$16>$K$1,\"\",SUM(専門科目!$V6:V50))","v":0},{"$f":"IF(E$16>$K$1,\"\",SUM(専門科目!$V6:W50))","v":0},{"$f":"IF(F$16>$K$1,\"\",SUM(専門科目!$V6:X50))","v":""},{"$f":"IF(G$16>$K$1,\"\",SUM(専門科目!$V6:Y50))","v":""},{"$f":"IF(H$16>$K$1,\"\",SUM(専門科目!$V6:Z50))","v":""},{"$f":"IF(I$16>$K$1,\"\",SUM(専門科目!$V6:AA50))","v":""},{"$f":"IF(J$16>$K$1,\"\",SUM(専門科目!$V6:AB50))","v":""},{"$f":"IF(K$16>$K$1,\"\",SUM(専門科目!$V6:AC50))","v":""},{"$f":"IF(L$16>$K$1,\"\",SUM(専門科目!$V6:AD50))","v":""},{"$f":"IF(M$16>$K$1,\"\",SUM(専門科目!$V6:AE50))","v":""}]
[null,"取得単位の合計",null,{"$f":"IF(D$16>$K$1,\"\",SUM(D11:D12))","v":0},0,"","","","","","","",""]
[null,"成績票記載のGPA（手入力）"]
[null,"成績票記載のGPT（手入力）"]
[null,null,null,{"$f":"'印刷-総括表(P.4)'!C28","v":"2024-09-01"},{"$f":"'印刷-総括表(P.4)'!D28","v":"2025-03-01"},{"$f":"'印刷-総括表(P.4)'!E28","v":"2025-09-01"},{"$f":"'印刷-総括表(P.4)'!F28","v":"2026-03-01"},{"$f":"'印刷-総括表(P.4)'!G28","v":"2026-09-01"},{"$f":"'印刷-総括表(P.4)'!H28","v":"2027-03-01"},{"$f":"'印刷-総括表(P.4)'!I28","v":"2027-09-01"},{"$f":"'印刷-総括表(P.4)'!J28","v":"2028-03-01"},{"$f":"'印刷-総括表(P.4)'!K28","v":"2028-09-01"},{"$f":"'印刷-総括表(P.4)'!L28","v":"2029-03-01"}]
[null,"注１：各時点で取得している単位数の累計を各科目区分ごとに記入すること．"]
[null,"注２：成績表記載のGPAやGPTは自身の成績を把握・管理するためのあくまで「参考値」であるため，"]
[null,"　　　必ず次ページの土木GPT（重要）を自身で計算，記載すること．"]
[]
[null,"資料－１　卒研着手条件"]
[null,"科目区分",null,"条件"]
[null,"共通科目＆工学コア教育科目",null,"必修全科目を含め47単位以上"]
[null,"専門教育科目",null,"56単位以上"]
[]
[]
[null,"資料－２　卒業認定基準"]
[null,"科目区分",null,"条件"]
[null,"共通科目","人間社会","3区分以上から8単位",null,null,"左記条件を満たし，37単位以上",null,"左記条件を満たし，\n50単位以上"]
[null,null,"自然科学基礎","必修全科目を含めて20単位"]
[null,null,"グローバルコミュニケーション","必修8単位"]
[null,null,"健康運動科学","必修1単位"]
[null,"工学コア教育科目","キャリア形成","必修2単位",null,null,"左記条件を満たし，10単位以上"]
[null,null,"経営リテラシー","4単位"]
[null,null,"数理情報","必修2単位"]
[null,null,"工学デザイン"]
[null,"専門教育科目",null,"必修全科目を含め74単位以上"]
[null,"合計",null,"124単位以上"]

{"sheet":"印刷-総括表(P.4)","index":4,"n_rows":32,"n_cols":12,"rows_kept":32,"cut":false,"hidden":false,"merged":[[24,0,24,1],[22,0,22,1],[23,0,23,1],[1,0,1,11],[2,0,2,11],[16,0,17,0],[19,0,20,0],[3,0,5,1],[6,0,7,0],[8,0,10,0],[11,0,13,0],[0,8,0,11],[4,4,4,5],[4,6,4,7],[4,8,4,9],[3,2,3,11],[4,10,4,11],[4,2,4,3]]}
[null,"入学年度：",{"$f":"'印刷-目標ごとの達成度(P.7-8)'!$P$105","v":2024},"年度",null,null,null,null,{"$f":"NOW()","v":"2025-03-18T20:59:52.140"}]
["「学習・教育到達目標」達成状況の総括表"]
["※学期ごとに，これらの数値をＪノートの総括表に転記すること"]
["学習・教育目標",null,"目標ごとの取得単位数（累計）"]
[null,null,"１年",null,"２年",null,"３年",null,"４年"]
[null,null,"前期","後期","前期","後期","前期","後期","前期","後期","前期","後期"]
["(A)\n科学技術基礎","取得合計",{"$f":"IF(C$28>$I$1,\"\",SUM('印刷-目標ごとの達成度(P.7-8)'!$Q$3:Q12))","v":0},{"$f":"IF(D$28>$I$1,\"\",SUM('印刷-目標ごとの達成度(P.7-8)'!$Q$3:R12))","v":0},{"$f":"IF(E$28>$I$1,\"\",SUM('印刷-目標ごとの達成度(P.7-8)'!$Q$3:S12))","v":""},{"$f":"IF(F$28>$I$1,\"\",SUM('印刷-目標ごとの達成度(P.7-8)'!$Q$3:T12))","v":""},{"$f":"IF(G$28>$I$1,\"\",SUM('印刷-目標ごとの達成度(P.7-8)'!$Q$3:U12))","v":""},{"$f":"IF(H$28>$I$1,\"\",SUM('印刷-目標ごとの達成度(P.7-8)'!$Q$3:V12))","v":""},{"$f":"IF(I$28>$I$1,\"\",SUM('印刷-目標ごとの達成度(P.7-8)'!$Q$3:W12))","v":""},{"$f":"IF(J$28>$I$1,\"\",SUM('印刷-目標ごとの達成度(P.7-8)'!$Q$3:X12))","v":""},{"$f":"IF(K$28>$I$1,\"\",SUM('印刷-目標ごとの達成度(P.7-8)'!$Q$3:Y12))","v":""},{"$f":"IF(L$28>$I$1,\"\",SUM('印刷-目標ごとの達成度(P.7-8)'!$Q$3:Z12))","v":""}]
[null,"必修科目",{"$f":"IF(C$28>$I$1,\"\",SUM('印刷-目標ごとの達成度(P.7-8)'!$AX$3:AX12))","v":0},{"$f":"IF(D$28>$I$1,\"\",SUM(共通科目!$S$6:$S$93,専門科目!$R$6:$R$50))","v":0},{"$f":"IF(E$28>$I$1,\"\",SUM(共通科目!$S$6:$S$93,専門科目!$R$6:$R$50))","v":""},{"$f":"IF(F$28>$I$1,\"\",SUM(共通科目!$S$6:$S$93,専門科目!$R$6:$R$50))","v":""},{"$f":"IF(G$28>$I$1,\"\",SUM(共通科目!$S$6:$S$93,専門科目!$R$6:$R$50))","v":""},{"$f":"IF(H$28>$I$1,\"\",SUM(共通科目!$S$6:$S$93,専門科目!$R$6:$R$50))","v":""},{"$f":"IF(I$28>$I$1,\"\",SUM(共通科目!$S$6:$S$93,専門科目!$R$6:$R$50))","v":""},{"$f":"IF(J$28>$I$1,\"\",SUM(共通科目!$S$6:$S$93,専門科目!$R$6:$R$50))","v":""},{"$f":"IF(K$28>$I$1,\"\",SUM(共通科目!$S$6:$S$93,専門科目!$R$6:$R$50))","v":""},{"$f":"IF(L$28>$I$1,\"\",SUM(共通科目!$S$6:$S$93,専門科目!$R$6:$R$50))","v":""}]
["(B)\n自然科学","取得合計",{"$f":"IF(C$28>$I$1,\"\",SUM('印刷-目標ごとの達成度(P.7-8)'!$Q$13:Q25))","v":0},{"$f":"IF(D$28>$I$1,\"\",SUM('印刷-目標ごとの達成度(P.7-8)'!$Q$13:R25))","v":0},{"$f":"IF(E$28>$I$1,\"\",SUM('印刷-目標ごとの達成度(P.7-8)'!$Q$13:S25))","v":""},{"$f":"IF(F$28>$I$1,\"\",SUM('印刷-目標ごとの達成度(P.7-8)'!$Q$13:T25))","v":""},{"$f":"IF(G$28>$I$1,\"\",SUM('印刷-目標ごとの達成度(P.7-8)'!$Q$13:U25))","v":""},{"$f":"IF(H$28>$I$1,\"\",SUM('印刷-目標ごとの達成度(P.7-8)'!$Q$13:V25))","v":""},{"$f":"IF(I$28>$I$1,\"\",SUM('印刷-目標ごとの達成度(P.7-8)'!$Q$13:W25))","v":""},{"$f":"IF(J$28>$I$1,\"\",SUM('印刷-目標ごとの達成度(P.7-8)'!$Q$13:X25))","v":""},{"$f":"IF(K$28>$I$1,\"\",SUM('印刷-目標ごとの達成度(P.7-8)'!$Q$13:Y25))","v":""},{"$f":"IF(L$28>$I$1,\"\",SUM('印刷-目標ごとの達成度(P.7-8)'!$Q$13:Z25))","v":""}]
[null,"必修科目",{"$f":"IF(C$28>$I$1,\"\",SUM('印刷-目標ごとの達成度(P.7-8)'!$AX$13:AX25))","v":0},{"$f":"IF(D$28>$I$1,\"\",SUM('印刷-目標ごとの達成度(P.7-8)'!$AX$13:AX25))","v":0},{"$f":"IF(E$28>$I$1,\"\",SUM('印刷-目標ごとの達成度(P.7-8)'!$AX$13:AY25))","v":""},{"$f":"IF(F$28>$I$1,\"\",SUM('印刷-目標ごとの達成度(P.7-8)'!$AX$13:AZ25))","v":""},{"$f":"IF(G$28>$I$1,\"\",SUM('印刷-目標ごとの達成度(P.7-8)'!$AX$13:BA25))","v":""},{"$f":"IF(H$28>$I$1,\"\",SUM('印刷-目標ごとの達成度(P.7-8)'!$AX$13:BB25))","v":""},{"$f":"IF(I$28>$I$1,\"\",SUM('印刷-目標ごとの達成度(P.7-8)'!$AX$13:BC25))","v":""},{"$f":"IF(J$28>$I$1,\"\",SUM('印刷-目標ごとの達成度(P.7-8)'!$AX$13:BD25))","v":""},{"$f":"IF(K$28>$I$1,\"\",SUM('印刷-目標ごとの達成度(P.7-8)'!$AX$13:BE25))","v":""},{"$f":"IF(L$28>$I$1,\"\",SUM('印刷-目標ごとの達成度(P.7-8)'!$AX$13:BF25))","v":""}]
[null,"その他の必要科目",{"$f":"IF(C$28>$I$1,\"\",'印刷-総括表(P.4)'!C9-'印刷-総括表(P.4)'!C10)","v":0},{"$f":"IF(D$28>$I$1,\"\",'印刷-総括表(P.4)'!D9-'印刷-総括表(P.4)'!D10)","v":0},{"$f":"IF(E$28>$I$1,\"\",'印刷-総括表(P.4)'!E9-'印刷-総括表(P.4)'!E10)","v":""},{"$f":"IF(F$28>$I$1,\"\",'印刷-総括表(P.4)'!F9-'印刷-総括表(P.4)'!F10)","v":""},{"$f":"IF(G$28>$I$1,\"\",'印刷-総括表(P.4)'!G9-'印刷-総括表(P.4)'!G10)","v":""},{"$f":"IF(H$28>$I$1,\"\",'印刷-総括表(P.4)'!H9-'印刷-総括表(P.4)'!H10)","v":""},{"$f":"IF(I$28>$I$1,\"\",'印刷-総括表(P.4)'!I9-'印刷-総括表(P.4)'!I10)","v":""},{"$f":"IF(J$28>$I$1,\"\",'印刷-総括表(P.4)'!J9-'印刷-総括表(P.4)'!J10)","v":""},{"$f":"IF(K$28>$I$1,\"\",'印刷-総括表(P.4)'!K9-'印刷-総括表(P.4)'!K10)","v":""},{"$f":"IF(L$28>$I$1,\"\",'印刷-総括表(P.4)'!L9-'印刷-総括表(P.4)'!L10)","v":""}]
["(C)\n多面的思考と技術者倫理","取得合計",{"$f":"IF(C$28>$I$1,\"\",SUM('印刷-目標ごとの達成度(P.7-8)'!$Q$26:Q41))","v":0},{"$f":"IF(D$28>$I$1,\"\",SUM('印刷-目標ごとの達成度(P.7-8)'!$Q$26:R41))","v":0},{"$f":"IF(E$28>$I$1,\"\",SUM('印刷-目標ごとの達成度(P.7-8)'!$Q$26:S41))","v":""},{"$f":"IF(F$28>$I$1,\"\",SUM('印刷-目標ごとの達成度(P.7-8)'!$Q$26:T41))","v":""},{"$f":"IF(G$28>$I$1,\"\",SUM('印刷-目標ごとの達成度(P.7-8)'!$Q$26:U41))","v":""},{"$f":"IF(H$28>$I$1,\"\",SUM('印刷-目標ごとの達成度(P.7-8)'!$Q$26:V41))","v":""},{"$f":"IF(I$28>$I$1,\"\",SUM('印刷-目標ごとの達成度(P.7-8)'!$Q$26:W41))","v":""},{"$f":"IF(J$28>$I$1,\"\",SUM('印刷-目標ごとの達成度(P.7-8)'!$Q$26:X41))","v":""},{"$f":"IF(K$28>$I$1,\"\",SUM('印刷-目標ごとの達成度(P.7-8)'!$Q$26:Y41))","v":""},{"$f":"IF(L$28>$I$1,\"\",SUM('印刷-目標ごとの達成度(P.7-8)'!$Q$26:Z41))","v":""}]
[null,"必修科目",{"$f":"IF(C$28>$I$1,\"\",SUM('印刷-目標ごとの達成度(P.7-8)'!$AX$26:AX41))","v":0},{"$f":"IF(D$28>$I$1,\"\",SUM('印刷-目標ごとの達成度(P.7-8)'!$AX$26:AY41))","v":0},{"$f":"IF(E$28>$I$1,\"\",SUM('印刷-目標ごとの達成度(P.7-8)'!$AX$26:AZ41))","v":""},{"$f":"IF(F$28>$I$1,\"\",SUM('印刷-目標ごとの達成度(P.7-8)'!$AX$26:BA41))","v":""},{"$f":"IF(G$28>$I$1,\"\",SUM('印刷-目標ごとの達成度(P.7-8)'!$AX$26:BB41))","v":""},{"$f":"IF(H$28>$I$1,\"\",SUM('印刷-目標ごとの達成度(P.7-8)'!$AX$26:BC41))","v":""},{"$f":"IF(I$28>$I$1,\"\",SUM('印刷-目標ごとの達成度(P.7-8)'!$AX$26:BD41))","v":""},{"$f":"IF(J$28>$I$1,\"\",SUM('印刷-目標ごとの達成度(P.7-8)'!$AX$26:BE41))","v":""},{"$f":"IF(K$28>$I$1,\"\",SUM('印刷-目標ごとの達成度(P.7-8)'!$AX$26:BF41))","v":""},{"$f":"IF(L$28>$I$1,\"\",SUM('印刷-目標ごとの達成度(P.7-8)'!$AX$26:BG41))","v":""}]
[null,"その他の必要科目",{"$f":"IF(C$28>$I$1,\"\",C12-C13)","v":0},{"$f":"IF(D$28>$I$1,\"\",D12-D13)","v":0},"","","","","","","",""]
["(D)\n主要専門基礎","取得合計必修科目",{"$f":"IF(C$28>$I$1,\"\",SUM('印刷-目標ごとの達成度(P.7-8)'!$Q$42:Q51))","v":0},{"$f":"IF(D$28>$I$1,\"\",SUM('印刷-目標ごとの達成度(P.7-8)'!$Q$42:R51))","v":0},{"$f":"IF(E$28>$I$1,\"\",SUM('印刷-目標ごとの達成度(P.7-8)'!$Q$42:S51))","v":""},{"$f":"IF(F$28>$I$1,\"\",SUM('印刷-目標ごとの達成度(P.7-8)'!$Q$42:T51))","v":""},{"$f":"IF(G$28>$I$1,\"\",SUM('印刷-目標ごとの達成度(P.7-8)'!$Q$42:U51))","v":""},{"$f":"IF(H$28>$I$1,\"\",SUM('印刷-目標ごとの達成度(P.7-8)'!$Q$42:V51))","v":""},{"$f":"IF(I$28>$I$1,\"\",SUM('印刷-目標ごとの達成度(P.7-8)'!$Q$42:W51))","v":""},{"$f":"IF(J$28>$I$1,\"\",SUM('印刷-目標ごとの達成度(P.7-8)'!$Q$42:X51))","v":""},{"$f":"IF(K$28>$I$1,\"\",SUM('印刷-目標ごとの達成度(P.7-8)'!$Q$42:Y51))","v":""},{"$f":"IF(L$28>$I$1,\"\",SUM('印刷-目標ごとの達成度(P.7-8)'!$Q$42:Z51))","v":""}]
["(E)\n自主学習・応用能力","取得合計必修科目",{"$f":"IF(C$28>$I$1,\"\",SUM('印刷-目標ごとの達成度(P.7-8)'!$Q$52:Q60))","v":0},{"$f":"IF(D$28>$I$1,\"\",SUM('印刷-目標ごとの達成度(P.7-8)'!$Q$52:R60))","v":0},{"$f":"IF(E$28>$I$1,\"\",SUM('印刷-目標ごとの達成度(P.7-8)'!$Q$52:S60))","v":""},{"$f":"IF(F$28>$I$1,\"\",SUM('印刷-目標ごとの達成度(P.7-8)'!$Q$52:T60))","v":""},{"$f":"IF(G$28>$I$1,\"\",SUM('印刷-目標ごとの達成度(P.7-8)'!$Q$52:U60))","v":""},{"$f":"IF(H$28>$I$1,\"\",SUM('印刷-目標ごとの達成度(P.7-8)'!$Q$52:V60))","v":""},{"$f":"IF(I$28>$I$1,\"\",SUM('印刷-目標ごとの達成度(P.7-8)'!$Q$52:W60))","v":""},{"$f":"IF(J$28>$I$1,\"\",SUM('印刷-目標ごとの達成度(P.7-8)'!$Q$52:X60))","v":""},{"$f":"IF(K$28>$I$1,\"\",SUM('印刷-目標ごとの達成度(P.7-8)'!$Q$52:Y60))","v":""},{"$f":"IF(L$28>$I$1,\"\",SUM('印刷-目標ごとの達成度(P.7-8)'!$Q$52:Z60))","v":""}]
["(F)\nチームによる実体験","取得合計",{"$f":"IF(C$28>$I$1,\"\",SUM('印刷-目標ごとの達成度(P.7-8)'!$Q$61:Q66))","v":0},{"$f":"IF(D$28>$I$1,\"\",SUM('印刷-目標ごとの達成度(P.7-8)'!$Q$61:R66))","v":0},{"$f":"IF(E$28>$I$1,\"\",SUM('印刷-目標ごとの達成度(P.7-8)'!$Q$61:S66))","v":""},{"$f":"IF(F$28>$I$1,\"\",SUM('印刷-目標ごとの達成度(P.7-8)'!$Q$61:T66))","v":""},{"$f":"IF(G$28>$I$1,\"\",SUM('印刷-目標ごとの達成度(P.7-8)'!$Q$61:U66))","v":""},{"$f":"IF(H$28>$I$1,\"\",SUM('印刷-目標ごとの達成度(P.7-8)'!$Q$61:V66))","v":""},{"$f":"IF(I$28>$I$1,\"\",SUM('印刷-目標ごとの達成度(P.7-8)'!$Q$61:W66))","v":""},{"$f":"IF(J$28>$I$1,\"\",SUM('印刷-目標ごとの達成度(P.7-8)'!$Q$61:X66))","v":""},{"$f":"IF(K$28>$I$1,\"\",SUM('印刷-目標ごとの達成度(P.7-8)'!$Q$61:Y66))","v":""},{"$f":"IF(L$28>$I$1,\"\",SUM('印刷-目標ごとの達成度(P.7-8)'!$Q$61:Z66))","v":""}]
[null,"必修科目",{"$f":"IF(C$28>$I$1,\"\",SUM('印刷-目標ごとの達成度(P.7-8)'!$AX$61:AX66))","v":0},{"$f":"IF(D$28>$I$1,\"\",SUM('印刷-目標ごとの達成度(P.7-8)'!$AX$61:AY66))","v":0},{"$f":"IF(E$28>$I$1,\"\",SUM('印刷-目標ごとの達成度(P.7-8)'!$AX$61:AZ66))","v":""},{"$f":"IF(F$28>$I$1,\"\",SUM('印刷-目標ごとの達成度(P.7-8)'!$AX$61:BA66))","v":""},{"$f":"IF(G$28>$I$1,\"\",SUM('印刷-目標ごとの達成度(P.7-8)'!$AX$61:BB66))","v":""},{"$f":"IF(H$28>$I$1,\"\",SUM('印刷-目標ごとの達成度(P.7-8)'!$AX$61:BC66))","v":""},{"$f":"IF(I$28>$I$1,\"\",SUM('印刷-目標ごとの達成度(P.7-8)'!$AX$61:BD66))","v":""},{"$f":"IF(J$28>$I$1,\"\",SUM('印刷-目標ごとの達成度(P.7-8)'!$AX$61:BE66))","v":""},{"$f":"IF(K$28>$I$1,\"\",SUM('印刷-目標ごとの達成度(P.7-8)'!$AX$61:BF66))","v":""},{"$f":"IF(L$28>$I$1,\"\",SUM('印刷-目標ごとの達成度(P.7-8)'!$AX$61:BG66))","v":""}]
["(G)\nコミュニケーション能力","取得合計必修科目",{"$f":"IF(C$28>$I$1,\"\",SUM('印刷-目標ごとの達成度(P.7-8)'!$Q$67:Q71))","v":0},{"$f":"IF(D$28>$I$1,\"\",SUM('印刷-目標ごとの達成度(P.7-8)'!$Q$67:R71))","v":0},{"$f":"IF(E$28>$I$1,\"\",SUM('印刷-目標ごとの達成度(P.7-8)'!$Q$67:S71))","v":""},{"$f":"IF(F$28>$I$1,\"\",SUM('印刷-目標ごとの達成度(P.7-8)'!$Q$67:T71))","v":""},{"$f":"IF(G$28>$I$1,\"\",SUM('印刷-目標ごとの達成度(P.7-8)'!$Q$67:U71))","v":""},{"$f":"IF(H$28>$I$1,\"\",SUM('印刷-目標ごとの達成度(P.7-8)'!$Q$67:V71))","v":""},{"$f":"IF(I$28>$I$1,\"\",SUM('印刷-目標ごとの達成度(P.7-8)'!$Q$67:W71))","v":""},{"$f":"IF(J$28>$I$1,\"\",SUM('印刷-目標ごとの達成度(P.7-8)'!$Q$67:X71))","v":""},{"$f":"IF(K$28>$I$1,\"\",SUM('印刷-目標ごとの達成度(P.7-8)'!$Q$67:Y71))","v":""},{"$f":"IF(L$28>$I$1,\"\",SUM('印刷-目標ごとの達成度(P.7-8)'!$Q$67:Z71))","v":""}]
["(H)\n社会基盤整備の応用技術","取得合計",{"$f":"IF(C$28>$I$1,\"\",SUM('印刷-目標ごとの達成度(P.7-8)'!$Q$72:Q86))","v":0},{"$f":"IF(D$28>$I$1,\"\",SUM('印刷-目標ごとの達成度(P.7-8)'!$Q$72:R86))","v":0},{"$f":"IF(E$28>$I$1,\"\",SUM('印刷-目標ごとの達成度(P.7-8)'!$Q$72:S86))","v":""},{"$f":"IF(F$28>$I$1,\"\",SUM('印刷-目標ごとの達成度(P.7-8)'!$Q$72:T86))","v":""},{"$f":"IF(G$28>$I$1,\"\",SUM('印刷-目標ごとの達成度(P.7-8)'!$Q$72:U86))","v":""},{"$f":"IF(H$28>$I$1,\"\",SUM('印刷-目標ごとの達成度(P.7-8)'!$Q$72:V86))","v":""},{"$f":"IF(I$28>$I$1,\"\",SUM('印刷-目標ごとの達成度(P.7-8)'!$Q$72:W86))","v":""},{"$f":"IF(J$28>$I$1,\"\",SUM('印刷-目標ごとの達成度(P.7-8)'!$Q$72:X86))","v":""},{"$f":"IF(K$28>$I$1,\"\",SUM('印刷-目標ごとの達成度(P.7-8)'!$Q$72:Y86))","v":""},{"$f":"IF(L$28>$I$1,\"\",SUM('印刷-目標ごとの達成度(P.7-8)'!$Q$72:Z86))","v":""}]
[null,"必修科目",{"$f":"IF(C$28>$I$1,\"\",SUM('印刷-目標ごとの達成度(P.7-8)'!$AX$72:AX86))","v":0},{"$f":"IF(D$28>$I$1,\"\",SUM('印刷-目標ごとの達成度(P.7-8)'!$AX$72:AY86))","v":0},{"$f":"IF(E$28>$I$1,\"\",SUM('印刷-目標ごとの達成度(P.7-8)'!$AX$72:AZ86))","v":""},{"$f":"IF(F$28>$I$1,\"\",SUM('印刷-目標ごとの達成度(P.7-8)'!$AX$72:BA86))","v":""},{"$f":"IF(G$28>$I$1,\"\",SUM('印刷-目標ごとの達成度(P.7-8)'!$AX$72:BB86))","v":""},{"$f":"IF(H$28>$I$1,\"\",SUM('印刷-目標ごとの達成度(P.7-8)'!$AX$72:BC86))","v":""},{"$f":"IF(I$28>$I$1,\"\",SUM('印刷-目標ごとの達成度(P.7-8)'!$AX$72:BD86))","v":""},{"$f":"IF(J$28>$I$1,\"\",SUM('印刷-目標ごとの達成度(P.7-8)'!$AX$72:BE86))","v":""},{"$f":"IF(K$28>$I$1,\"\",SUM('印刷-目標ごとの達成度(P.7-8)'!$AX$72:BF86))","v":""},{"$f":"IF(L$28>$I$1,\"\",SUM('印刷-目標ごとの達成度(P.7-8)'!$AX$72:BG86))","v":""}]
["(I)\nデザイン能力","取得合計必修科目",{"$f":"IF(C$28>$I$1,\"\",SUM('印刷-目標ごとの達成度(P.7-8)'!$Q$87:Q92))","v":0},{"$f":"IF(D$28>$I$1,\"\",SUM('印刷-目標ごとの達成度(P.7-8)'!$Q$87:R92))","v":0},{"$f":"IF(E$28>$I$1,\"\",SUM('印刷-目標ごとの達成度(P.7-8)'!$Q$87:S92))","v":""},{"$f":"IF(F$28>$I$1,\"\",SUM('印刷-目標ごとの達成度(P.7-8)'!$Q$87:T92))","v":""},{"$f":"IF(G$28>$I$1,\"\",SUM('印刷-目標ごとの達成度(P.7-8)'!$Q$87:U92))","v":""},{"$f":"IF(H$28>$I$1,\"\",SUM('印刷-目標ごとの達成度(P.7-8)'!$Q$87:V92))","v":""},{"$f":"IF(I$28>$I$1,\"\",SUM('印刷-目標ごとの達成度(P.7-8)'!$Q$87:W92))","v":""},{"$f":"IF(J$28>$I$1,\"\",SUM('印刷-目標ごとの達成度(P.7-8)'!$Q$87:X92))","v":""},{"$f":"IF(K$28>$I$1,\"\",SUM('印刷-目標ごとの達成度(P.7-8)'!$Q$87:Y92))","v":""},{"$f":"IF(L$28>$I$1,\"\",SUM('印刷-目標ごとの達成度(P.7-8)'!$Q$87:Z92))","v":""}]
["土木GPT対象科目の単位数",null,{"$f":"IF(C$28>$I$1,\"\",共通科目!X94+専門科目!V51)","v":0},{"$f":"IF(D$28>$I$1,\"\",共通科目!Y94+専門科目!W51)","v":0},{"$f":"IF(E$28>$I$1,\"\",共通科目!Z94+専門科目!X51)","v":""},{"$f":"IF(F$28>$I$1,\"\",共通科目!AA94+専門科目!Y51)","v":""},{"$f":"IF(G$28>$I$1,\"\",共通科目!AB94+専門科目!Z51)","v":""},{"$f":"IF(H$28>$I$1,\"\",共通科目!AC94+専門科目!AA51)","v":""},{"$f":"IF(I$28>$I$1,\"\",共通科目!AD94+専門科目!AB51)","v":""},{"$f":"IF(J$28>$I$1,\"\",共通科目!AE94+専門科目!AC51)","v":""},{"$f":"IF(K$28>$I$1,\"\",共通科目!AF94+専門科目!AD51)","v":""},{"$f":"IF(L$28>$I$1,\"\",共通科目!AG94+専門科目!AE51)","v":""}]
["土木GPT対象科目のGPA",null,{"$f":"IF(C$28>$I$1,\"\",IF(C23=0,0,C25/C23))","v":0},0,"","","","","","","",""]
["土木GPT",null,{"$f":"IF(C$28>$I$1,\"\",共通科目!AI94+専門科目!AG51)","v":0},{"$f":"IF(D$28>$I$1,\"\",共通科目!AJ94+専門科目!AH51)","v":0},{"$f":"IF(E$28>$I$1,\"\",共通科目!AK94+専門科目!AI51)","v":""},{"$f":"IF(F$28>$I$1,\"\",共通科目!AL94+専門科目!AJ51)","v":""},{"$f":"IF(G$28>$I$1,\"\",共通科目!AM94+専門科目!AK51)","v":""},{"$f":"IF(H$28>$I$1,\"\",共通科目!AN94+専門科目!AL51)","v":""},{"$f":"IF(I$28>$I$1,\"\",共通科目!AO94+専門科目!AM51)","v":""},{"$f":"IF(J$28>$I$1,\"\",共通科目!AP94+専門科目!AN51)","v":""},{"$f":"IF(K$28>$I$1,\"\",共通科目!AQ94+専門科目!AO51)","v":""},{"$f":"IF(L$28>$I$1,\"\",共通科目!AR94+専門科目!AP51)","v":""}]
[null,null,{"$f":"C1","v":2024},{"$f":"C26+1","v":2025},{"$f":"D26","v":2025},{"$f":"E26+1","v":2026},{"$f":"F26","v":2026},{"$f":"G26+1","v":2027},{"$f":"H26","v":2027},{"$f":"I26+1","v":2028},{"$f":"J26","v":2028},{"$f":"K26+1","v":2029}]
[null,null,9,3,9,3,9,3,9,3,9,3]
[null,null,{"$f":"DATE(C26,C27,1)","v":"2024-09-01"},{"$f":"DATE(D26,D27,1)","v":"2025-03-01"},"2025-09-01","2026-03-01","2026-09-01","2027-03-01","2027-09-01","2028-03-01","2028-09-01","2029-03-01"]
["※ 各時点で取得しているそれぞれの単位数を記録すること．"]
["※ Req は各学習・教育到達目標を達成するために必要な単位数，Max は最大値である．"]
["※ 取得合計は各学習・教育到達目標を満たすために必要な必修科目とその他の必要科目の合計にはならない"]
["場合もあることに注意すること（単位数がReq を達成後も，Max に近づけることを推奨する）．"]

{"sheet":"印刷-目標ごとの達成度(P.7-8)","index":5,"n_rows":118,"n_cols":60,"rows_kept":118,"cut":false,"hidden":false,"merged":[[86,1,91,1],[90,3,90,4],[88,3,88,4],[89,3,89,4],[84,3,84,4],[86,3,86,4],[87,3,87,4],[78,3,78,4],[80,3,80,4],[91,3,91,4],[83,3,83,4],[81,3,81,4],[41,11,50,11],[48,3,48,4],[25,10,40,10],[43,3,43,4],[51,11,59,11],[51,1,59,1],[25,11,40,11],[57,3,57,4],[71,1,85,1],[79,3,79,4],[25,1,40,1],[41,1,50,1],[25,3,25,4],[56,3,56,4],[60,1,65,1],[70,3,70,4],[68,3,68,4],[42,3,42,4],[71,3,71,4],[71,10,85,10],[82,3,82,4],[85,3,85,4],[69,3,69,4],[41,10,50,10],[12,3,12,4],[18,3,18,4],[41,0,65,0],[41,9,50,9],[25,9,40,9],[27,3,27,4],[60,3,60,4],[65,3,65,4],[24,3,24,4],[64,3,64,4],[63,3,63,4],[62,3,62,4],[61,3,61,4],[73,3,73,4],[76,3,76,4],[77,3,77,4],[75,3,75,4],[26,3,26,4],[3,3,3,4],[8,3,8,4],[86,11,91,11],[86,9,91,9],[71,9,85,9],[86,10,91,10],[66,3,66,4],[72,3,72,4],[23,3,23,4],[5,3,5,4],[51,9,59,9],[52,3,52,4],[53,3,53,4],[50,3,50,4],[47,3,47,4],[54,3,54,4],[51,3,51,4],[55,3,55,4],[59,3,59,4],[12,9,24,9],[67,3,67,4],[71,11,85,11],[12,10,24,10],[74,3,74,4],[0,0,0,11],[17,3,17,4],[1,0,1,1],[2,11,11,11],[12,11,24,11],[10,3,10,4],[11,3,11,4],[16,3,16,4],[21,3,21,4],[22,3,22,4],[9,3,9,4],[2,0,40,0],[29,3,29,4],[2,1,11,1],[28,3,28,4],[30,3,40,3],[13,3,13,4],[2,9,11,9],[12,1,24,1],[19,3,19,4],[6,3,6,4],[7,3,7,4],[14,3,14,4],[2,3,2,4],[0,49,0,59],[0,16,0,26],[0,27,0,37],[0,38,0,48],[66,0,91,0],[66,1,70,1],[60,9,65,9],[60,10,65,10],[60,11,65,11],[66,9,70,9],[66,10,70,10],[66,11,70,11],[1,3,1,4],[41,3,41,4],[20,3,20,4],[4,3,4,4],[15,3,15,4],[58,3,58,4],[51,10,59,10],[45,3,45,4],[46,3,46,4],[44,3,44,4],[49,3,49,4],[2,10,11,10]]}
["「学習・教育到達目標」達成状況 自己チェックシート\n統合チェックシート（EXCEL版）は学科HP（http://www.cm.nitech.ac.jp/civil/）の「学生支援（在学生向け）」より入手のこと",null,null,null,null,null,null,null,null,null,null,null,null,null,null,null,"取得単位数",null,null,null,null,null,null,null,null,null,null,"GPT",null,null,null,null,null,null,null,null,null,null,"取得科目数",null,null,null,null,null,null,null,null,null,null,"取得単位数（必修）"]
["学習・教育到達目標",null,"◎必修フラグ","関連する科目（◎必修）",null,"開講時期","単位数","単位取得\n年度・学期","成績","取得\n単位数","GPT","GPA",null,"点数","取得単位数","学期",1,2,3,4,5,6,7,8,9,10,11,1,2,3,4,5,6,7,8,9,10,11,1,2,3,4,5,6,7,8,9,10,11,1,2,3,4,5,6,7,8,9,10,11]
["Ⅰ　幅広い教養と技術者倫理","(A) 科学技術基礎\n(科学技術の共通基礎科目として数学・外国語・情報処理能力を習得する)",1,"◎線形代数Ⅰ",null,"１年前期",2,{"$f":"VLOOKUP(RIGHT(D3,LEN(D3)-1),共通科目!E$6:Q$93,12,FALSE)&\"\"","v":""},{"$f":"VLOOKUP(RIGHT(D3,LEN(D3)-1),共通科目!E$6:Q$93,13,FALSE)&\"\"","v":""},{"$f":"SUM(O3:O12)","v":0},{"$f":"IF(SUM(O3:O12)=0,\"0\",SUM(N3:N12))","v":"0"},{"$f":"IF(SUM(O3:O12)=0,\"0\",SUM(N3:N12)/SUM(O3:O12))","v":"0"},null,{"$f":"IF(OR(G3=\"\",I3=\"\"),0,G3*INDEX($P$94:$P$103,MATCH(I3,$O$94:$O$103,0),1))","v":0},{"$f":"IF(OR(G3=\"\",I3=\"\"),0,G3*IF(INDEX($P$94:$P$103,MATCH(I3,$O$94:$O$103,0),1)>0,1,0))","v":0},{"$f":"IF(H3=\"\",99,INDEX($N$108:$N$118,MATCH(H3,$O$108:$O$118,0),1))","v":99},{"$f":"IF($P3=AB$2,$O3,0)","v":0},{"$f":"IF($P3=AC$2,$O3,0)","v":0},{"$f":"IF($P3=AD$2,$O3,0)","v":0},{"$f":"IF($P3=AE$2,$O3,0)","v":0},{"$f":"IF($P3=AF$2,$O3,0)","v":0},{"$f":"IF($P3=AG$2,$O3,0)","v":0},{"$f":"IF($P3=AH$2,$O3,0)","v":0},{"$f":"IF($P3=AI$2,$O3,0)","v":0},{"$f":"IF($P3=AJ$2,$O3,0)","v":0},{"$f":"IF($P3=AK$2,$O3,0)","v":0},{"$f":"IF($P3=AL$2,$O3,0)","v":0},{"$f":"IF($P3=AB$2,$N3,0)","v":0},{"$f":"IF($P3=AC$2,$N3,0)","v":0},{"$f":"IF($P3=AD$2,$N3,0)","v":0},0,0,0,0,0,0,0,0,{"$f":"IF($P3=AB$2,ROUND($N3/$N3,0),0)","v":0},{"$f":"IF($P3=AC$2,ROUND($N3/$N3,0),0)","v":0},{"$f":"IF($P3=AD$2,ROUND($N3/$N3,0),0)","v":0},0,0,0,0,0,0,0,0,{"$f":"IF($C3=1,IF($P3=AX$2,$O3,0),0)","v":0},{"$f":"IF($C3=1,IF($P3=AY$2,$O3,0),0)","v":0},{"$f":"IF($C3=1,IF($P3=AZ$2,$O3,0),0)","v":0},0,0,0,0,0,{"$f":"IF($C3=1,IF($P3=BF$2,$O3,0),0)","v":0},0,0]
[null,null,1,"◎線形代数Ⅱ",null,"１年後期",2,{"$f":"VLOOKUP(RIGHT(D4,LEN(D4)-1),共通科目!E$6:Q$93,12,FALSE)&\"\"","v":""},{"$f":"VLOOKUP(RIGHT(D4,LEN(D4)-1),共通科目!E$6:Q$93,13,FALSE)&\"\"","v":""},null,null,null,null,0,0,99,{"$f":"IF($P4=AB$2,$O4,0)","v":0},0,0,0,{"$f":"IF($P4=AF$2,$O4,0)","v":0},0,0,0,0,0,0,{"$f":"IF($P4=AB$2,$N4,0)","v":0},0,0,0,0,0,0,0,0,0,0,{"$f":"IF($P4=AB$2,ROUND($N4/$N4,0),0)","v":0},0,0,0,0,0,0,0,0,0,0,{"$f":"IF($C4=1,IF($P4=AX$2,$O4,0),0)","v":0},{"$f":"IF($C4=1,IF($P4=AY$2,$O4,0),0)","v":0},0,0,0,0,0,0,0,0,0]
[null,null,1,"◎微分積分Ⅰ及び演習",null,"１年前期",3,{"$f":"VLOOKUP(RIGHT(D5,LEN(D5)-1),共通科目!E$6:Q$93,12,FALSE)&\"\"","v":""},{"$f":"VLOOKUP(RIGHT(D5,LEN(D5)-1),共通科目!E$6:Q$93,13,FALSE)&\"\"","v":""},null,null,null,null,0,0,99,{"$f":"IF($P5=AB$2,$O5,0)","v":0},0,0,0,0,0,0,0,0,0,0,{"$f":"IF($P5=AB$2,$N5,0)","v":0},0,0,0,0,0,0,0,0,0,0,0,0,0,0,0,0,0,0,0,0,0,0,0,0,0,0,0,0,0,0,0,0]
[null,null,0,"　微分積分Ⅱ及び演習",null,"１年後期",3,{"$f":"VLOOKUP(RIGHT(D6,LEN(D6)-1),共通科目!E$6:Q$93,12,FALSE)&\"\"","v":""},{"$f":"VLOOKUP(RIGHT(D6,LEN(D6)-1),共通科目!E$6:Q$93,13,FALSE)&\"\"","v":""},null,null,null,null,0,0,99,0,0,0,0,0,0,0,0,0,0,0,0,0,0,0,0,0,0,0,0,0,0,0,0,0,0,0,0,0,0,0,0,0,0,0,0,0,0,0,0,0,0,0,0]
[null,null,1,"◎数理情報概論",null,"１年後期",2,{"$f":"VLOOKUP(RIGHT(D7,LEN(D7)-1),共通科目!E$6:Q$93,12,FALSE)&\"\"","v":""},{"$f":"VLOOKUP(RIGHT(D7,LEN(D7)-1),共通科目!E$6:Q$93,13,FALSE)&\"\"","v":""},null,null,null,null,0,0,99,{"$f":"IF($P7=AB$2,$O7,0)","v":0},0,0,0,0,0,0,0,0,0,0,0,0,0,0,0,0,0,0,0,0,0,0,0,0,0,0,0,0,0,0,0,0,0,0,0,0,0,0,0,0,0,0,0]
[null,null,1,"◎社会工学基礎Ⅱ",null,"１年後期",2,{"$f":"VLOOKUP(RIGHT(D8,LEN(D8)-1),専門科目!D$6:P$50,12,FALSE)&\"\"","v":""},{"$f":"VLOOKUP(RIGHT(D8,LEN(D8)-1),専門科目!D$6:P$50,13,FALSE)&\"\"","v":""},null,null,null,null,0,0,99,0,0,0,0,0,0,0,0,0,0,0,0,0,0,0,0,0,0,0,0,0,0,0,0,0,0,0,0,0,0,0,0,0,0,0,0,0,0,0,0,0,0,0,0]
[null,null,1,"◎環境都市情報技術",null,"２年前期",1,{"$f":"VLOOKUP(RIGHT(D9,LEN(D9)-1),専門科目!D$6:P$50,12,FALSE)&\"\"","v":""},{"$f":"VLOOKUP(RIGHT(D9,LEN(D9)-1),専門科目!D$6:P$50,13,FALSE)&\"\"","v":""},null,null,null,null,0,0,99,0,0,0,0,0,0,0,0,0,0,0,0,0,0,0,0,0,0,0,0,0,0,0,0,0,0,0,0,0,0,0,0,0,0,0,0,0,0,0,0,0,0,0,0]
[null,null,1,"◎Academic EnglishⅠ",null,"１年前期",2,{"$f":"VLOOKUP(RIGHT(D10,LEN(D10)-1),共通科目!E$6:Q$93,12,FALSE)&\"\"","v":""},{"$f":"VLOOKUP(RIGHT(D10,LEN(D10)-1),共通科目!E$6:Q$93,13,FALSE)&\"\"","v":""},null,null,null,null,0,0,99,{"$f":"IF($P10=AB$2,$O10,0)","v":0},0,0,0,0,0,0,0,0,0,0,0,0,0,0,0,0,0,0,0,0,0,0,0,0,0,0,0,0,0,0,0,0,0,0,0,0,0,0,0,0,0,0,0]
[null,null,1,"◎Academic EnglishⅡ",null,"１年後期",2,{"$f":"VLOOKUP(RIGHT(D11,LEN(D11)-1),共通科目!E$6:Q$93,12,FALSE)&\"\"","v":""},{"$f":"VLOOKUP(RIGHT(D11,LEN(D11)-1),共通科目!E$6:Q$93,13,FALSE)&\"\"","v":""},null,null,null,null,0,0,99,0,0,0,0,0,0,0,0,0,0,0,0,0,0,0,0,0,0,0,0,0,0,0,0,0,0,0,0,0,0,0,0,0,0,0,0,0,0,0,0,0,0,0,0]
[null,null,1,"◎Academic EnglishⅢ",null,"２年前期",2,{"$f":"VLOOKUP(RIGHT(D12,LEN(D12)-1),共通科目!E$6:Q$93,12,FALSE)&\"\"","v":""},{"$f":"VLOOKUP(RIGHT(D12,LEN(D12)-1),共通科目!E$6:Q$93,13,FALSE)&\"\"","v":""},null,null,null,null,0,0,99,0,0,0,0,0,0,0,0,0,0,0,0,0,0,0,0,0,0,0,0,0,0,0,0,0,0,0,0,0,0,0,0,0,0,0,0,0,0,0,0,0,0,0,0]
[null,"(B) 自然科学 \n(自然科学全般に関する広い知識を修得し、科学的思考能力を高める)",1,"◎力学",null,"１年前期",2,{"$f":"VLOOKUP(RIGHT(D13,LEN(D13)-1),共通科目!E$6:Q$93,12,FALSE)&\"\"","v":""},{"$f":"VLOOKUP(RIGHT(D13,LEN(D13)-1),共通科目!E$6:Q$93,13,FALSE)&\"\"","v":""},{"$f":"SUM(O13:O25)","v":0},{"$f":"IF(SUM(O13:O25)=0,\"0\",SUM(N13:N25))","v":"0"},{"$f":"IF(SUM(O13:O25)=0,\"0\",SUM(N13:N25)/SUM(O13:O25))","v":"0"},null,0,0,99,0,0,0,0,0,0,0,0,0,0,0,0,0,0,0,0,0,0,0,0,0,0,0,0,{"$f":"IF($P13=AD$2,ROUND($N13/$N13,0),0)","v":0},{"$f":"IF($P13=AE$2,ROUND($N13/$N13,0),0)","v":0},{"$f":"IF($P13=AF$2,ROUND($N13/$N13,0),0)","v":0},{"$f":"IF($P13=AG$2,ROUND($N13/$N13,0),0)","v":0},{"$f":"IF($P13=AH$2,ROUND($N13/$N13,0),0)","v":0},{"$f":"IF($P13=AI$2,ROUND($N13/$N13,0),0)","v":0},{"$f":"IF($P13=AJ$2,ROUND($N13/$N13,0),0)","v":0},{"$f":"IF($P13=AK$2,ROUND($N13/$N13,0),0)","v":0},{"$f":"IF($P13=AL$2,ROUND($N13/$N13,0),0)","v":0},0,0,0,0,0,0,0,0,0,0,0]
[null,null,1,"◎社会工学基礎Ⅰ",null,"１年前期",2,{"$f":"VLOOKUP(RIGHT(D14,LEN(D14)-1),専門科目!D$6:P$50,12,FALSE)&\"\"","v":""},{"$f":"VLOOKUP(RIGHT(D14,LEN(D14)-1),専門科目!D$6:P$50,13,FALSE)&\"\"","v":""},null,null,null,null,0,0,99,{"$f":"IF($P14=AB$2,$O14,0)","v":0},{"$f":"IF($P14=AC$2,$O14,0)","v":0},{"$f":"IF($P14=AD$2,$O14,0)","v":0},{"$f":"IF($P14=AE$2,$O14,0)","v":0},{"$f":"IF($P14=AF$2,$O14,0)","v":0},{"$f":"IF($P14=AG$2,$O14,0)","v":0},{"$f":"IF($P14=AH$2,$O14,0)","v":0},{"$f":"IF($P14=AI$2,$O14,0)","v":0},{"$f":"IF($P14=AJ$2,$O14,0)","v":0},{"$f":"IF($P14=AK$2,$O14,0)","v":0},{"$f":"IF($P14=AL$2,$O14,0)","v":0},0,0,0,0,0,0,0,0,0,0,0,{"$f":"IF($P14=AB$2,ROUND($N14/$N14,0),0)","v":0},{"$f":"IF($P14=AC$2,ROUND($N14/$N14,0),0)","v":0},0,0,0,0,0,0,0,0,0,0,0,0,0,0,0,0,0,0,0,0]
[null,null,0,"　物理学演習Ⅰ",null,"１年前期",1,{"$f":"VLOOKUP(RIGHT(D15,LEN(D15)-1),共通科目!E$6:Q$93,12,FALSE)&\"\"","v":""},{"$f":"VLOOKUP(RIGHT(D15,LEN(D15)-1),共通科目!E$6:Q$93,13,FALSE)&\"\"","v":""},null,null,null,null,0,0,99,0,0,0,0,0,0,0,0,0,0,0,0,0,0,0,0,0,0,0,0,0,0,0,0,0,0,0,0,0,0,0,0,0,0,0,0,0,0,0,0,0,0,0,0]
[null,null,0,"　物理学実験",null,"１年後期",2,{"$f":"VLOOKUP(RIGHT(D16,LEN(D16)-1),共通科目!E$6:Q$93,12,FALSE)&\"\"","v":""},{"$f":"VLOOKUP(RIGHT(D16,LEN(D16)-1),共通科目!E$6:Q$93,13,FALSE)&\"\"","v":""},null,null,null,null,0,0,99,0,0,0,0,0,0,0,0,0,0,0,0,0,0,0,0,0,0,0,0,0,0,0,0,0,0,0,0,0,0,0,0,0,0,0,0,0,0,0,0,0,0,0,0]
[null,null,0,"　電磁気学",null,"１年後期",2,{"$f":"VLOOKUP(RIGHT(D17,LEN(D17)-1),共通科目!E$6:Q$93,12,FALSE)&\"\"","v":""},{"$f":"VLOOKUP(RIGHT(D17,LEN(D17)-1),共通科目!E$6:Q$93,13,FALSE)&\"\"","v":""},null,null,null,null,0,0,99,0,0,0,0,0,0,0,0,0,0,0,0,0,0,0,0,0,0,0,0,0,0,0,0,0,0,0,0,0,0,0,0,0,0,0,0,0,0,0,0,0,0,0,0]
[null,null,0,"　基礎化学",null,"１年後期",2,{"$f":"VLOOKUP(RIGHT(D18,LEN(D18)-1),共通科目!E$6:Q$93,12,FALSE)&\"\"","v":""},{"$f":"VLOOKUP(RIGHT(D18,LEN(D18)-1),共通科目!E$6:Q$93,13,FALSE)&\"\"","v":""},null,null,null,null,0,0,99,0,0,0,0,0,0,0,0,0,0,0,0,0,0,0,0,0,0,0,0,0,0,0,0,0,0,0,0,0,0,0,0,0,0,0,0,0,0,0,0,0,0,0,0]
[null,null,0,"　化学結合論",null,"１年前期",2,{"$f":"VLOOKUP(RIGHT(D19,LEN(D19)-1),共通科目!E$6:Q$93,12,FALSE)&\"\"","v":""},{"$f":"VLOOKUP(RIGHT(D19,LEN(D19)-1),共通科目!E$6:Q$93,13,FALSE)&\"\"","v":""},null,null,null,null,0,0,99,0,0,0,0,0,0,0,0,0,0,0,0,0,0,0,0,0,0,0,0,0,0,0,0,0,0,0,0,0,0,0,0,0,0,0,0,0,0,0,0,0,0,0,0]
[null,null,0,"　地球科学",null,"２年前期",2,{"$f":"VLOOKUP(RIGHT(D20,LEN(D20)-1),共通科目!E$6:Q$93,12,FALSE)&\"\"","v":""},{"$f":"VLOOKUP(RIGHT(D20,LEN(D20)-1),共通科目!E$6:Q$93,13,FALSE)&\"\"","v":""},null,null,null,null,0,0,99,0,0,0,0,0,0,0,0,0,0,0,0,{"$f":"IF($P20=AC$2,$N20,0)","v":0},0,0,0,0,0,0,0,0,0,0,0,0,0,0,0,0,0,0,0,0,0,0,0,0,0,0,0,0,0,0,0]
[null,null,0,"　地球科学実験",null,"２年後期",1,{"$f":"VLOOKUP(RIGHT(D21,LEN(D21)-1),共通科目!E$6:Q$93,12,FALSE)&\"\"","v":""},{"$f":"VLOOKUP(RIGHT(D21,LEN(D21)-1),共通科目!E$6:Q$93,13,FALSE)&\"\"","v":""},null,null,null,null,0,0,99,0,0,0,0,0,0,0,0,0,0,0,{"$f":"IF($P21=AB$2,$N21,0)","v":0},0,0,0,0,0,0,0,0,0,0,0,0,0,0,0,0,0,0,0,0,0,0,0,0,0,0,0,0,0,0,0,0]
[null,null,1,"◎環境生態学",null,"２年前期",2,{"$f":"VLOOKUP(RIGHT(D22,LEN(D22)-1),専門科目!D$6:P$50,12,FALSE)&\"\"","v":""},{"$f":"VLOOKUP(RIGHT(D22,LEN(D22)-1),専門科目!D$6:P$50,13,FALSE)&\"\"","v":""},null,null,null,null,0,0,99,0,0,0,0,0,0,0,0,0,0,0,0,0,0,0,0,0,0,0,0,0,0,0,0,0,0,0,0,0,0,0,0,0,0,0,0,0,0,0,0,0,0,0,0]
[null,null,0,"　生体機能科学",null,"２年後期",2,{"$f":"VLOOKUP(RIGHT(D23,LEN(D23)-1),共通科目!E$6:Q$93,12,FALSE)&\"\"","v":""},{"$f":"VLOOKUP(RIGHT(D23,LEN(D23)-1),共通科目!E$6:Q$93,13,FALSE)&\"\"","v":""},null,null,null,null,0,0,99,{"$f":"IF($P23=AB$2,$O23,0)","v":0},0,0,0,0,0,0,0,0,0,0,0,0,0,0,0,0,0,0,0,0,0,0,0,0,0,0,0,0,0,0,0,0,0,0,0,0,0,0,0,0,0,0,0]
[null,null,0,"　専門基礎科学Ⅰ（留学生）",null,"１年前期",2,{"$f":"VLOOKUP(RIGHT(D24,LEN(D24)-1),共通科目!E$6:Q$93,12,FALSE)&\"\"","v":""},{"$f":"VLOOKUP(RIGHT(D24,LEN(D24)-1),共通科目!E$6:Q$93,13,FALSE)&\"\"","v":""},null,null,null,null,0,0,99,0,0,0,0,0,0,0,0,0,0,0,0,0,0,0,0,0,0,0,0,0,0,0,0,0,0,0,0,0,0,0,0,0,0,0,0,0,0,0,0,0,0,0,0]
[null,null,0,"　専門基礎科学Ⅱ（留学生）",null,"１年後期",2,{"$f":"VLOOKUP(RIGHT(D25,LEN(D25)-1),共通科目!E$6:Q$93,12,FALSE)&\"\"","v":""},{"$f":"VLOOKUP(RIGHT(D25,LEN(D25)-1),共通科目!E$6:Q$93,13,FALSE)&\"\"","v":""},null,null,null,null,0,0,99,0,0,0,0,0,0,0,0,0,0,0,0,0,0,0,0,0,0,0,0,0,0,0,0,0,0,0,0,0,0,0,0,0,0,0,0,0,0,0,0,0,0,0,0]
[null,"(C) 多面的思考と技術者倫理 \n(人類の文化，社会や自然に関する多面的な思考力を修得し，技術者としての倫理・責任感を身につける)",1,"◎環境生態学",null,"２年前期",2,{"$f":"VLOOKUP(RIGHT(D26,LEN(D26)-1),専門科目!D$6:P$50,12,FALSE)&\"\"","v":""},{"$f":"VLOOKUP(RIGHT(D26,LEN(D26)-1),専門科目!D$6:P$50,13,FALSE)&\"\"","v":""},{"$f":"SUM(O26:O41)","v":0},{"$f":"IF(SUM(O26:O41)=0,\"0\",SUM(N26:N41))","v":"0"},{"$f":"IF(SUM(O26:O41)=0,\"0\",SUM(N26:N41)/SUM(O26:O41))","v":"0"},null,0,0,99,0,0,0,0,0,0,0,0,0,0,0,0,0,0,0,0,0,0,0,0,0,0,0,0,0,0,0,0,0,0,0,0,0,0,0,0,0,0,0,0,0,0,0,0]
[null,null,1,"◎産業論",null,"２年後期",1,{"$f":"VLOOKUP(RIGHT(D27,LEN(D27)-1),共通科目!E$6:Q$93,12,FALSE)&\"\"","v":""},{"$f":"VLOOKUP(RIGHT(D27,LEN(D27)-1),共通科目!E$6:Q$93,13,FALSE)&\"\"","v":""},null,null,null,null,0,0,99,0,0,0,0,0,0,0,0,0,0,0,0,0,0,0,0,0,0,0,0,0,0,0,0,0,0,0,0,0,0,0,0,0,0,0,0,0,0,0,0,0,0,0,0]
[null,null,1,"◎環境都市技術者倫理",null,"２年後期",2,{"$f":"VLOOKUP(RIGHT(D28,LEN(D28)-1),専門科目!D$6:P$50,12,FALSE)&\"\"","v":""},{"$f":"VLOOKUP(RIGHT(D28,LEN(D28)-1),専門科目!D$6:P$50,13,FALSE)&\"\"","v":""},null,null,null,null,0,0,99,0,0,0,0,0,0,0,0,0,0,0,0,0,0,0,0,0,0,0,0,0,0,0,0,0,0,0,0,0,0,0,0,0,0,0,0,0,0,0,0,0,0,0,0]
[null,null,1,"◎実践研究セミナー",null,"３年後期",2,{"$f":"VLOOKUP(RIGHT(D29,LEN(D29)-1),専門科目!D$6:P$50,12,FALSE)&\"\"","v":""},{"$f":"VLOOKUP(RIGHT(D29,LEN(D29)-1),専門科目!D$6:P$50,13,FALSE)&\"\"","v":""},null,null,null,null,0,0,99,0,0,0,0,0,0,0,0,0,0,0,0,0,0,0,0,0,0,0,0,0,0,0,0,0,0,0,0,0,0,0,0,0,0,0,0,0,0,0,0,0,0,0,0]
[null,null,0,"　建設マネジメント",null,"３年後期",2,{"$f":"VLOOKUP(RIGHT(D30,LEN(D30)-1),専門科目!D$6:P$50,12,FALSE)&\"\"","v":""},{"$f":"VLOOKUP(RIGHT(D30,LEN(D30)-1),専門科目!D$6:P$50,13,FALSE)&\"\"","v":""},null,null,null,null,0,0,99,0,0,0,0,0,0,0,0,0,0,0,0,0,0,0,0,0,0,0,0,0,0,0,0,0,0,0,0,0,0,0,0,0,0,0,0,0,0,0,0,0,0,0,0]
[null,null,0,"人間社会",{"$f":"SearchKamoku(共通科目!E$6:Q$42,\"\")","v":""},{"$f":"IF(E31=\"\",\"\",\"１～２年\")","v":""},{"$f":"IF(E31=\"\",\"\",INDEX(共通科目!$G$6:$G$57,MATCH(E31,共通科目!$E$6:$E$57,0),1))","v":""},{"$f":"IF(E31=\"\",\"\",VLOOKUP(E31,共通科目!E$6:Q$93,12,FALSE)&\"\")","v":""},{"$f":"IF(E31=\"\",\"\",VLOOKUP(E31,共通科目!E$6:Q$93,13,FALSE)&\"\")","v":""},null,null,null,null,0,0,99,0,0,0,0,0,0,0,0,0,0,0,0,0,0,0,0,0,0,0,0,0,0,0,0,0,0,0,0,0,0,0,0,0,0,0,0,0,0,0,0,0,0,0,0]
[null,null,0,null,{"$f":"IF(E31=\"\",\"\",SearchKamoku(共通科目!E$6:Q$42,E31))","v":""},{"$f":"IF(E32=\"\",\"\",\"１～２年\")","v":""},{"$f":"IF(E32=\"\",\"\",INDEX(共通科目!$G$6:$G$57,MATCH(E32,共通科目!$E$6:$E$57,0),1))","v":""},{"$f":"IF(E32=\"\",\"\",VLOOKUP(E32,共通科目!E$6:Q$93,12,FALSE)&\"\")","v":""},{"$f":"IF(E32=\"\",\"\",VLOOKUP(E32,共通科目!E$6:Q$93,13,FALSE)&\"\")","v":""},null,null,null,null,0,0,99,0,0,0,0,0,0,0,0,0,0,0,0,0,0,0,0,0,0,0,0,0,0,0,0,0,0,0,0,0,0,0,0,0,0,0,0,0,0,0,0,0,0,0,0]
[null,null,0,null,{"$f":"IF(E32=\"\",\"\",SearchKamoku(共通科目!E$6:Q$42,E32))","v":""},{"$f":"IF(E33=\"\",\"\",\"１～２年\")","v":""},{"$f":"IF(E33=\"\",\"\",INDEX(共通科目!$G$6:$G$57,MATCH(E33,共通科目!$E$6:$E$57,0),1))","v":""},{"$f":"IF(E33=\"\",\"\",VLOOKUP(E33,共通科目!E$6:Q$93,12,FALSE)&\"\")","v":""},{"$f":"IF(E33=\"\",\"\",VLOOKUP(E33,共通科目!E$6:Q$93,13,FALSE)&\"\")","v":""},null,null,null,null,0,0,99,0,0,0,0,0,0,0,0,0,0,0,{"$f":"IF($P33=AB$2,$N33,0)","v":0},0,0,0,0,0,0,0,0,0,0,0,0,0,0,0,0,0,0,0,0,0,0,0,0,0,0,0,0,0,0,0,0]
[null,null,0,null,{"$f":"IF(E33=\"\",\"\",SearchKamoku(共通科目!E$6:Q$42,E33))","v":""},"",{"$f":"IF(E34=\"\",\"\",INDEX(共通科目!$G$6:$G$57,MATCH(E34,共通科目!$E$6:$E$57,0),1))","v":""},{"$f":"IF(E34=\"\",\"\",VLOOKUP(E34,共通科目!E$6:Q$93,12,FALSE)&\"\")","v":""},{"$f":"IF(E34=\"\",\"\",VLOOKUP(E34,共通科目!E$6:Q$93,13,FALSE)&\"\")","v":""},null,null,null,null,0,0,99,0,0,0,0,0,0,0,0,0,0,0,0,0,0,0,0,0,0,0,0,0,0,0,0,0,0,0,0,0,0,0,0,0,0,0,0,0,0,0,0,0,0,0,0]
[null,null,0,null,{"$f":"IF(E34=\"\",\"\",SearchKamoku(共通科目!E$6:Q$42,E34))","v":""},"",{"$f":"IF(E35=\"\",\"\",INDEX(共通科目!$G$6:$G$57,MATCH(E35,共通科目!$E$6:$E$57,0),1))","v":""},{"$f":"IF(E35=\"\",\"\",VLOOKUP(E35,共通科目!E$6:Q$93,12,FALSE)&\"\")","v":""},{"$f":"IF(E35=\"\",\"\",VLOOKUP(E35,共通科目!E$6:Q$93,13,FALSE)&\"\")","v":""},null,null,null,null,0,0,99,{"$f":"IF($P35=AB$2,$O35,0)","v":0},{"$f":"IF($P35=AC$2,$O35,0)","v":0},{"$f":"IF($P35=AD$2,$O35,0)","v":0},{"$f":"IF($P35=AE$2,$O35,0)","v":0},{"$f":"IF($P35=AF$2,$O35,0)","v":0},{"$f":"IF($P35=AG$2,$O35,0)","v":0},{"$f":"IF($P35=AH$2,$O35,0)","v":0},{"$f":"IF($P35=AI$2,$O35,0)","v":0},{"$f":"IF($P35=AJ$2,$O35,0)","v":0},{"$f":"IF($P35=AK$2,$O35,0)","v":0},{"$f":"IF($P35=AL$2,$O35,0)","v":0},0,0,0,0,0,0,0,0,0,0,0,0,0,0,0,0,0,0,0,0,0,0,0,0,0,0,0,0,0,0,0,0,0]
[null,null,0,null,{"$f":"IF(E35=\"\",\"\",SearchKamoku(共通科目!E$6:Q$42,E35))","v":""},"",{"$f":"IF(E36=\"\",\"\",INDEX(共通科目!$G$6:$G$57,MATCH(E36,共通科目!$E$6:$E$57,0),1))","v":""},{"$f":"IF(E36=\"\",\"\",VLOOKUP(E36,共通科目!E$6:Q$93,12,FALSE)&\"\")","v":""},{"$f":"IF(E36=\"\",\"\",VLOOKUP(E36,共通科目!E$6:Q$93,13,FALSE)&\"\")","v":""},null,null,null,null,{"$f":"IF(OR(G36=\"\",I36=\"\"),0,G36*INDEX($P$94:$P$103,MATCH(I36,$O$94:$O$103,0),1))","v":0},{"$f":"IF(OR(G36=\"\",I36=\"\"),0,G36*IF(INDEX($P$94:$P$103,MATCH(I36,$O$94:$O$103,0),1)>0,1,0))","v":0},{"$f":"IF(H36=\"\",99,INDEX($N$108:$N$118,MATCH(H36,$O$108:$O$118,0),1))","v":99},0,0,0,0,0,0,0,0,0,0,0,0,0,0,0,0,0,0,0,0,0,0,0,0,0,0,0,0,0,0,0,0,0,{"$f":"IF($C36=1,IF($P36=AX$2,$O36,0),0)","v":0},0,0,0,0,0,0,0,0,0,0]
[null,null,0,null,{"$f":"IF(E36=\"\",\"\",SearchKamoku(共通科目!E$6:Q$42,E36))","v":""},"",{"$f":"IF(E37=\"\",\"\",INDEX(共通科目!$G$6:$G$57,MATCH(E37,共通科目!$E$6:$E$57,0),1))","v":""},{"$f":"IF(E37=\"\",\"\",VLOOKUP(E37,共通科目!E$6:Q$93,12,FALSE)&\"\")","v":""},{"$f":"IF(E37=\"\",\"\",VLOOKUP(E37,共通科目!E$6:Q$93,13,FALSE)&\"\")","v":""},null,null,null,null,0,0,99,0,0,0,0,0,0,0,0,0,0,0,0,0,0,0,0,0,0,0,0,0,0,0,0,0,0,0,0,0,0,0,0,0,0,0,0,0,0,0,0,0,0,0,0]
[null,null,0,null,{"$f":"IF(E37=\"\",\"\",SearchKamoku(共通科目!E$6:Q$42,E37))","v":""},"",{"$f":"IF(E38=\"\",\"\",INDEX(共通科目!$G$6:$G$57,MATCH(E38,共通科目!$E$6:$E$57,0),1))","v":""},{"$f":"IF(E38=\"\",\"\",VLOOKUP(E38,共通科目!E$6:Q$93,12,FALSE)&\"\")","v":""},{"$f":"IF(E38=\"\",\"\",VLOOKUP(E38,共通科目!E$6:Q$93,13,FALSE)&\"\")","v":""},null,null,null,null,0,0,99,0,0,0,0,0,0,0,0,0,0,0,0,0,0,0,0,0,0,0,0,0,0,0,0,0,0,0,0,0,0,0,0,0,0,0,0,0,0,0,0,0,0,0,0]
[null,null,0,null,{"$f":"IF(E38=\"\",\"\",SearchKamoku(共通科目!E$6:Q$42,E38))","v":""},"",{"$f":"IF(E39=\"\",\"\",INDEX(共通科目!$G$6:$G$57,MATCH(E39,共通科目!$E$6:$E$57,0),1))","v":""},{"$f":"IF(E39=\"\",\"\",VLOOKUP(E39,共通科目!E$6:Q$93,12,FALSE)&\"\")","v":""},{"$f":"IF(E39=\"\",\"\",VLOOKUP(E39,共通科目!E$6:Q$93,13,FALSE)&\"\")","v":""},null,null,null,null,0,0,99,0,0,0,0,0,0,0,0,0,0,0,0,0,0,0,0,0,0,0,0,0,0,0,0,0,0,0,0,0,0,0,0,0,0,0,0,0,0,0,0,0,0,0,0]
[null,null,0,null,{"$f":"IF(E39=\"\",\"\",SearchKamoku(共通科目!E$6:Q$42,E39))","v":""},"",{"$f":"IF(E40=\"\",\"\",INDEX(共通科目!$G$6:$G$57,MATCH(E40,共通科目!$E$6:$E$57,0),1))","v":""},{"$f":"IF(E40=\"\",\"\",VLOOKUP(E40,共通科目!E$6:Q$93,12,FALSE)&\"\")","v":""},{"$f":"IF(E40=\"\",\"\",VLOOKUP(E40,共通科目!E$6:Q$93,13,FALSE)&\"\")","v":""},null,null,null,null,0,0,99,0,0,0,0,0,0,0,0,0,0,0,0,0,0,0,0,0,0,0,0,0,0,0,0,0,0,0,0,0,0,0,0,0,0,0,0,0,0,0,0,0,0,0,0]
[null,null,0,null,{"$f":"IF(E40=\"\",\"\",SearchKamoku(共通科目!E$6:Q$42,E40))","v":""},"",{"$f":"IF(E41=\"\",\"\",INDEX(共通科目!$G$6:$G$57,MATCH(E41,共通科目!$E$6:$E$57,0),1))","v":""},{"$f":"IF(E41=\"\",\"\",VLOOKUP(E41,共通科目!E$6:Q$93,12,FALSE)&\"\")","v":""},{"$f":"IF(E41=\"\",\"\",VLOOKUP(E41,共通科目!E$6:Q$93,13,FALSE)&\"\")","v":""},null,null,null,null,0,0,99,0,0,0,0,0,0,0,0,0,0,0,0,0,0,0,0,0,0,0,0,0,0,0,0,0,0,0,0,0,0,0,0,0,0,0,0,0,0,0,0,0,0,0,0]
["Ⅱ　基礎的学理・専門知識・応用能力","(D) 主要専門基礎 \n(主要専門科目の基礎を身につける)",1,"◎社会工学概論",null,"１年前期",2,{"$f":"VLOOKUP(RIGHT(D42,LEN(D42)-1),専門科目!D$6:P$50,12,FALSE)&\"\"","v":""},{"$f":"VLOOKUP(RIGHT(D42,LEN(D42)-1),専門科目!D$6:P$50,13,FALSE)&\"\"","v":""},{"$f":"SUM(O42:O51)","v":0},{"$f":"IF(SUM(O42:O51)=0,\"0\",SUM(N42:N51))","v":"0"},{"$f":"IF(SUM(O42:O51)=0,\"0\",SUM(N42:N51)/SUM(O42:O51))","v":"0"},null,0,0,99,0,0,0,0,0,0,0,0,0,0,0,0,0,0,0,0,0,0,0,0,0,0,0,0,0,0,0,0,0,0,0,0,0,0,0,0,0,0,0,0,0,0,0,0]
[null,null,1,"◎構造力学Ⅰ",null,"２年前期",2,{"$f":"VLOOKUP(RIGHT(D43,LEN(D43)-1),専門科目!D$6:P$50,12,FALSE)&\"\"","v":""},{"$f":"VLOOKUP(RIGHT(D43,LEN(D43)-1),専門科目!D$6:P$50,13,FALSE)&\"\"","v":""},null,null,null,null,0,0,99,{"$f":"IF($P43=AB$2,$O43,0)","v":0},0,0,0,0,0,0,0,0,0,0,0,0,0,0,0,0,0,0,0,0,0,0,0,0,0,0,0,0,0,0,0,0,0,0,0,0,0,0,0,0,0,0,0]
[null,null,1,"◎構造力学Ⅱ",null,"２年後期",2,{"$f":"VLOOKUP(RIGHT(D44,LEN(D44)-1),専門科目!D$6:P$50,12,FALSE)&\"\"","v":""},{"$f":"VLOOKUP(RIGHT(D44,LEN(D44)-1),専門科目!D$6:P$50,13,FALSE)&\"\"","v":""},null,null,null,null,0,0,99,0,0,0,0,0,0,0,0,0,0,0,0,0,0,0,0,0,0,0,0,0,0,0,0,0,0,0,0,0,0,0,0,0,0,0,0,0,0,0,0,0,0,0,0]
[null,null,1,"◎構築材質学",null,"２年前期",2,{"$f":"VLOOKUP(RIGHT(D45,LEN(D45)-1),専門科目!D$6:P$50,12,FALSE)&\"\"","v":""},{"$f":"VLOOKUP(RIGHT(D45,LEN(D45)-1),専門科目!D$6:P$50,13,FALSE)&\"\"","v":""},null,null,null,null,0,0,99,0,0,0,0,0,0,0,0,0,0,0,0,0,0,0,0,0,0,0,0,0,0,0,0,0,0,0,0,0,0,0,0,0,0,0,0,0,0,0,0,0,0,0,0]
[null,null,1,"◎コンクリート構造学",null,"２年後期",2,{"$f":"VLOOKUP(RIGHT(D46,LEN(D46)-1),専門科目!D$6:P$50,12,FALSE)&\"\"","v":""},{"$f":"VLOOKUP(RIGHT(D46,LEN(D46)-1),専門科目!D$6:P$50,13,FALSE)&\"\"","v":""},null,null,null,null,0,0,99,0,0,0,0,0,0,0,0,0,0,0,0,0,0,0,0,0,0,0,0,0,0,0,0,0,0,0,0,0,0,0,0,0,0,0,0,0,0,0,0,0,0,0,0]
[null,null,1,"◎地盤力学",null,"２年前期",2,{"$f":"VLOOKUP(RIGHT(D47,LEN(D47)-1),専門科目!D$6:P$50,12,FALSE)&\"\"","v":""},{"$f":"VLOOKUP(RIGHT(D47,LEN(D47)-1),専門科目!D$6:P$50,13,FALSE)&\"\"","v":""},null,null,null,null,0,0,99,0,0,0,0,0,0,0,0,0,0,0,0,0,0,0,0,0,0,0,0,0,0,0,0,0,0,0,0,0,0,0,0,0,0,0,0,0,0,0,0,0,0,0,0]
[null,null,1,"◎環境水理学Ⅰ",null,"２年前期",2,{"$f":"VLOOKUP(RIGHT(D48,LEN(D48)-1),専門科目!D$6:P$50,12,FALSE)&\"\"","v":""},{"$f":"VLOOKUP(RIGHT(D48,LEN(D48)-1),専門科目!D$6:P$50,13,FALSE)&\"\"","v":""},null,null,null,null,0,0,99,0,0,0,0,0,0,0,0,0,0,0,0,0,0,0,0,0,0,0,0,0,0,0,0,0,0,0,0,0,0,0,0,0,0,0,0,0,0,0,0,0,0,0,0]
[null,null,1,"◎環境水理学Ⅱ",null,"２年後期",2,{"$f":"VLOOKUP(RIGHT(D49,LEN(D49)-1),専門科目!D$6:P$50,12,FALSE)&\"\"","v":""},{"$f":"VLOOKUP(RIGHT(D49,LEN(D49)-1),専門科目!D$6:P$50,13,FALSE)&\"\"","v":""},null,null,null,null,0,0,99,0,0,0,0,0,0,0,0,0,0,0,0,0,0,0,0,0,0,0,0,0,0,0,0,0,0,0,0,0,0,0,0,0,0,0,0,0,0,0,0,0,0,0,0]
[null,null,1,"◎社会基盤計画学",null,"２年前期",2,{"$f":"VLOOKUP(RIGHT(D50,LEN(D50)-1),専門科目!D$6:P$50,12,FALSE)&\"\"","v":""},{"$f":"VLOOKUP(RIGHT(D50,LEN(D50)-1),専門科目!D$6:P$50,13,FALSE)&\"\"","v":""},null,null,null,null,0,0,99,0,0,0,0,0,0,0,0,0,0,0,{"$f":"IF($P50=AB$2,$N50,0)","v":0},0,0,0,0,0,0,0,0,0,0,0,0,0,0,0,0,0,0,0,0,0,0,0,0,0,0,0,0,0,0,0,0]
[null,null,1,"◎測量学",null,"１年前期",2,{"$f":"VLOOKUP(RIGHT(D51,LEN(D51)-1),専門科目!D$6:P$50,12,FALSE)&\"\"","v":""},{"$f":"VLOOKUP(RIGHT(D51,LEN(D51)-1),専門科目!D$6:P$50,13,FALSE)&\"\"","v":""},null,null,null,null,0,0,99,0,0,0,0,0,0,0,0,0,0,0,0,0,0,0,0,0,0,0,0,0,0,0,0,0,0,0,0,0,0,0,0,0,0,0,0,0,0,0,0,0,0,0,0]
[null,"(E) 自主学習・応用能力\n(演習を通じて、自己学習の習慣を身につけ、応用能力を高める)",1,"◎社会工学基礎Ⅲ",null,"１年後期",2,{"$f":"VLOOKUP(RIGHT(D52,LEN(D52)-1),専門科目!D$6:P$50,12,FALSE)&\"\"","v":""},{"$f":"VLOOKUP(RIGHT(D52,LEN(D52)-1),専門科目!D$6:P$50,13,FALSE)&\"\"","v":""},{"$f":"SUM(O52:O60)","v":0},{"$f":"IF(SUM(O52:O60)=0,\"0\",SUM(N52:N60))","v":"0"},{"$f":"IF(SUM(O52:O60)=0,\"0\",SUM(N52:N60)/SUM(O52:O60))","v":"0"},null,0,0,99,0,0,0,0,0,0,0,0,0,0,0,0,0,0,0,0,0,0,0,0,0,0,0,0,0,0,0,0,0,0,0,0,0,0,0,0,0,0,0,0,0,0,0,0]
[null,null,1,"◎構造力学Ⅰ演習",null,"２年前期",1,{"$f":"VLOOKUP(RIGHT(D53,LEN(D53)-1),専門科目!D$6:P$50,12,FALSE)&\"\"","v":""},{"$f":"VLOOKUP(RIGHT(D53,LEN(D53)-1),専門科目!D$6:P$50,13,FALSE)&\"\"","v":""},null,null,null,null,0,0,99,0,0,0,0,0,0,0,0,0,0,0,0,0,0,0,0,0,0,0,0,0,0,0,0,0,0,0,0,0,0,0,0,0,0,0,0,0,0,0,0,0,0,0,0]
[null,null,1,"◎構造力学Ⅱ演習",null,"２年後期",1,{"$f":"VLOOKUP(RIGHT(D54,LEN(D54)-1),専門科目!D$6:P$50,12,FALSE)&\"\"","v":""},{"$f":"VLOOKUP(RIGHT(D54,LEN(D54)-1),専門科目!D$6:P$50,13,FALSE)&\"\"","v":""},null,null,null,null,0,0,99,0,0,0,0,0,0,0,0,0,0,0,0,0,0,0,0,0,0,0,0,0,0,0,0,0,0,0,0,0,0,0,0,0,0,0,0,0,0,0,0,0,0,0,0]
[null,null,1,"◎コンクリート構造学演習",null,"３年前期",1,{"$f":"VLOOKUP(RIGHT(D55,LEN(D55)-1),専門科目!D$6:P$50,12,FALSE)&\"\"","v":""},{"$f":"VLOOKUP(RIGHT(D55,LEN(D55)-1),専門科目!D$6:P$50,13,FALSE)&\"\"","v":""},null,null,null,null,0,0,99,0,0,0,0,0,0,0,0,0,0,0,0,0,0,0,0,0,0,0,0,0,0,0,0,0,0,0,0,0,0,0,0,0,0,0,0,0,0,0,0,0,0,0,0]
[null,null,1,"◎地盤力学演習",null,"２年後期",1,{"$f":"VLOOKUP(RIGHT(D56,LEN(D56)-1),専門科目!D$6:P$50,12,FALSE)&\"\"","v":""},{"$f":"VLOOKUP(RIGHT(D56,LEN(D56)-1),専門科目!D$6:P$50,13,FALSE)&\"\"","v":""},null,null,null,null,0,0,99,0,0,0,0,0,0,0,0,0,0,0,0,0,0,0,0,0,0,0,0,0,0,0,0,0,0,0,0,0,0,0,0,0,0,0,0,0,0,0,0,0,0,0,0]
[null,null,1,"◎環境水理学演習",null,"２年後期",1,{"$f":"VLOOKUP(RIGHT(D57,LEN(D57)-1),専門科目!D$6:P$50,12,FALSE)&\"\"","v":""},{"$f":"VLOOKUP(RIGHT(D57,LEN(D57)-1),専門科目!D$6:P$50,13,FALSE)&\"\"","v":""},null,null,null,null,0,0,99,0,0,0,0,0,0,0,0,0,0,0,0,0,0,0,0,0,0,0,0,0,0,0,0,0,0,0,0,0,0,0,0,0,0,0,0,0,0,0,0,0,0,0,0]
[null,null,1,"◎社会基盤計画学演習",null,"２年後期",1,{"$f":"VLOOKUP(RIGHT(D58,LEN(D58)-1),専門科目!D$6:P$50,12,FALSE)&\"\"","v":""},{"$f":"VLOOKUP(RIGHT(D58,LEN(D58)-1),専門科目!D$6:P$50,13,FALSE)&\"\"","v":""},null,null,null,null,0,0,99,0,0,0,0,0,0,0,0,0,0,0,0,0,0,0,0,0,0,0,0,0,0,0,0,0,0,0,0,0,0,0,0,0,0,0,0,0,0,0,0,0,0,0,0]
[null,null,1,"◎環境都市基礎製図",null,"２年前期",1,{"$f":"VLOOKUP(RIGHT(D59,LEN(D59)-1),専門科目!D$6:P$50,12,FALSE)&\"\"","v":""},{"$f":"VLOOKUP(RIGHT(D59,LEN(D59)-1),専門科目!D$6:P$50,13,FALSE)&\"\"","v":""},null,null,null,null,0,0,99,0,0,0,0,0,0,0,0,0,0,0,0,0,0,0,0,0,0,0,0,0,0,0,0,0,0,0,0,0,0,0,0,0,0,0,{"$f":"IF($C59=1,IF($P59=AZ$2,$O59,0),0)","v":0},0,0,0,0,0,0,0,0]
[null,null,1,"◎環境都市設計製図",null,"３年後期",1,{"$f":"VLOOKUP(RIGHT(D60,LEN(D60)-1),専門科目!D$6:P$50,12,FALSE)&\"\"","v":""},{"$f":"VLOOKUP(RIGHT(D60,LEN(D60)-1),専門科目!D$6:P$50,13,FALSE)&\"\"","v":""},null,null,null,null,0,0,99,0,0,0,0,0,0,0,0,0,0,0,0,0,0,0,0,0,0,0,0,0,0,0,0,0,0,0,0,0,0,0,0,0,{"$f":"IF($C60=1,IF($P60=AX$2,$O60,0),0)","v":0},0,0,0,0,0,0,0,0,0,0]
[null,"(F) チームによる実体験\n(実験・実習を通して現象の理解を深めるとともに，チームワーク能力を身につける)",1,"◎測量実習",null,"１年前期",1,{"$f":"VLOOKUP(RIGHT(D61,LEN(D61)-1),専門科目!D$6:P$50,12,FALSE)&\"\"","v":""},{"$f":"VLOOKUP(RIGHT(D61,LEN(D61)-1),専門科目!D$6:P$50,13,FALSE)&\"\"","v":""},{"$f":"SUM(O61:O66)","v":0},{"$f":"IF(SUM(O61:O66)=0,\"0\",SUM(N61:N66))","v":"0"},{"$f":"IF(SUM(O61:O66)=0,\"0\",SUM(N61:N66)/SUM(O61:O66))","v":"0"},null,0,0,99,{"$f":"IF($P61=AB$2,$O61,0)","v":0},0,0,0,0,0,0,0,0,0,0,0,0,0,0,0,0,0,0,0,0,0,0,0,0,0,0,0,0,0,0,0,0,0,0,0,0,0,0,0,0,0,0,0]
[null,null,1,"◎社会工学基礎Ⅳ",null,"１年後期",2,{"$f":"VLOOKUP(RIGHT(D62,LEN(D62)-1),専門科目!D$6:P$50,12,FALSE)&\"\"","v":""},{"$f":"VLOOKUP(RIGHT(D62,LEN(D62)-1),専門科目!D$6:P$50,13,FALSE)&\"\"","v":""},null,null,null,null,0,0,99,0,0,0,0,0,0,0,0,0,0,0,0,0,0,0,0,0,0,0,0,0,0,0,0,0,0,0,0,0,0,0,0,0,0,0,0,0,0,0,0,0,0,0,0]
[null,null,0,"　物理学実験",null,"１年後期",2,{"$f":"VLOOKUP(RIGHT(D63,LEN(D63)-1),共通科目!E$6:Q$93,12,FALSE)&\"\"","v":""},{"$f":"VLOOKUP(RIGHT(D63,LEN(D63)-1),共通科目!E$6:Q$93,13,FALSE)&\"\"","v":""},null,null,null,null,0,0,99,0,{"$f":"IF($P63=AC$2,$O63,0)","v":0},{"$f":"IF($P63=AD$2,$O63,0)","v":0},{"$f":"IF($P63=AE$2,$O63,0)","v":0},{"$f":"IF($P63=AF$2,$O63,0)","v":0},{"$f":"IF($P63=AG$2,$O63,0)","v":0},{"$f":"IF($P63=AH$2,$O63,0)","v":0},{"$f":"IF($P63=AI$2,$O63,0)","v":0},{"$f":"IF($P63=AJ$2,$O63,0)","v":0},{"$f":"IF($P63=AK$2,$O63,0)","v":0},{"$f":"IF($P63=AL$2,$O63,0)","v":0},0,0,0,0,0,0,0,0,0,0,0,0,0,0,0,0,0,0,0,0,0,0,0,0,0,0,0,0,0,0,0,0,0]
[null,null,0,"　地球科学実験",null,"２年後期",1,{"$f":"VLOOKUP(RIGHT(D64,LEN(D64)-1),共通科目!E$6:Q$93,12,FALSE)&\"\"","v":""},{"$f":"VLOOKUP(RIGHT(D64,LEN(D64)-1),共通科目!E$6:Q$93,13,FALSE)&\"\"","v":""},null,null,null,null,0,0,99,{"$f":"IF($P64=AB$2,$O64,0)","v":0},0,0,0,0,0,0,0,0,0,0,0,0,0,0,0,0,0,0,0,0,0,0,0,0,0,0,0,0,0,0,0,0,0,0,0,0,0,0,0,0,0,0,0]
[null,null,1,"◎環境都市工学実験Ⅰ",null,"３年前期",1,{"$f":"VLOOKUP(RIGHT(D65,LEN(D65)-1),専門科目!D$6:P$50,12,FALSE)&\"\"","v":""},{"$f":"VLOOKUP(RIGHT(D65,LEN(D65)-1),専門科目!D$6:P$50,13,FALSE)&\"\"","v":""},null,null,null,null,0,0,99,{"$f":"IF($P65=AB$2,$O65,0)","v":0},0,0,0,0,0,0,0,0,0,0,{"$f":"IF($P65=AB$2,$N65,0)","v":0},0,0,0,0,0,0,0,0,0,0,0,0,0,0,0,0,0,0,0,0,0,0,0,0,0,0,0,0,0,0,0,0]
[null,null,1,"◎環境都市工学実験Ⅱ",null,"３年後期",1,{"$f":"VLOOKUP(RIGHT(D66,LEN(D66)-1),専門科目!D$6:P$50,12,FALSE)&\"\"","v":""},{"$f":"VLOOKUP(RIGHT(D66,LEN(D66)-1),専門科目!D$6:P$50,13,FALSE)&\"\"","v":""},null,null,null,null,0,0,99,0,0,0,0,0,0,0,0,0,0,0,0,0,0,0,0,0,0,0,0,0,0,0,0,0,0,0,0,0,0,0,0,0,0,0,0,0,0,0,0,0,0,0,0]
["Ⅲ　社会に貢献できる技術者としての素養","(G) コミュニケーション能力  (説明責任を果たすためのコミュニケーション能力を習得する)",1,"◎測量実習",null,"１年前期",1,{"$f":"VLOOKUP(RIGHT(D67,LEN(D67)-1),専門科目!D$6:P$50,12,FALSE)&\"\"","v":""},{"$f":"VLOOKUP(RIGHT(D67,LEN(D67)-1),専門科目!D$6:P$50,13,FALSE)&\"\"","v":""},{"$f":"SUM(O67:O71)","v":0},{"$f":"IF(SUM(O67:O71)=0,\"0\",SUM(N67:N71))","v":"0"},{"$f":"IF(SUM(O67:O71)=0,\"0\",SUM(N67:N71)/SUM(O67:O71))","v":"0"},null,0,0,99,0,0,0,0,0,0,0,0,0,0,0,0,0,0,0,0,0,0,0,0,0,0,0,0,0,0,0,0,0,0,0,0,0,0,0,0,0,0,0,0,0,0,0,0]
[null,null,1,"◎English SeminarⅠ",null,"１年前期",1,{"$f":"VLOOKUP(RIGHT(D68,LEN(D68)-1),共通科目!E$6:Q$93,12,FALSE)&\"\"","v":""},{"$f":"VLOOKUP(RIGHT(D68,LEN(D68)-1),共通科目!E$6:Q$93,13,FALSE)&\"\"","v":""},null,null,null,null,{"$f":"IF(OR(G68=\"\",I68=\"\"),0,G68*INDEX($P$94:$P$103,MATCH(I68,$O$94:$O$103,0),1))","v":0},{"$f":"IF(OR(G68=\"\",I68=\"\"),0,G68*IF(INDEX($P$94:$P$103,MATCH(I68,$O$94:$O$103,0),1)>0,1,0))","v":0},{"$f":"IF(H68=\"\",99,INDEX($N$108:$N$118,MATCH(H68,$O$108:$O$118,0),1))","v":99},0,0,0,0,0,0,0,0,0,0,0,0,0,0,0,0,0,0,0,0,0,0,"00:00:00",0,0,0,0,0,0,0,0,0,0,0,0,0,0,0,0,0,0,0,0,0]
[null,null,1,"◎English SeminarⅡ",null,"１年後期",1,{"$f":"VLOOKUP(RIGHT(D69,LEN(D69)-1),共通科目!E$6:Q$93,12,FALSE)&\"\"","v":""},{"$f":"VLOOKUP(RIGHT(D69,LEN(D69)-1),共通科目!E$6:Q$93,13,FALSE)&\"\"","v":""},null,null,null,null,0,0,99,0,0,0,0,0,0,0,0,0,0,0,0,0,0,0,0,0,0,0,0,0,0,0,0,0,0,0,0,0,0,0,0,0,0,0,0,0,0,0,0,0,0,0,0]
[null,null,1,"◎実践研究セミナー",null,"３年後期",2,{"$f":"VLOOKUP(RIGHT(D70,LEN(D70)-1),専門科目!D$6:P$50,12,FALSE)&\"\"","v":""},{"$f":"VLOOKUP(RIGHT(D70,LEN(D70)-1),専門科目!D$6:P$50,13,FALSE)&\"\"","v":""},null,null,null,null,0,0,99,0,0,0,0,0,0,0,0,0,0,0,0,0,0,0,0,0,0,0,0,0,0,0,0,0,0,0,0,0,0,0,0,0,0,0,0,0,0,0,0,0,0,0,0]
[null,null,1,"◎卒業研究",null,"４年次",8,{"$f":"VLOOKUP(RIGHT(D71,LEN(D71)-1),専門科目!D$6:P$50,12,FALSE)&\"\"","v":""},{"$f":"VLOOKUP(RIGHT(D71,LEN(D71)-1),専門科目!D$6:P$50,13,FALSE)&\"\"","v":""},null,null,null,null,0,0,99,0,0,0,0,0,0,0,0,0,0,0,0,0,0,0,0,0,0,0,0,0,0,0,0,0,0,0,0,0,0,0,0,0,0,0,0,0,0,0,0,0,0,0,0]
[null,"(H) 社会基盤整備の応用技術\n(社会基盤の整備に対する基本的理論と応用的な技術を習得する)",1,"◎地盤解析学",null,"２年後期",2,{"$f":"VLOOKUP(RIGHT(D72,LEN(D72)-1),専門科目!D$6:P$50,12,FALSE)&\"\"","v":""},{"$f":"VLOOKUP(RIGHT(D72,LEN(D72)-1),専門科目!D$6:P$50,13,FALSE)&\"\"","v":""},{"$f":"SUM(O72:O86)","v":0},{"$f":"IF(SUM(O72:O86)=0,\"0\",SUM(N72:N86))","v":"0"},{"$f":"IF(SUM(O72:O86)=0,\"0\",SUM(N72:N86)/SUM(O72:O86))","v":"0"},null,0,0,99,0,0,0,0,0,0,0,0,0,0,0,0,0,0,0,0,0,0,0,0,0,0,0,0,0,0,0,0,0,0,0,0,0,0,0,0,0,0,0,0,0,0,0,0]
[null,null,1,"◎構造シミュレーション",null,"３年前期",2,{"$f":"VLOOKUP(RIGHT(D73,LEN(D73)-1),専門科目!D$6:P$50,12,FALSE)&\"\"","v":""},{"$f":"VLOOKUP(RIGHT(D73,LEN(D73)-1),専門科目!D$6:P$50,13,FALSE)&\"\"","v":""},null,null,null,null,0,0,99,0,0,0,0,0,0,0,0,0,0,0,0,0,0,0,0,0,0,0,0,0,0,0,0,0,0,0,0,0,0,0,0,0,0,0,0,0,0,0,0,0,0,0,0]
[null,null,0,"　構造設計学",null,"３年前期",2,{"$f":"VLOOKUP(RIGHT(D74,LEN(D74)-1),専門科目!D$6:P$50,12,FALSE)&\"\"","v":""},{"$f":"VLOOKUP(RIGHT(D74,LEN(D74)-1),専門科目!D$6:P$50,13,FALSE)&\"\"","v":""},null,null,null,null,0,0,99,0,0,0,0,0,0,0,0,0,0,0,0,0,0,0,0,0,0,0,0,0,0,0,0,0,0,0,0,0,0,0,0,0,0,0,0,0,0,0,0,0,0,0,0]
[null,null,0,"　橋工学",null,"３年後期",2,{"$f":"VLOOKUP(RIGHT(D75,LEN(D75)-1),専門科目!D$6:P$50,12,FALSE)&\"\"","v":""},{"$f":"VLOOKUP(RIGHT(D75,LEN(D75)-1),専門科目!D$6:P$50,13,FALSE)&\"\"","v":""},null,null,null,null,0,0,99,{"$f":"IF($P75=AB$2,$O75,0)","v":0},0,0,0,0,0,0,0,0,0,0,0,0,0,0,0,0,0,0,0,0,0,0,0,0,0,0,0,0,0,0,0,0,0,0,0,0,0,0,0,0,0,0,0]
[null,null,0,"　耐震工学",null,"３年後期",2,{"$f":"VLOOKUP(RIGHT(D76,LEN(D76)-1),専門科目!D$6:P$50,12,FALSE)&\"\"","v":""},{"$f":"VLOOKUP(RIGHT(D76,LEN(D76)-1),専門科目!D$6:P$50,13,FALSE)&\"\"","v":""},null,null,null,null,0,0,99,0,0,0,0,0,0,0,0,0,0,0,0,0,0,0,0,0,0,0,0,0,0,0,0,0,0,0,0,0,0,0,0,0,0,0,0,0,0,0,0,0,0,0,0]
[null,null,0,"　地震リスク工学",null,"３年後期",2,{"$f":"VLOOKUP(RIGHT(D77,LEN(D77)-1),専門科目!D$6:P$50,12,FALSE)&\"\"","v":""},{"$f":"VLOOKUP(RIGHT(D77,LEN(D77)-1),専門科目!D$6:P$50,13,FALSE)&\"\"","v":""},null,null,null,null,0,0,99,0,0,0,0,0,0,0,0,0,0,0,0,0,0,0,0,0,0,0,0,0,0,0,0,{"$f":"IF($P77=AD$2,ROUND($N77/$N77,0),0)","v":0},{"$f":"IF($P77=AE$2,ROUND($N77/$N77,0),0)","v":0},{"$f":"IF($P77=AF$2,ROUND($N77/$N77,0),0)","v":0},{"$f":"IF($P77=AG$2,ROUND($N77/$N77,0),0)","v":0},{"$f":"IF($P77=AH$2,ROUND($N77/$N77,0),0)","v":0},{"$f":"IF($P77=AI$2,ROUND($N77/$N77,0),0)","v":0},{"$f":"IF($P77=AJ$2,ROUND($N77/$N77,0),0)","v":0},{"$f":"IF($P77=AK$2,ROUND($N77/$N77,0),0)","v":0},{"$f":"IF($P77=AL$2,ROUND($N77/$N77,0),0)","v":0},0,0,0,0,0,0,0,0,0,0,0]
[null,null,0,"　維持管理工学",null,"３年前期",2,{"$f":"VLOOKUP(RIGHT(D78,LEN(D78)-1),専門科目!D$6:P$50,12,FALSE)&\"\"","v":""},{"$f":"VLOOKUP(RIGHT(D78,LEN(D78)-1),専門科目!D$6:P$50,13,FALSE)&\"\"","v":""},null,null,null,null,0,0,99,0,0,0,0,0,0,0,0,0,0,0,0,0,0,0,0,0,0,0,0,0,0,{"$f":"IF($P78=AB$2,ROUND($N78/$N78,0),0)","v":0},{"$f":"IF($P78=AC$2,ROUND($N78/$N78,0),0)","v":0},0,0,0,0,0,0,0,0,0,0,0,0,0,0,0,0,0,0,0,0]
[null,null,0,"　環境地盤工学",null,"３年前期",2,{"$f":"VLOOKUP(RIGHT(D79,LEN(D79)-1),専門科目!D$6:P$50,12,FALSE)&\"\"","v":""},{"$f":"VLOOKUP(RIGHT(D79,LEN(D79)-1),専門科目!D$6:P$50,13,FALSE)&\"\"","v":""},null,null,null,null,0,0,99,0,0,0,0,0,0,0,0,0,0,0,0,0,0,0,0,0,0,0,0,0,0,0,0,0,0,0,0,0,0,0,0,0,0,0,0,0,0,0,0,0,0,0,0]
[null,null,0,"　防災地質学",null,"３年前期",2,{"$f":"VLOOKUP(RIGHT(D80,LEN(D80)-1),専門科目!D$6:P$50,12,FALSE)&\"\"","v":""},{"$f":"VLOOKUP(RIGHT(D80,LEN(D80)-1),専門科目!D$6:P$50,13,FALSE)&\"\"","v":""},null,null,null,null,{"$f":"IF(OR(G80=\"\",I80=\"\"),0,G80*INDEX($P$94:$P$103,MATCH(I80,$O$94:$O$103,0),1))","v":0},{"$f":"IF(OR(G80=\"\",I80=\"\"),0,G80*IF(INDEX($P$94:$P$103,MATCH(I80,$O$94:$O$103,0),1)>0,1,0))","v":0},{"$f":"IF(H80=\"\",99,INDEX($N$108:$N$118,MATCH(H80,$O$108:$O$118,0),1))","v":99},{"$f":"IF($P80=AB$2,$O80,0)","v":0},{"$f":"IF($P80=AC$2,$O80,0)","v":0},{"$f":"IF($P80=AD$2,$O80,0)","v":0},{"$f":"IF($P80=AE$2,$O80,0)","v":0},{"$f":"IF($P80=AF$2,$O80,0)","v":0},{"$f":"IF($P80=AG$2,$O80,0)","v":0},{"$f":"IF($P80=AH$2,$O80,0)","v":0},{"$f":"IF($P80=AI$2,$O80,0)","v":0},{"$f":"IF($P80=AJ$2,$O80,0)","v":0},{"$f":"IF($P80=AK$2,$O80,0)","v":0},{"$f":"IF($P80=AL$2,$O80,0)","v":0},0,0,0,0,0,0,0,0,0,0,0,0,0,0,0,0,0,0,0,0,0,0,0,0,0,0,0,0,0,0,0,0,0]
[null,null,0,"　水域防災工学",null,"３年前期",2,{"$f":"VLOOKUP(RIGHT(D81,LEN(D81)-1),専門科目!D$6:P$50,12,FALSE)&\"\"","v":""},{"$f":"VLOOKUP(RIGHT(D81,LEN(D81)-1),専門科目!D$6:P$50,13,FALSE)&\"\"","v":""},null,null,null,null,{"$f":"IF(OR(G81=\"\",I81=\"\"),0,G81*INDEX($P$94:$P$103,MATCH(I81,$O$94:$O$103,0),1))","v":0},{"$f":"IF(OR(G81=\"\",I81=\"\"),0,G81*IF(INDEX($P$94:$P$103,MATCH(I81,$O$94:$O$103,0),1)>0,1,0))","v":0},{"$f":"IF(H81=\"\",99,INDEX($N$108:$N$118,MATCH(H81,$O$108:$O$118,0),1))","v":99},0,0,0,0,0,0,0,0,0,0,0,0,0,0,0,0,0,0,0,0,0,0,0,0,0,0,0,0,0,0,0,0,0,0,0,0,0,0,0,0,0,0,0,0]
[null,null,0,"　流域環境工学",null,"３年後期",2,{"$f":"VLOOKUP(RIGHT(D82,LEN(D82)-1),専門科目!D$6:P$50,12,FALSE)&\"\"","v":""},{"$f":"VLOOKUP(RIGHT(D82,LEN(D82)-1),専門科目!D$6:P$50,13,FALSE)&\"\"","v":""},null,null,null,null,0,0,99,0,0,0,0,0,0,0,0,0,0,0,{"$f":"IF($P82=AB$2,$N82,0)","v":0},0,0,0,0,0,0,0,0,0,0,0,0,0,0,0,0,0,0,0,0,0,0,0,0,0,0,0,0,0,0,0,0]
[null,null,1,"◎交通環境計画学",null,"３年前期",2,{"$f":"VLOOKUP(RIGHT(D83,LEN(D83)-1),専門科目!D$6:P$50,12,FALSE)&\"\"","v":""},{"$f":"VLOOKUP(RIGHT(D83,LEN(D83)-1),専門科目!D$6:P$50,13,FALSE)&\"\"","v":""},null,null,null,null,0,0,99,0,0,0,0,0,0,0,0,0,0,0,0,0,0,0,0,0,0,0,0,0,0,0,0,0,0,0,0,0,0,0,0,0,0,0,0,0,0,0,0,0,0,0,0]
[null,null,0,"　交通システム工学",null,"３年後期",2,{"$f":"VLOOKUP(RIGHT(D84,LEN(D84)-1),専門科目!D$6:P$50,12,FALSE)&\"\"","v":""},{"$f":"VLOOKUP(RIGHT(D84,LEN(D84)-1),専門科目!D$6:P$50,13,FALSE)&\"\"","v":""},null,null,null,null,0,0,99,0,0,0,0,0,0,0,0,0,0,0,0,0,0,0,0,0,0,0,0,0,0,0,0,0,0,0,0,0,0,0,0,0,0,0,0,0,0,0,0,0,0,0,0]
[null,null,0,"　都市・地域計画学",null,"３年前期",2,{"$f":"VLOOKUP(RIGHT(D85,LEN(D85)-1),専門科目!D$6:P$50,12,FALSE)&\"\"","v":""},{"$f":"VLOOKUP(RIGHT(D85,LEN(D85)-1),専門科目!D$6:P$50,13,FALSE)&\"\"","v":""},null,null,null,null,0,0,99,0,0,0,0,0,0,0,0,0,0,0,0,0,0,0,0,0,0,0,0,0,0,0,0,0,0,0,0,0,0,0,0,0,0,0,0,0,0,0,0,0,0,0,0]
[null,null,0,"　建設マネジメント",null,"３年後期",2,{"$f":"VLOOKUP(RIGHT(D86,LEN(D86)-1),専門科目!D$6:P$50,12,FALSE)&\"\"","v":""},{"$f":"VLOOKUP(RIGHT(D86,LEN(D86)-1),専門科目!D$6:P$50,13,FALSE)&\"\"","v":""},null,null,null,null,0,0,99,0,0,0,0,0,0,0,0,0,0,0,0,0,0,0,0,0,0,0,0,0,0,0,0,0,0,0,0,0,0,0,0,0,0,0,0,0,0,0,0,0,0,0,0]
[null,"(I) デザイン能力\n(自ら問題を発見し，調査・分析・評価・提案を行うことにより問題を解決する能力を身につける)",1,"◎社会工学基礎Ⅳ",null,"１年後期",2,{"$f":"VLOOKUP(RIGHT(D87,LEN(D87)-1),専門科目!D$6:P$50,12,FALSE)&\"\"","v":""},{"$f":"VLOOKUP(RIGHT(D87,LEN(D87)-1),専門科目!D$6:P$50,13,FALSE)&\"\"","v":""},{"$f":"SUM(O87:O92)","v":0},{"$f":"IF(SUM(O87:O92)=0,\"0\",SUM(N87:N92))","v":"0"},{"$f":"IF(SUM(O87:O92)=0,\"0\",SUM(N87:N92)/SUM(O87:O92))","v":"0"},null,0,0,99,0,0,0,0,0,0,0,0,0,0,0,0,0,0,0,0,0,0,0,0,0,0,0,0,0,0,0,0,0,0,0,0,0,0,0,0,0,0,{"$f":"IF($C87=1,IF($P87=BC$2,$O87,0),0)","v":0},0,0,0,0,0]
[null,null,1,"◎環境都市工学実験Ⅰ",null,"３年前期",1,{"$f":"VLOOKUP(RIGHT(D88,LEN(D88)-1),専門科目!D$6:P$50,12,FALSE)&\"\"","v":""},{"$f":"VLOOKUP(RIGHT(D88,LEN(D88)-1),専門科目!D$6:P$50,13,FALSE)&\"\"","v":""},null,null,null,null,0,0,99,0,0,0,0,0,0,0,0,0,0,0,0,0,0,0,0,0,0,0,0,0,0,0,0,0,0,0,0,0,0,0,0,0,0,0,0,0,0,0,0,0,0,0,0]
[null,null,1,"◎環境都市工学実験Ⅱ",null,"３年後期",1,{"$f":"VLOOKUP(RIGHT(D89,LEN(D89)-1),専門科目!D$6:P$50,12,FALSE)&\"\"","v":""},{"$f":"VLOOKUP(RIGHT(D89,LEN(D89)-1),専門科目!D$6:P$50,13,FALSE)&\"\"","v":""},null,null,null,null,0,0,99,{"$f":"IF($P89=AB$2,$O89,0)","v":0},0,0,0,0,0,0,0,0,0,0,0,0,0,0,0,0,0,0,0,0,0,0,0,0,0,0,0,0,0,0,0,0,0,0,0,0,0,0,0,0,0,0,0]
[null,null,1,"◎環境都市設計製図",null,"３年後期",1,{"$f":"VLOOKUP(RIGHT(D90,LEN(D90)-1),専門科目!D$6:P$50,12,FALSE)&\"\"","v":""},{"$f":"VLOOKUP(RIGHT(D90,LEN(D90)-1),専門科目!D$6:P$50,13,FALSE)&\"\"","v":""},null,null,null,null,0,0,99,0,0,0,0,0,0,0,0,0,0,0,0,0,0,0,0,0,0,0,0,0,0,0,0,0,0,0,0,0,0,0,0,0,0,0,0,0,0,0,0,0,0,0,0]
[null,null,1,"◎実践研究セミナー",null,"３年後期",2,{"$f":"VLOOKUP(RIGHT(D91,LEN(D91)-1),専門科目!D$6:P$50,12,FALSE)&\"\"","v":""},{"$f":"VLOOKUP(RIGHT(D91,LEN(D91)-1),専門科目!D$6:P$50,13,FALSE)&\"\"","v":""},null,null,null,null,0,0,99,0,0,0,0,0,0,0,0,0,0,0,0,0,0,0,0,0,0,0,0,0,0,0,0,0,0,0,0,0,0,0,0,0,0,0,0,0,0,0,0,0,0,0,0]
[null,null,1,"◎卒業研究",null,"４年次",8,{"$f":"VLOOKUP(RIGHT(D92,LEN(D92)-1),専門科目!D$6:P$50,12,FALSE)&\"\"","v":""},{"$f":"VLOOKUP(RIGHT(D92,LEN(D92)-1),専門科目!D$6:P$50,13,FALSE)&\"\"","v":""},null,null,null,null,0,0,99,0,0,0,0,0,0,0,0,0,0,0,0,0,0,0,0,0,0,0,0,0,0,0,0,0,0,0,0,0,0,0,0,0,0,0,0,0,0,0,0,0,0,0,0]
[null,null,null,null,null,null,null,null,null,null,null,null,null,null,null,null,null,null,null,null,null,null,null,null,null,null,null,null,null,null,null,null,null,null,null,null,null,null,{"$f":"SUM(AM3:AM92)","v":0},{"$f":"SUM(AN3:AN92)","v":0},0,0,0,0,0,0,0,0,0]
[null,null,null,null,null,null,null,null,null,null,null,null,null,null,"S",4]
[null,null,null,null,null,null,null,null,null,null,null,null,null,null,"A",3]
[null,null,null,null,null,null,null,null,null,null,null,null,null,null,"B",2]
[null,null,null,null,null,null,null,null,null,null,null,null,null,null,"C",1]
[null,null,null,null,null,null,null,null,null,null,null,null,null,null,"D",0]
[null,null,null,null,null,null,null,null,null,null,null,null,null,null,"単位認定",2]
[null,null,null,null,null,null,null,null,null,null,null,null,null,null,null,0]
[null,null,null,null,null,null,null,null,null,null,null,null,null,null,"合",3]
[null,null,null,null,null,null,null,null,null,null,null,null,null,null,"否",0]
[null,null,null,null,null,null,null,null,null,null,null,null,null,null,null,0]
[]
[null,null,null,null,null,null,null,null,null,null,null,null,null,null,"入学年度",2024]
[]
[null,null,null,null,null,null,null,null,null,null,null,null,null,null,"年度"]
[null,null,null,null,null,null,null,null,null,null,null,null,null,1,{"$f":"P$105&\"年度　前期\"","v":"2024年度　前期"}]
[null,null,null,null,null,null,null,null,null,null,null,null,null,2,{"$f":"P$105&\"年度　後期\"","v":"2024年度　後期"}]
[null,null,null,null,null,null,null,null,null,null,null,null,null,3,{"$f":"P$105+1&\"年度　前期\"","v":"2025年度　前期"}]
[null,null,null,null,null,null,null,null,null,null,null,null,null,4,{"$f":"P$105+1&\"年度　後期\"","v":"2025年度　後期"}]
[null,null,null,null,null,null,null,null,null,null,null,null,null,5,{"$f":"P$105+2&\"年度　前期\"","v":"2026年度　前期"}]
[null,null,null,null,null,null,null,null,null,null,null,null,null,6,{"$f":"P$105+2&\"年度　後期\"","v":"2026年度　後期"}]
[null,null,null,null,null,null,null,null,null,null,null,null,null,7,{"$f":"P$105+3&\"年度　前期\"","v":"2027年度　前期"}]
[null,null,null,null,null,null,null,null,null,null,null,null,null,8,{"$f":"P$105+3&\"年度　後期\"","v":"2027年度　後期"}]
[null,null,null,null,null,null,null,null,null,null,null,null,null,9,{"$f":"P$105+4&\"年度　前期\"","v":"2028年度　前期"}]
[null,null,null,null,null,null,null,null,null,null,null,null,null,10,{"$f":"P$105+4&\"年度　後期\"","v":"2028年度　後期"}]
[null,null,null,null,null,null,null,null,null,null,null,null,null,11,{"$f":"P$105+5&\"年度　以降\"","v":"2029年度　以降"}]

{"sheet":"グラフ用データ","index":8,"n_rows":21,"n_cols":37,"rows_kept":21,"cut":false,"hidden":false,"merged":[[0,26,0,36],[0,15,0,25],[0,0,1,0],[0,2,1,2],[0,1,1,1],[0,3,1,3],[0,4,0,14]]}
["学習・教育到達目標","取得\n単位数","GPT","GPA","各期の累計取得単位数",null,null,null,null,null,null,null,null,null,null,"各期のGPT",null,null,null,null,null,null,null,null,null,null,"各期の累計GPA"]
[null,null,null,null,{"$f":"'印刷-目標ごとの達成度(P.7-8)'!Q2","v":1},{"$f":"'印刷-目標ごとの達成度(P.7-8)'!R2","v":2},{"$f":"'印刷-目標ごとの達成度(P.7-8)'!S2","v":3},{"$f":"'印刷-目標ごとの達成度(P.7-8)'!T2","v":4},{"$f":"'印刷-目標ごとの達成度(P.7-8)'!U2","v":5},{"$f":"'印刷-目標ごとの達成度(P.7-8)'!V2","v":6},{"$f":"'印刷-目標ごとの達成度(P.7-8)'!W2","v":7},{"$f":"'印刷-目標ごとの達成度(P.7-8)'!X2","v":8},{"$f":"'印刷-目標ごとの達成度(P.7-8)'!Y2","v":9},{"$f":"'印刷-目標ごとの達成度(P.7-8)'!Z2","v":10},{"$f":"'印刷-目標ごとの達成度(P.7-8)'!AA2","v":11},{"$f":"E2","v":1},2,3,4,5,6,7,8,9,10,11,{"$f":"E2","v":1},2,3,4,5,6,7,8,9,10,11]
["(A) 科学技術基礎",{"$f":"SUM('印刷-目標ごとの達成度(P.7-8)'!O3:O12)","v":0},{"$f":"SUM('印刷-目標ごとの達成度(P.7-8)'!N3:N12)","v":0},{"$f":"C3/B3","v":{"$error":"#DIV/0!"}},{"$f":"SUM('印刷-目標ごとの達成度(P.7-8)'!$Q3:Q12)","v":0},{"$f":"SUM('印刷-目標ごとの達成度(P.7-8)'!$Q3:R12)","v":0},{"$f":"SUM('印刷-目標ごとの達成度(P.7-8)'!$Q3:S12)","v":0},{"$f":"SUM('印刷-目標ごとの達成度(P.7-8)'!$Q3:T12)","v":0},{"$f":"SUM('印刷-目標ごとの達成度(P.7-8)'!$Q3:U12)","v":0},{"$f":"SUM('印刷-目標ごとの達成度(P.7-8)'!$Q3:V12)","v":0},{"$f":"SUM('印刷-目標ごとの達成度(P.7-8)'!$Q3:W12)","v":0},{"$f":"SUM('印刷-目標ごとの達成度(P.7-8)'!$Q3:X12)","v":0},{"$f":"SUM('印刷-目標ごとの達成度(P.7-8)'!$Q3:Y12)","v":0},{"$f":"SUM('印刷-目標ごとの達成度(P.7-8)'!$Q3:Z12)","v":0},{"$f":"SUM('印刷-目標ごとの達成度(P.7-8)'!$Q3:AA12)","v":0},{"$f":"SUM('印刷-目標ごとの達成度(P.7-8)'!$AB3:AB12)","v":0},{"$f":"SUM('印刷-目標ごとの達成度(P.7-8)'!AC3:AC12)","v":0},{"$f":"SUM('印刷-目標ごとの達成度(P.7-8)'!AD3:AD12)","v":0},{"$f":"SUM('印刷-目標ごとの達成度(P.7-8)'!AE3:AE12)","v":0},{"$f":"SUM('印刷-目標ごとの達成度(P.7-8)'!AF3:AF12)","v":0},{"$f":"SUM('印刷-目標ごとの達成度(P.7-8)'!AG3:AG12)","v":0},{"$f":"SUM('印刷-目標ごとの達成度(P.7-8)'!AH3:AH12)","v":0},{"$f":"SUM('印刷-目標ごとの達成度(P.7-8)'!AI3:AI12)","v":0},{"$f":"SUM('印刷-目標ごとの達成度(P.7-8)'!AJ3:AJ12)","v":0},{"$f":"SUM('印刷-目標ごとの達成度(P.7-8)'!AK3:AK12)","v":0},{"$f":"SUM('印刷-目標ごとの達成度(P.7-8)'!AL3:AL12)","v":0},{"$f":"IF(E3=0,0,SUM($P3:P3)/E3)","v":0},{"$f":"IF(F3=0,0,SUM($P3:Q3)/F3)","v":0},{"$f":"IF(G3=0,0,SUM($P3:R3)/G3)","v":0},{"$f":"IF(H3=0,0,SUM($P3:S3)/H3)","v":0},{"$f":"IF(I3=0,0,SUM($P3:T3)/I3)","v":0},{"$f":"IF(J3=0,0,SUM($P3:U3)/J3)","v":0},{"$f":"IF(K3=0,0,SUM($P3:V3)/K3)","v":0},{"$f":"IF(L3=0,0,SUM($P3:W3)/L3)","v":0},{"$f":"IF(M3=0,0,SUM($P3:X3)/M3)","v":0},{"$f":"IF(N3=0,0,SUM($P3:Y3)/N3)","v":0},{"$f":"IF(O3=0,0,SUM($P3:Z3)/O3)","v":0}]
["(B) 自然科学",{"$f":"SUM('印刷-目標ごとの達成度(P.7-8)'!O13:O25)","v":0},{"$f":"SUM('印刷-目標ごとの達成度(P.7-8)'!N13:N25)","v":0},{"$error":"#DIV/0!"},{"$f":"SUM('印刷-目標ごとの達成度(P.7-8)'!$Q13:Q25)","v":0},{"$f":"SUM('印刷-目標ごとの達成度(P.7-8)'!$Q13:R25)","v":0},{"$f":"SUM('印刷-目標ごとの達成度(P.7-8)'!$Q13:S25)","v":0},{"$f":"SUM('印刷-目標ごとの達成度(P.7-8)'!$Q13:T25)","v":0},{"$f":"SUM('印刷-目標ごとの達成度(P.7-8)'!$Q13:U25)","v":0},{"$f":"SUM('印刷-目標ごとの達成度(P.7-8)'!$Q13:V25)","v":0},{"$f":"SUM('印刷-目標ごとの達成度(P.7-8)'!$Q13:W25)","v":0},{"$f":"SUM('印刷-目標ごとの達成度(P.7-8)'!$Q13:X25)","v":0},{"$f":"SUM('印刷-目標ごとの達成度(P.7-8)'!$Q13:Y25)","v":0},{"$f":"SUM('印刷-目標ごとの達成度(P.7-8)'!$Q13:Z25)","v":0},{"$f":"SUM('印刷-目標ごとの達成度(P.7-8)'!$Q13:AA25)","v":0},{"$f":"SUM('印刷-目標ごとの達成度(P.7-8)'!$AB13:AB25)","v":0},{"$f":"SUM('印刷-目標ごとの達成度(P.7-8)'!AC13:AC25)","v":0},{"$f":"SUM('印刷-目標ごとの達成度(P.7-8)'!AD13:AD25)","v":0},{"$f":"SUM('印刷-目標ごとの達成度(P.7-8)'!AE13:AE25)","v":0},{"$f":"SUM('印刷-目標ごとの達成度(P.7-8)'!AF13:AF25)","v":0},{"$f":"SUM('印刷-目標ごとの達成度(P.7-8)'!AG13:AG25)","v":0},{"$f":"SUM('印刷-目標ごとの達成度(P.7-8)'!AH13:AH25)","v":0},{"$f":"SUM('印刷-目標ごとの達成度(P.7-8)'!AI13:AI25)","v":0},{"$f":"SUM('印刷-目標ごとの達成度(P.7-8)'!AJ13:AJ25)","v":0},{"$f":"SUM('印刷-目標ごとの達成度(P.7-8)'!AK13:AK25)","v":0},{"$f":"SUM('印刷-目標ごとの達成度(P.7-8)'!AL13:AL25)","v":0},{"$f":"IF(E4=0,0,SUM($P4:P4)/E4)","v":0},{"$f":"IF(F4=0,0,SUM($P4:Q4)/F4)","v":0},{"$f":"IF(G4=0,0,SUM($P4:R4)/G4)","v":0},{"$f":"IF(H4=0,0,SUM($P4:S4)/H4)","v":0},{"$f":"IF(I4=0,0,SUM($P4:T4)/I4)","v":0},{"$f":"IF(J4=0,0,SUM($P4:U4)/J4)","v":0},{"$f":"IF(K4=0,0,SUM($P4:V4)/K4)","v":0},{"$f":"IF(L4=0,0,SUM($P4:W4)/L4)","v":0},{"$f":"IF(M4=0,0,SUM($P4:X4)/M4)","v":0},{"$f":"IF(N4=0,0,SUM($P4:Y4)/N4)","v":0},{"$f":"IF(O4=0,0,SUM($P4:Z4)/O4)","v":0}]
["(C) 多面的思考と倫理",{"$f":"SUM('印刷-目標ごとの達成度(P.7-8)'!O26:O41)","v":0},{"$f":"SUM('印刷-目標ごとの達成度(P.7-8)'!N26:N41)","v":0},{"$error":"#DIV/0!"},{"$f":"SUM('印刷-目標ごとの達成度(P.7-8)'!$Q26:Q41)","v":0},{"$f":"SUM('印刷-目標ごとの達成度(P.7-8)'!$Q26:R41)","v":0},{"$f":"SUM('印刷-目標ごとの達成度(P.7-8)'!$Q26:S41)","v":0},{"$f":"SUM('印刷-目標ごとの達成度(P.7-8)'!$Q26:T41)","v":0},{"$f":"SUM('印刷-目標ごとの達成度(P.7-8)'!$Q26:U41)","v":0},{"$f":"SUM('印刷-目標ごとの達成度(P.7-8)'!$Q26:V41)","v":0},{"$f":"SUM('印刷-目標ごとの達成度(P.7-8)'!$Q26:W41)","v":0},{"$f":"SUM('印刷-目標ごとの達成度(P.7-8)'!$Q26:X41)","v":0},{"$f":"SUM('印刷-目標ごとの達成度(P.7-8)'!$Q26:Y41)","v":0},{"$f":"SUM('印刷-目標ごとの達成度(P.7-8)'!$Q26:Z41)","v":0},{"$f":"SUM('印刷-目標ごとの達成度(P.7-8)'!$Q26:AA41)","v":0},{"$f":"SUM('印刷-目標ごとの達成度(P.7-8)'!$AB26:AB41)","v":0},{"$f":"SUM('印刷-目標ごとの達成度(P.7-8)'!AC26:AC41)","v":0},{"$f":"SUM('印刷-目標ごとの達成度(P.7-8)'!AD26:AD41)","v":0},{"$f":"SUM('印刷-目標ごとの達成度(P.7-8)'!AE26:AE41)","v":0},{"$f":"SUM('印刷-目標ごとの達成度(P.7-8)'!AF26:AF41)","v":0},{"$f":"SUM('印刷-目標ごとの達成度(P.7-8)'!AG26:AG41)","v":0},{"$f":"SUM('印刷-目標ごとの達成度(P.7-8)'!AH26:AH41)","v":0},{"$f":"SUM('印刷-目標ごとの達成度(P.7-8)'!AI26:AI41)","v":0},{"$f":"SUM('印刷-目標ごとの達成度(P.7-8)'!AJ26:AJ41)","v":0},{"$f":"SUM('印刷-目標ごとの達成度(P.7-8)'!AK26:AK41)","v":0},{"$f":"SUM('印刷-目標ごとの達成度(P.7-8)'!AL26:AL41)","v":0},{"$f":"IF(E5=0,0,SUM($P5:P5)/E5)","v":0},{"$f":"IF(F5=0,0,SUM($P5:Q5)/F5)","v":0},{"$f":"IF(G5=0,0,SUM($P5:R5)/G5)","v":0},{"$f":"IF(H5=0,0,SUM($P5:S5)/H5)","v":0},{"$f":"IF(I5=0,0,SUM($P5:T5)/I5)","v":0},{"$f":"IF(J5=0,0,SUM($P5:U5)/J5)","v":0},{"$f":"IF(K5=0,0,SUM($P5:V5)/K5)","v":0},{"$f":"IF(L5=0,0,SUM($P5:W5)/L5)","v":0},{"$f":"IF(M5=0,0,SUM($P5:X5)/M5)","v":0},{"$f":"IF(N5=0,0,SUM($P5:Y5)/N5)","v":0},{"$f":"IF(O5=0,0,SUM($P5:Z5)/O5)","v":0}]
["(D) 専門基礎",{"$f":"SUM('印刷-目標ごとの達成度(P.7-8)'!O42:O51)","v":0},{"$f":"SUM('印刷-目標ごとの達成度(P.7-8)'!N42:N51)","v":0},{"$error":"#DIV/0!"},{"$f":"SUM('印刷-目標ごとの達成度(P.7-8)'!$Q42:Q51)","v":0},{"$f":"SUM('印刷-目標ごとの達成度(P.7-8)'!$Q42:R51)","v":0},{"$f":"SUM('印刷-目標ごとの達成度(P.7-8)'!$Q42:S51)","v":0},{"$f":"SUM('印刷-目標ごとの達成度(P.7-8)'!$Q42:T51)","v":0},{"$f":"SUM('印刷-目標ごとの達成度(P.7-8)'!$Q42:U51)","v":0},{"$f":"SUM('印刷-目標ごとの達成度(P.7-8)'!$Q42:V51)","v":0},{"$f":"SUM('印刷-目標ごとの達成度(P.7-8)'!$Q42:W51)","v":0},{"$f":"SUM('印刷-目標ごとの達成度(P.7-8)'!$Q42:X51)","v":0},{"$f":"SUM('印刷-目標ごとの達成度(P.7-8)'!$Q42:Y51)","v":0},{"$f":"SUM('印刷-目標ごとの達成度(P.7-8)'!$Q42:Z51)","v":0},{"$f":"SUM('印刷-目標ごとの達成度(P.7-8)'!$Q42:AA51)","v":0},{"$f":"SUM('印刷-目標ごとの達成度(P.7-8)'!$AB42:AB51)","v":0},{"$f":"SUM('印刷-目標ごとの達成度(P.7-8)'!AC42:AC51)","v":0},{"$f":"SUM('印刷-目標ごとの達成度(P.7-8)'!AD42:AD51)","v":0},{"$f":"SUM('印刷-目標ごとの達成度(P.7-8)'!AE42:AE51)","v":0},{"$f":"SUM('印刷-目標ごとの達成度(P.7-8)'!AF42:AF51)","v":0},{"$f":"SUM('印刷-目標ごとの達成度(P.7-8)'!AG42:AG51)","v":0},{"$f":"SUM('印刷-目標ごとの達成度(P.7-8)'!AH42:AH51)","v":0},{"$f":"SUM('印刷-目標ごとの達成度(P.7-8)'!AI42:AI51)","v":0},{"$f":"SUM('印刷-目標ごとの達成度(P.7-8)'!AJ42:AJ51)","v":0},{"$f":"SUM('印刷-目標ごとの達成度(P.7-8)'!AK42:AK51)","v":0},{"$f":"SUM('印刷-目標ごとの達成度(P.7-8)'!AL42:AL51)","v":0},{"$f":"IF(E6=0,0,SUM($P6:P6)/E6)","v":0},{"$f":"IF(F6=0,0,SUM($P6:Q6)/F6)","v":0},{"$f":"IF(G6=0,0,SUM($P6:R6)/G6)","v":0},{"$f":"IF(H6=0,0,SUM($P6:S6)/H6)","v":0},{"$f":"IF(I6=0,0,SUM($P6:T6)/I6)","v":0},{"$f":"IF(J6=0,0,SUM($P6:U6)/J6)","v":0},{"$f":"IF(K6=0,0,SUM($P6:V6)/K6)","v":0},{"$f":"IF(L6=0,0,SUM($P6:W6)/L6)","v":0},{"$f":"IF(M6=0,0,SUM($P6:X6)/M6)","v":0},{"$f":"IF(N6=0,0,SUM($P6:Y6)/N6)","v":0},{"$f":"IF(O6=0,0,SUM($P6:Z6)/O6)","v":0}]
["(E) 自主学習",{"$f":"SUM('印刷-目標ごとの達成度(P.7-8)'!O52:O60)","v":0},{"$f":"SUM('印刷-目標ごとの達成度(P.7-8)'!N52:N60)","v":0},{"$error":"#DIV/0!"},{"$f":"SUM('印刷-目標ごとの達成度(P.7-8)'!$Q52:Q60)","v":0},{"$f":"SUM('印刷-目標ごとの達成度(P.7-8)'!$Q52:R60)","v":0},{"$f":"SUM('印刷-目標ごとの達成度(P.7-8)'!$Q52:S60)","v":0},{"$f":"SUM('印刷-目標ごとの達成度(P.7-8)'!$Q52:T60)","v":0},{"$f":"SUM('印刷-目標ごとの達成度(P.7-8)'!$Q52:U60)","v":0},{"$f":"SUM('印刷-目標ごとの達成度(P.7-8)'!$Q52:V60)","v":0},{"$f":"SUM('印刷-目標ごとの達成度(P.7-8)'!$Q52:W60)","v":0},{"$f":"SUM('印刷-目標ごとの達成度(P.7-8)'!$Q52:X60)","v":0},{"$f":"SUM('印刷-目標ごとの達成度(P.7-8)'!$Q52:Y60)","v":0},{"$f":"SUM('印刷-目標ごとの達成度(P.7-8)'!$Q52:Z60)","v":0},{"$f":"SUM('印刷-目標ごとの達成度(P.7-8)'!$Q52:AA60)","v":0},{"$f":"SUM('印刷-目標ごとの達成度(P.7-8)'!$AB52:AB60)","v":0},{"$f":"SUM('印刷-目標ごとの達成度(P.7-8)'!AC52:AC60)","v":0},{"$f":"SUM('印刷-目標ごとの達成度(P.7-8)'!AD52:AD60)","v":0},{"$f":"SUM('印刷-目標ごとの達成度(P.7-8)'!AE52:AE60)","v":0},{"$f":"SUM('印刷-目標ごとの達成度(P.7-8)'!AF52:AF60)","v":0},{"$f":"SUM('印刷-目標ごとの達成度(P.7-8)'!AG52:AG60)","v":0},{"$f":"SUM('印刷-目標ごとの達成度(P.7-8)'!AH52:AH60)","v":0},{"$f":"SUM('印刷-目標ごとの達成度(P.7-8)'!AI52:AI60)","v":0},{"$f":"SUM('印刷-目標ごとの達成度(P.7-8)'!AJ52:AJ60)","v":0},{"$f":"SUM('印刷-目標ごとの達成度(P.7-8)'!AK52:AK60)","v":0},{"$f":"SUM('印刷-目標ごとの達成度(P.7-8)'!AL52:AL60)","v":0},{"$f":"IF(E7=0,0,SUM($P7:P7)/E7)","v":0},{"$f":"IF(F7=0,0,SUM($P7:Q7)/F7)","v":0},{"$f":"IF(G7=0,0,SUM($P7:R7)/G7)","v":0},{"$f":"IF(H7=0,0,SUM($P7:S7)/H7)","v":0},{"$f":"IF(I7=0,0,SUM($P7:T7)/I7)","v":0},{"$f":"IF(J7=0,0,SUM($P7:U7)/J7)","v":0},{"$f":"IF(K7=0,0,SUM($P7:V7)/K7)","v":0},{"$f":"IF(L7=0,0,SUM($P7:W7)/L7)","v":0},{"$f":"IF(M7=0,0,SUM($P7:X7)/M7)","v":0},{"$f":"IF(N7=0,0,SUM($P7:Y7)/N7)","v":0},{"$f":"IF(O7=0,0,SUM($P7:Z7)/O7)","v":0}]
["(F) チームによる実体験",{"$f":"SUM('印刷-目標ごとの達成度(P.7-8)'!O61:O66)","v":0},{"$f":"SUM('印刷-目標ごとの達成度(P.7-8)'!N61:N66)","v":0},{"$error":"#DIV/0!"},{"$f":"SUM('印刷-目標ごとの達成度(P.7-8)'!$Q61:Q66)","v":0},{"$f":"SUM('印刷-目標ごとの達成度(P.7-8)'!$Q61:R66)","v":0},{"$f":"SUM('印刷-目標ごとの達成度(P.7-8)'!$Q61:S66)","v":0},{"$f":"SUM('印刷-目標ごとの達成度(P.7-8)'!$Q61:T66)","v":0},{"$f":"SUM('印刷-目標ごとの達成度(P.7-8)'!$Q61:U66)","v":0},{"$f":"SUM('印刷-目標ごとの達成度(P.7-8)'!$Q61:V66)","v":0},{"$f":"SUM('印刷-目標ごとの達成度(P.7-8)'!$Q61:W66)","v":0},{"$f":"SUM('印刷-目標ごとの達成度(P.7-8)'!$Q61:X66)","v":0},{"$f":"SUM('印刷-目標ごとの達成度(P.7-8)'!$Q61:Y66)","v":0},{"$f":"SUM('印刷-目標ごとの達成度(P.7-8)'!$Q61:Z66)","v":0},{"$f":"SUM('印刷-目標ごとの達成度(P.7-8)'!$Q61:AA66)","v":0},{"$f":"SUM('印刷-目標ごとの達成度(P.7-8)'!$AB61:AB66)","v":0},{"$f":"SUM('印刷-目標ごとの達成度(P.7-8)'!AC61:AC66)","v":0},{"$f":"SUM('印刷-目標ごとの達成度(P.7-8)'!AD61:AD66)","v":0},{"$f":"SUM('印刷-目標ごとの達成度(P.7-8)'!AE61:AE66)","v":0},{"$f":"SUM('印刷-目標ごとの達成度(P.7-8)'!AF61:AF66)","v":0},{"$f":"SUM('印刷-目標ごとの達成度(P.7-8)'!AG61:AG66)","v":0},{"$f":"SUM('印刷-目標ごとの達成度(P.7-8)'!AH61:AH66)","v":0},{"$f":"SUM('印刷-目標ごとの達成度(P.7-8)'!AI61:AI66)","v":0},{"$f":"SUM('印刷-目標ごとの達成度(P.7-8)'!AJ61:AJ66)","v":0},{"$f":"SUM('印刷-目標ごとの達成度(P.7-8)'!AK61:AK66)","v":0},{"$f":"SUM('印刷-目標ごとの達成度(P.7-8)'!AL61:AL66)","v":0},{"$f":"IF(E8=0,0,SUM($P8:P8)/E8)","v":0},{"$f":"IF(F8=0,0,SUM($P8:Q8)/F8)","v":0},{"$f":"IF(G8=0,0,SUM($P8:R8)/G8)","v":0},{"$f":"IF(H8=0,0,SUM($P8:S8)/H8)","v":0},{"$f":"IF(I8=0,0,SUM($P8:T8)/I8)","v":0},{"$f":"IF(J8=0,0,SUM($P8:U8)/J8)","v":0},{"$f":"IF(K8=0,0,SUM($P8:V8)/K8)","v":0},{"$f":"IF(L8=0,0,SUM($P8:W8)/L8)","v":0},{"$f":"IF(M8=0,0,SUM($P8:X8)/M8)","v":0},{"$f":"IF(N8=0,0,SUM($P8:Y8)/N8)","v":0},{"$f":"IF(O8=0,0,SUM($P8:Z8)/O8)","v":0}]
["(G) コミュニケーション",{"$f":"SUM('印刷-目標ごとの達成度(P.7-8)'!O67:O71)","v":0},{"$f":"SUM('印刷-目標ごとの達成度(P.7-8)'!N67:N71)","v":0},{"$error":"#DIV/0!"},{"$f":"SUM('印刷-目標ごとの達成度(P.7-8)'!$Q67:Q71)","v":0},{"$f":"SUM('印刷-目標ごとの達成度(P.7-8)'!$Q67:R71)","v":0},{"$f":"SUM('印刷-目標ごとの達成度(P.7-8)'!$Q67:S71)","v":0},{"$f":"SUM('印刷-目標ごとの達成度(P.7-8)'!$Q67:T71)","v":0},{"$f":"SUM('印刷-目標ごとの達成度(P.7-8)'!$Q67:U71)","v":0},{"$f":"SUM('印刷-目標ごとの達成度(P.7-8)'!$Q67:V71)","v":0},{"$f":"SUM('印刷-目標ごとの達成度(P.7-8)'!$Q67:W71)","v":0},{"$f":"SUM('印刷-目標ごとの達成度(P.7-8)'!$Q67:X71)","v":0},{"$f":"SUM('印刷-目標ごとの達成度(P.7-8)'!$Q67:Y71)","v":0},{"$f":"SUM('印刷-目標ごとの達成度(P.7-8)'!$Q67:Z71)","v":0},{"$f":"SUM('印刷-目標ごとの達成度(P.7-8)'!$Q67:AA71)","v":0},{"$f":"SUM('印刷-目標ごとの達成度(P.7-8)'!$AB67:AB71)","v":0},{"$f":"SUM('印刷-目標ごとの達成度(P.7-8)'!AC67:AC71)","v":0},{"$f":"SUM('印刷-目標ごとの達成度(P.7-8)'!AD67:AD71)","v":0},{"$f":"SUM('印刷-目標ごとの達成度(P.7-8)'!AE67:AE71)","v":0},{"$f":"SUM('印刷-目標ごとの達成度(P.7-8)'!AF67:AF71)","v":0},{"$f":"SUM('印刷-目標ごとの達成度(P.7-8)'!AG67:AG71)","v":0},{"$f":"SUM('印刷-目標ごとの達成度(P.7-8)'!AH67:AH71)","v":0},{"$f":"SUM('印刷-目標ごとの達成度(P.7-8)'!AI67:AI71)","v":0},{"$f":"SUM('印刷-目標ごとの達成度(P.7-8)'!AJ67:AJ71)","v":0},{"$f":"SUM('印刷-目標ごとの達成度(P.7-8)'!AK67:AK71)","v":0},{"$f":"SUM('印刷-目標ごとの達成度(P.7-8)'!AL67:AL71)","v":0},{"$f":"IF(E9=0,0,SUM($P9:P9)/E9)","v":0},{"$f":"IF(F9=0,0,SUM($P9:Q9)/F9)","v":0},{"$f":"IF(G9=0,0,SUM($P9:R9)/G9)","v":0},{"$f":"IF(H9=0,0,SUM($P9:S9)/H9)","v":0},{"$f":"IF(I9=0,0,SUM($P9:T9)/I9)","v":0},{"$f":"IF(J9=0,0,SUM($P9:U9)/J9)","v":0},{"$f":"IF(K9=0,0,SUM($P9:V9)/K9)","v":0},{"$f":"IF(L9=0,0,SUM($P9:W9)/L9)","v":0},{"$f":"IF(M9=0,0,SUM($P9:X9)/M9)","v":0},{"$f":"IF(N9=0,0,SUM($P9:Y9)/N9)","v":0},{"$f":"IF(O9=0,0,SUM($P9:Z9)/O9)","v":0}]
["(H) 応用技術",{"$f":"SUM('印刷-目標ごとの達成度(P.7-8)'!O72:O86)","v":0},{"$f":"SUM('印刷-目標ごとの達成度(P.7-8)'!N72:N86)","v":0},{"$error":"#DIV/0!"},{"$f":"SUM('印刷-目標ごとの達成度(P.7-8)'!$Q72:Q86)","v":0},{"$f":"SUM('印刷-目標ごとの達成度(P.7-8)'!$Q72:R86)","v":0},{"$f":"SUM('印刷-目標ごとの達成度(P.7-8)'!$Q72:S86)","v":0},{"$f":"SUM('印刷-目標ごとの達成度(P.7-8)'!$Q72:T86)","v":0},{"$f":"SUM('印刷-目標ごとの達成度(P.7-8)'!$Q72:U86)","v":0},{"$f":"SUM('印刷-目標ごとの達成度(P.7-8)'!$Q72:V86)","v":0},{"$f":"SUM('印刷-目標ごとの達成度(P.7-8)'!$Q72:W86)","v":0},{"$f":"SUM('印刷-目標ごとの達成度(P.7-8)'!$Q72:X86)","v":0},{"$f":"SUM('印刷-目標ごとの達成度(P.7-8)'!$Q72:Y86)","v":0},{"$f":"SUM('印刷-目標ごとの達成度(P.7-8)'!$Q72:Z86)","v":0},{"$f":"SUM('印刷-目標ごとの達成度(P.7-8)'!$Q72:AA86)","v":0},{"$f":"SUM('印刷-目標ごとの達成度(P.7-8)'!$AB72:AB86)","v":0},{"$f":"SUM('印刷-目標ごとの達成度(P.7-8)'!AC72:AC86)","v":0},{"$f":"SUM('印刷-目標ごとの達成度(P.7-8)'!AD72:AD86)","v":0},{"$f":"SUM('印刷-目標ごとの達成度(P.7-8)'!AE72:AE86)","v":0},{"$f":"SUM('印刷-目標ごとの達成度(P.7-8)'!AF72:AF86)","v":0},{"$f":"SUM('印刷-目標ごとの達成度(P.7-8)'!AG72:AG86)","v":0},{"$f":"SUM('印刷-目標ごとの達成度(P.7-8)'!AH72:AH86)","v":0},{"$f":"SUM('印刷-目標ごとの達成度(P.7-8)'!AI72:AI86)","v":0},{"$f":"SUM('印刷-目標ごとの達成度(P.7-8)'!AJ72:AJ86)","v":0},{"$f":"SUM('印刷-目標ごとの達成度(P.7-8)'!AK72:AK86)","v":0},{"$f":"SUM('印刷-目標ごとの達成度(P.7-8)'!AL72:AL86)","v":0},{"$f":"IF(E10=0,0,SUM($P10:P10)/E10)","v":0},{"$f":"IF(F10=0,0,SUM($P10:Q10)/F10)","v":0},{"$f":"IF(G10=0,0,SUM($P10:R10)/G10)","v":0},{"$f":"IF(H10=0,0,SUM($P10:S10)/H10)","v":0},{"$f":"IF(I10=0,0,SUM($P10:T10)/I10)","v":0},{"$f":"IF(J10=0,0,SUM($P10:U10)/J10)","v":0},{"$f":"IF(K10=0,0,SUM($P10:V10)/K10)","v":0},{"$f":"IF(L10=0,0,SUM($P10:W10)/L10)","v":0},{"$f":"IF(M10=0,0,SUM($P10:X10)/M10)","v":0},{"$f":"IF(N10=0,0,SUM($P10:Y10)/N10)","v":0},{"$f":"IF(O10=0,0,SUM($P10:Z10)/O10)","v":0}]
["(I) デザイン能力",{"$f":"SUM('印刷-目標ごとの達成度(P.7-8)'!O87:O92)","v":0},{"$f":"SUM('印刷-目標ごとの達成度(P.7-8)'!N87:N92)","v":0},{"$error":"#DIV/0!"},{"$f":"SUM('印刷-目標ごとの達成度(P.7-8)'!$Q87:Q92)","v":0},{"$f":"SUM('印刷-目標ごとの達成度(P.7-8)'!$Q87:R92)","v":0},{"$f":"SUM('印刷-目標ごとの達成度(P.7-8)'!$Q87:S92)","v":0},{"$f":"SUM('印刷-目標ごとの達成度(P.7-8)'!$Q87:T92)","v":0},{"$f":"SUM('印刷-目標ごとの達成度(P.7-8)'!$Q87:U92)","v":0},{"$f":"SUM('印刷-目標ごとの達成度(P.7-8)'!$Q87:V92)","v":0},{"$f":"SUM('印刷-目標ごとの達成度(P.7-8)'!$Q87:W92)","v":0},{"$f":"SUM('印刷-目標ごとの達成度(P.7-8)'!$Q87:X92)","v":0},{"$f":"SUM('印刷-目標ごとの達成度(P.7-8)'!$Q87:Y92)","v":0},{"$f":"SUM('印刷-目標ごとの達成度(P.7-8)'!$Q87:Z92)","v":0},{"$f":"SUM('印刷-目標ごとの達成度(P.7-8)'!$Q87:AA92)","v":0},{"$f":"SUM('印刷-目標ごとの達成度(P.7-8)'!$AB87:AB92)","v":0},{"$f":"SUM('印刷-目標ごとの達成度(P.7-8)'!AC87:AC92)","v":0},{"$f":"SUM('印刷-目標ごとの達成度(P.7-8)'!AD87:AD92)","v":0},{"$f":"SUM('印刷-目標ごとの達成度(P.7-8)'!AE87:AE92)","v":0},{"$f":"SUM('印刷-目標ごとの達成度(P.7-8)'!AF87:AF92)","v":0},{"$f":"SUM('印刷-目標ごとの達成度(P.7-8)'!AG87:AG92)","v":0},{"$f":"SUM('印刷-目標ごとの達成度(P.7-8)'!AH87:AH92)","v":0},{"$f":"SUM('印刷-目標ごとの達成度(P.7-8)'!AI87:AI92)","v":0},{"$f":"SUM('印刷-目標ごとの達成度(P.7-8)'!AJ87:AJ92)","v":0},{"$f":"SUM('印刷-目標ごとの達成度(P.7-8)'!AK87:AK92)","v":0},{"$f":"SUM('印刷-目標ごとの達成度(P.7-8)'!AL87:AL92)","v":0},{"$f":"IF(E11=0,0,SUM($P11:P11)/E11)","v":0},{"$f":"IF(F11=0,0,SUM($P11:Q11)/F11)","v":0},{"$f":"IF(G11=0,0,SUM($P11:R11)/G11)","v":0},{"$f":"IF(H11=0,0,SUM($P11:S11)/H11)","v":0},{"$f":"IF(I11=0,0,SUM($P11:T11)/I11)","v":0},{"$f":"IF(J11=0,0,SUM($P11:U11)/J11)","v":0},{"$f":"IF(K11=0,0,SUM($P11:V11)/K11)","v":0},{"$f":"IF(L11=0,0,SUM($P11:W11)/L11)","v":0},{"$f":"IF(M11=0,0,SUM($P11:X11)/M11)","v":0},{"$f":"IF(N11=0,0,SUM($P11:Y11)/N11)","v":0},{"$f":"IF(O11=0,0,SUM($P11:Z11)/O11)","v":0}]
[]
["SUM(目標ごとの達成度!N3:N12)"]
["SUM(目標ごとの達成度!N13:N24)"]
["SUM(目標ごとの達成度!N25:N43)"]
["SUM(目標ごとの達成度!N44:N53)"]
["SUM(目標ごとの達成度!N54:N62)"]
["SUM(目標ごとの達成度!N63:N69)"]
["SUM(目標ごとの達成度!N70:N75)"]
["SUM(目標ごとの達成度!N76:N89)"]
["SUM(目標ごとの達成度!N90:N95)"]